From mboxrd@z Thu Jan 1 00:00:00 1970 Return-Path: Received: from mails.dpdk.org (mails.dpdk.org [217.70.189.124]) by inbox.dpdk.org (Postfix) with ESMTP id 55F224619E for ; Wed, 5 Feb 2025 15:54:33 +0100 (CET) Received: from mails.dpdk.org (localhost [127.0.0.1]) by mails.dpdk.org (Postfix) with ESMTP id 3A3F54029A; Wed, 5 Feb 2025 15:54:33 +0100 (CET) Received: from mail-qk1-f228.google.com (mail-qk1-f228.google.com [209.85.222.228]) by mails.dpdk.org (Postfix) with ESMTP id EF43D40270 for ; Wed, 5 Feb 2025 15:54:31 +0100 (CET) Received: by mail-qk1-f228.google.com with SMTP id af79cd13be357-7b8618be68bso651534385a.3 for ; Wed, 05 Feb 2025 06:54:31 -0800 (PST) DKIM-Signature: v=1; a=rsa-sha256; c=relaxed/relaxed; d=iol.unh.edu; s=unh-iol; t=1738767271; x=1739372071; darn=dpdk.org; h=references:in-reply-to:cc:to:from:subject:message-id:date:from:to :cc:subject:date:message-id:reply-to; bh=JMfZ+z85ZBXoKMbUvYrNvarVOptFjWqBg8cB+5LndBA=; b=Cv2DS+CpLMfgY/q6dRQ4UkwzctsNhLGJeB8qKWJZLUybvMR3smup9g/Lj4gzwZkWMt GXKDrwMaWFTq8FC0DhDIrgTAY67slDd9J6azCrTpUqVbv7Y/6KsRdrFeQVRJ7bmlER67 3WjBbZswRMTOPm8asfNvd6Ay8Q0zR/cYiU1fg= X-Google-DKIM-Signature: v=1; a=rsa-sha256; c=relaxed/relaxed; d=1e100.net; s=20230601; t=1738767271; x=1739372071; h=references:in-reply-to:cc:to:from:subject:message-id:date :x-gm-message-state:from:to:cc:subject:date:message-id:reply-to; bh=JMfZ+z85ZBXoKMbUvYrNvarVOptFjWqBg8cB+5LndBA=; b=uZ4zMFjtpdeHwPkmpn5bbLtnopCFs+lnECsqRwsAO9NH0vRxi122lmlKFONsKZcuFu Hk8MZwcvSFFaqytu/MEP/5eA4lCl78ziJ1Gl16eiXod6zJk7k7lT2LpxlcCO1ZibKQMQ JxWITa7QR19kOMJdSzZdK8d1l7q60i469hqtbs62tXU3bJbOTLuyFYVoXnQff8Bdrf4c rXJnvZi3cH4LPczh+XlKpjoXQAnTppaMThtU+hRB8dFBcxxSfBotaeemca/GQYB/2Kb1 bRFzI7tMvn3DtvzcLRYmceN/EnPyrCRkXErbpA2VEskC4ywxaZyk/Mk71zoFbXfvmzKL mGsg== X-Gm-Message-State: AOJu0Yw3S9j9kAZjZpraRsojh0FZSGHAGHh2RkWFHj2MmH9FpiQp57Kt upPAlqzBwFRuTs/Ab9Go1zyRRy3f7+qSyrjYE2atDbjTBNeZ/ifq6edIkO5/C03q9tH3gwb2JId GO3rOKFbgjqx54MEmai2rXjhfR4qfH1+IAAuK/Fx1 X-Gm-Gg: ASbGncuxLuIW2xrRhS/hGiL7ZuPq4pV0cOPfKNTP/LxTuk4HZNVs/SU3kTuzCYbYkgL XwiRBoJLcwhpREDo8f6dkULU+1674pEV/Oy5+itoft+z3w1FmddKfhHjsjRYqqIa4jv5xcmRxY/ ZO2krrhUF4UrgXt6mfam7zVC8nd4wZkw8sVrONS2J5QK4DFFQL1wsFhvDZY2/P6+anTC2IB9zbc k4x5t5t/nJYoqrDvU5JyB8nC7fBbYYbZNniK3M5zN1Tzk+mxyKslVkRq4RRmSom6cIyyNRGpYRg H3b5kwib/MYidJqmep/MmCGhx9wHcA== X-Google-Smtp-Source: AGHT+IHNjzdlB2FDPHhb60ypoh584im/sUAyux07Ghx1V+sw549tbA5y1Ac6RSypqH20NwZH8WoeitX/qcSu X-Received: by 2002:a05:620a:318c:b0:7b6:f024:3ca with SMTP id af79cd13be357-7c03a042fe8mr490641085a.58.1738767271251; Wed, 05 Feb 2025 06:54:31 -0800 (PST) Received: from postal.iol.unh.edu (postal.iol.unh.edu. [132.177.123.84]) by smtp-relay.gmail.com with ESMTPS id 6a1803df08f44-6e434c96e70sm735616d6.17.2025.02.05.06.54.31 (version=TLS1_2 cipher=ECDHE-ECDSA-AES128-GCM-SHA256 bits=128/128); Wed, 05 Feb 2025 06:54:31 -0800 (PST) X-Relaying-Domain: iol.unh.edu Date: Wed, 05 Feb 2025 06:54:31 -0800 (PST) Message-ID: <67a37ba7.d40a0220.254ddd.30efSMTPIN_ADDED_MISSING@mx.google.com> Received: from [172.17.0.4] (unknown [172.18.0.217]) by postal.iol.unh.edu (Postfix) with ESMTP id 010086052471; Wed, 5 Feb 2025 09:54:30 -0500 (EST) Subject: |SUCCESS| pw150893 [PATCH] net/af_packet: fix socket close on device From: dpdklab@iol.unh.edu To: Test Report Cc: dpdk-test-reports@iol.unh.edu In-Reply-To: <20250204164508.864080-1-tudor.cornea@gmail.com> References: <20250204164508.864080-1-tudor.cornea@gmail.com> Content-Type: text/plain X-BeenThere: test-report@dpdk.org X-Mailman-Version: 2.1.29 Precedence: list List-Id: automatic DPDK test reports List-Unsubscribe: , List-Archive: List-Post: List-Help: List-Subscribe: , Errors-To: test-report-bounces@dpdk.org Test-Label: iol-compile-amd64-testing Test-Status: SUCCESS http://dpdk.org/patch/150893 _Testing PASS_ Submitter: Tudor Cornea Date: Tuesday, February 04 2025 16:45:08 DPDK git baseline: Repo:dpdk Branch: master CommitID:595535be66b103f7ce3ba61939b8013032987404 150893 --> testing pass Upstream job id: Windows-Compile-DPDK-Native#26426 Test environment and result as below: +---------------------+-------------------+--------------------+------------------+-------------------+-------------------------+----------------------+ | Environment | dpdk_msvc_compile | dpdk_meson_compile | dpdk_compile_ovs | dpdk_compile_spdk | dpdk_llvm_clang_compile | dpdk_mingw64_compile | +=====================+===================+====================+==================+===================+=========================+======================+ | Windows Server 2022 | PASS | SKIPPED | SKIPPED | SKIPPED | PASS | PASS | +---------------------+-------------------+--------------------+------------------+-------------------+-------------------------+----------------------+ | FreeBSD 13.4 | SKIPPED | PASS | SKIPPED | SKIPPED | SKIPPED | SKIPPED | +---------------------+-------------------+--------------------+------------------+-------------------+-------------------------+----------------------+ | FreeBSD 14.2 | SKIPPED | PASS | SKIPPED | SKIPPED | SKIPPED | SKIPPED | +---------------------+-------------------+--------------------+------------------+-------------------+-------------------------+----------------------+ | CentOS Stream 9 | SKIPPED | PASS | PASS | PASS | SKIPPED | SKIPPED | +---------------------+-------------------+--------------------+------------------+-------------------+-------------------------+----------------------+ | Debian Bullseye | SKIPPED | PASS | PASS | PASS | SKIPPED | SKIPPED | +---------------------+-------------------+--------------------+------------------+-------------------+-------------------------+----------------------+ | Debian 12 | SKIPPED | PASS | PASS | PASS | SKIPPED | SKIPPED | +---------------------+-------------------+--------------------+------------------+-------------------+-------------------------+----------------------+ | Fedora 40 | SKIPPED | PASS | PASS | PASS | SKIPPED | SKIPPED | +---------------------+-------------------+--------------------+------------------+-------------------+-------------------------+----------------------+ | Fedora 41 (Clang) | SKIPPED | PASS | PASS | PASS | SKIPPED | SKIPPED | +---------------------+-------------------+--------------------+------------------+-------------------+-------------------------+----------------------+ | Fedora 41 | SKIPPED | PASS | PASS | PASS | SKIPPED | SKIPPED | +---------------------+-------------------+--------------------+------------------+-------------------+-------------------------+----------------------+ | openSUSE Leap 15 | SKIPPED | PASS | SKIPPED | SKIPPED | SKIPPED | SKIPPED | +---------------------+-------------------+--------------------+------------------+-------------------+-------------------------+----------------------+ | RHEL8 | SKIPPED | PASS | PASS | SKIPPED | SKIPPED | SKIPPED | +---------------------+-------------------+--------------------+------------------+-------------------+-------------------------+----------------------+ | RHEL9 | SKIPPED | PASS | PASS | SKIPPED | SKIPPED | SKIPPED | +---------------------+-------------------+--------------------+------------------+-------------------+-------------------------+----------------------+ | Ubuntu 20.04 | SKIPPED | PASS | SKIPPED | SKIPPED | SKIPPED | SKIPPED | +---------------------+-------------------+--------------------+------------------+-------------------+-------------------------+----------------------+ | Ubuntu 22.04 | SKIPPED | PASS | PASS | PASS | SKIPPED | SKIPPED | +---------------------+-------------------+--------------------+------------------+-------------------+-------------------------+----------------------+ | Ubuntu 24.04 | SKIPPED | PASS | PASS | PASS | SKIPPED | SKIPPED | +---------------------+-------------------+--------------------+------------------+-------------------+-------------------------+----------------------+ | Alpine | SKIPPED | PASS | PASS | SKIPPED | SKIPPED | SKIPPED | +---------------------+-------------------+--------------------+------------------+-------------------+-------------------------+----------------------+ | Fedora 40 (Clang) | SKIPPED | PASS | PASS | PASS | SKIPPED | SKIPPED | +---------------------+-------------------+--------------------+------------------+-------------------+-------------------------+----------------------+ Windows Server 2022 Kernel: 10.0.20348.2031 Compiler: clang 15.0.7, gcc 14.1.0 (MinGW), and MSVC VS 19.39.33521 FreeBSD 13.4 Kernel: 13.4-RELEASE-p1 Compiler: clang 18.1.6 FreeBSD 14.2 Kernel: 14.2-RELEASE Compiler: clang 18.1.6 CentOS Stream 9 Kernel: Depends on container host Compiler: gcc 11.5.0 20240719 (Red Hat 11.5.0-2) Debian Bullseye Kernel: Depends on container host Compiler: gcc (Debian 10.2.1-6) 10.2.1 20210110 Debian 12 Kernel: Depends on container host Compiler: gcc (Debian 12.2.0-14) 12.2.0 Fedora 40 Kernel: Depends on container host Compiler: gcc 14.2.1 20240912 (Red Hat 14.2.1-3) Fedora 41 (Clang) Kernel: Depends on container host Compiler: clang 19.1.5 (Fedora 19.1.5-1.fc41) Fedora 41 Kernel: Depends on container host Compiler: gcc 14.2.1 20240912 (Red Hat 14.2.1-3) openSUSE Leap 15 Kernel: Depends on container host Compiler: gcc (SUSE Linux) 7.5.0 RHEL8 Kernel: Depends on container host Compiler: gcc 8.5.0 20210514 (Red Hat 8.5.0-22) RHEL9 Kernel: Depends on container host Compiler: gcc 11.5.0 20240719 (Red Hat 11.5.0-2) Ubuntu 20.04 Kernel: Depends on container host Compiler: gcc (Ubuntu 9.4.0-1ubuntu1~20.04.2) 9.4.0 Ubuntu 22.04 Kernel: Depends on container host Compiler: gcc (Ubuntu 11.4.0-1ubuntu1~22.04) 11.4.0 Ubuntu 24.04 Kernel: Depends on container host Compiler: gcc (Ubuntu 13.3.0-6ubuntu2~24.04) 13.3.0 Alpine Kernel: Depends on container host Compiler: gcc (Alpine 14.2.0) 14.2.0 Fedora 40 (Clang) Kernel: Depends on container host Compiler: clang 18.1.8 (Fedora 18.1.8-1.fc40) To view detailed results, visit: https://lab.dpdk.org/results/dashboard/patchsets/32490/ UNH-IOL DPDK Community Lab To manage your email subscriptions, visit: https://lab.dpdk.org/results/dashboard/preferences/subscriptions/