From mboxrd@z Thu Jan 1 00:00:00 1970 Return-Path: Received: from mails.dpdk.org (mails.dpdk.org [217.70.189.124]) by inbox.dpdk.org (Postfix) with ESMTP id 6C7004619E for ; Wed, 5 Feb 2025 15:54:52 +0100 (CET) Received: from mails.dpdk.org (localhost [127.0.0.1]) by mails.dpdk.org (Postfix) with ESMTP id 69AD84029A; Wed, 5 Feb 2025 15:54:52 +0100 (CET) Received: from mail-io1-f99.google.com (mail-io1-f99.google.com [209.85.166.99]) by mails.dpdk.org (Postfix) with ESMTP id A8D7940270 for ; Wed, 5 Feb 2025 15:54:50 +0100 (CET) Received: by mail-io1-f99.google.com with SMTP id ca18e2360f4ac-844bff5ba1dso464954639f.1 for ; Wed, 05 Feb 2025 06:54:50 -0800 (PST) DKIM-Signature: v=1; a=rsa-sha256; c=relaxed/relaxed; d=iol.unh.edu; s=unh-iol; t=1738767290; x=1739372090; darn=dpdk.org; h=references:in-reply-to:cc:to:from:subject:message-id:date:from:to :cc:subject:date:message-id:reply-to; bh=M1nNksI2X7/VauH3A43opFkVC0qzK1xVGNrMcSWR5iU=; b=T4PnNF2MUMQ4sYinc4Y1qIckr2zRQ0l6RqKZV0ZAofskEmEKN+eIL22sZ2qXEpNVAl F+PODhsie1eJTpMyZ7hiblzHEzBe/pFvyozOMXZBdOMri2v6+iTXDGQ74tdJkThZg76u YLhmJR6T329077Tl5oSfElf6cJeRfan4/AcKg= X-Google-DKIM-Signature: v=1; a=rsa-sha256; c=relaxed/relaxed; d=1e100.net; s=20230601; t=1738767290; x=1739372090; h=references:in-reply-to:cc:to:from:subject:message-id:date :x-gm-message-state:from:to:cc:subject:date:message-id:reply-to; bh=M1nNksI2X7/VauH3A43opFkVC0qzK1xVGNrMcSWR5iU=; b=arLC9BRVbcPvxP79nfjXjMAZFx/JWDwk61NyCZfkfSAqTwxy9D7JjxngG1ng8kZaqW rvcnrj5gq1orBpTK+YConNWuEyvJwVLccSz7inCTjAv1VvJudNoZtl4h+lfs9koILBTX BIxHA0wroBdTZIte0b4ZkvOl3kNxy3fYjuNc6kf/AwBK2tiDtu23shh2retuB0NLV8eB +x8QKeKT/ttJGo289KWaBj/VaRvZE285I6ZAwYpjNXRUY5oJGeFj+xprKXQToZUtHl/C dqHfoC74vfq9z/J1Q9Ly5hGIagC+I0cmc8ks3xeYzurYqfcJ7SNrFf52mOj+I2IUM+UH r5VA== X-Gm-Message-State: AOJu0Ywe8ka25efc/ZVoevYJmxwrizqLWNUTpH8x5/rKKroO+OtjGR27 Yyraw/SibkMc8jppR6bMsTJzARucrgmIJfBTEr+Xfp2/+c2qsF/OivVnDaxtL8EquGmF2v9KbxO wGIdAzeCgCX1gbVt5jkm7dTsTUkkNZey0qQ9Ra1Nn X-Gm-Gg: ASbGnctflM3MUwFVE2we517Wliea3W4MZSH8YK4CIgx0r9r1wfUIZzsLbClcgL+CS+3 1PjVGGOOPTlTGZeHLTchaXML0puiR9r235L3GGYWCi95htpOFAaFPcoyZ9TVWJiPk0EXKOezBtL mTq/RX3DXBGvurfi2QARpnxQ0i/js2kLw+3lbZEi71qdMzqKjPy2sXwbuUEOM8Tc40NE8ySlro7 9UWOl1yU45GP5+x6T3JbKO9QQX0muhGDCfZNywc+gLQob25l6+yvQ6kwZz0L+QtBgCil/Uj8keH yWz14sizP+5qLibI0+eaRDMVVoEZ4Q== X-Google-Smtp-Source: AGHT+IGELV5n9PANxUrsijaze41OO4Ah+r+8ZPltvBTCxDncOXkYdkb8OQpLPdCcO6bqyWX7lZgXG27p21pv X-Received: by 2002:a05:6602:b94:b0:843:ec18:82e2 with SMTP id ca18e2360f4ac-854ea476a99mr358634039f.8.1738767290019; Wed, 05 Feb 2025 06:54:50 -0800 (PST) Received: from postal.iol.unh.edu (postal.iol.unh.edu. [132.177.123.84]) by smtp-relay.gmail.com with ESMTPS id ca18e2360f4ac-854a18401b5sm83687639f.28.2025.02.05.06.54.49 (version=TLS1_2 cipher=ECDHE-ECDSA-AES128-GCM-SHA256 bits=128/128); Wed, 05 Feb 2025 06:54:50 -0800 (PST) X-Relaying-Domain: iol.unh.edu Date: Wed, 05 Feb 2025 06:54:50 -0800 (PST) Message-ID: <67a37bba.050a0220.5b6cf.7b17SMTPIN_ADDED_MISSING@mx.google.com> Received: from [172.17.0.4] (unknown [172.18.0.217]) by postal.iol.unh.edu (Postfix) with ESMTP id 8AC5C6052471; Wed, 5 Feb 2025 09:54:49 -0500 (EST) Subject: |SUCCESS| pw150932-150965 [PATCH] [v2,34/34] net/ntnic: remove tag E From: dpdklab@iol.unh.edu To: Test Report Cc: dpdk-test-reports@iol.unh.edu In-Reply-To: <20250205104548.1533554-35-sil-plv@napatech.com> References: <20250205104548.1533554-35-sil-plv@napatech.com> Content-Type: text/plain X-BeenThere: test-report@dpdk.org X-Mailman-Version: 2.1.29 Precedence: list List-Id: automatic DPDK test reports List-Unsubscribe: , List-Archive: List-Post: List-Help: List-Subscribe: , Errors-To: test-report-bounces@dpdk.org Test-Label: iol-sample-apps-testing Test-Status: SUCCESS http://dpdk.org/patch/150965 _Testing PASS_ Submitter: Serhii Iliushyk Date: Wednesday, February 05 2025 10:45:43 DPDK git baseline: Repo:dpdk Branch: master CommitID:dc4ce7c2538b713e16887eb598da309bc7b4d528 150932-150965 --> testing pass Upstream job id: ACVP-FIPS-testing#8790 Test environment and result as below: +--------------------+----------------------+----------------------+ | Environment | compressdev_zlib_pmd | dpdk_fips_validation | +====================+======================+======================+ | Ubuntu 22.04 (ARM) | PASS | SKIPPED | +--------------------+----------------------+----------------------+ | Ubuntu 22.04 | PASS | SKIPPED | +--------------------+----------------------+----------------------+ | Ubuntu 20.04 | SKIPPED | PASS | +--------------------+----------------------+----------------------+ Ubuntu 22.04 (ARM) Kernel: 5.15.0-97-generic Compiler: gcc gcc (Ubuntu 11.4.0-1ubuntu1~22.04) 11.4.0 Ubuntu 22.04 Kernel: 5.15.0-100-generic Compiler: gcc gcc (Ubuntu 11.4.0-1ubuntu1~22.04) 11.4.0 Ubuntu 20.04 Kernel: Depends on container host Compiler: gcc (Ubuntu 9.4.0-1ubuntu1~20.04.2) 9.4.0 To view detailed results, visit: https://lab.dpdk.org/results/dashboard/patchsets/32496/ UNH-IOL DPDK Community Lab To manage your email subscriptions, visit: https://lab.dpdk.org/results/dashboard/preferences/subscriptions/