From mboxrd@z Thu Jan 1 00:00:00 1970 Return-Path: Received: from mails.dpdk.org (mails.dpdk.org [217.70.189.124]) by inbox.dpdk.org (Postfix) with ESMTP id EA63B4619E for ; Wed, 5 Feb 2025 15:58:36 +0100 (CET) Received: from mails.dpdk.org (localhost [127.0.0.1]) by mails.dpdk.org (Postfix) with ESMTP id BEC7E4029A; Wed, 5 Feb 2025 15:58:36 +0100 (CET) Received: from mail-pl1-f228.google.com (mail-pl1-f228.google.com [209.85.214.228]) by mails.dpdk.org (Postfix) with ESMTP id 782BC40270 for ; Wed, 5 Feb 2025 15:58:35 +0100 (CET) Received: by mail-pl1-f228.google.com with SMTP id d9443c01a7336-2164b662090so133642175ad.1 for ; Wed, 05 Feb 2025 06:58:35 -0800 (PST) DKIM-Signature: v=1; a=rsa-sha256; c=relaxed/relaxed; d=iol.unh.edu; s=unh-iol; t=1738767514; x=1739372314; darn=dpdk.org; h=references:in-reply-to:cc:to:from:subject:message-id:date:from:to :cc:subject:date:message-id:reply-to; bh=apmOaDowJsLg4sWbzavkXCRtyBTmbtLwlwTr9XyArZI=; b=Y6ESzym9ZedE/647bEy2xjs1fJrlmwyn3zmnMrYgFo+SHdtpCE/zVsq3d8RwmrOBB2 3YctGfb2LevRFmSaYua0N5J/HVk4ptwB+rLSKHEyhWb6b5a1NeGXtNao7p5rJBDVzeS0 w3rEZe0b+D8Xkrn8h1Bg6NrregP3ljh0UJId8= X-Google-DKIM-Signature: v=1; a=rsa-sha256; c=relaxed/relaxed; d=1e100.net; s=20230601; t=1738767514; x=1739372314; h=references:in-reply-to:cc:to:from:subject:message-id:date :x-gm-message-state:from:to:cc:subject:date:message-id:reply-to; bh=apmOaDowJsLg4sWbzavkXCRtyBTmbtLwlwTr9XyArZI=; b=fyFYlmKaxnIemNoUnWFZc2FRDIQOxUmMUBDeCwqQt8QGyYIbUeAXxEh/pmbcPzIdhH vPABHYX0ssS+I6sF82gZxzllVsUs6piB1w4lG72Faf3UwxPG8Ev3bIH4DArGao5VjJVg OyhcjCwYiMNHa2SAp24+mYoFRbI/J608Dffga/1wR9eGyG9Ubz8hVnTWlvRfDpM4Gdmp 2QBRO5GW/nFpWHGGLT38aL/GHyF+24Z0hBwXaffprnL9fJXwbLEFBbJpXZW9zIAEzZF6 NxdvOzGRKGM3XzGDt6vYD+tqt3DmSKtpAKes9igfV1aX19i+tE5E5pbpMVx3Q4fxI2bK PMQg== X-Gm-Message-State: AOJu0Ywk7xDFnhYeHQgL/x8RCquXuUca3Rxd8cR2Q34unbel7PXdLcy/ Z/TC92FR3yKkwMW1YL/mt72eZtsrrO2F8nuQ8m+4fOAyel4FEWZox2E6g1lEPteJaL+4jj9ju+r yiS3vNH2KwhWRabNXmYUgE8gLAA7tq2IAWFLyU9z8zWe2am3TuR0K9YBW X-Gm-Gg: ASbGncvEx/BJADPVpje8Q46krw4dR9K5VQWch33vzNeWDIh12s5/YzDouirYuAnY+xU iJ/lGh3g5/yPZLFe+IllkFD137Gdr6roN5E22qUET2/4k3tDu+fgYPvEfdnzXxIB/VdRydnw+2l 6EArPDxecF85Qxmhep7mHl4/adiUcxf2Y7NPNbJg4Ok5ctD5aNKbVd16nEYiaAPPJHyIon3/tQI dkGXmuMSD2WJhGSObAjBWITIQ5hqLXpA9hlB9t4IQcY1TgzYyp/WOLxqnvcks2vV1L64z/lCoJr ABFo0Q+tdnsE6TYGjfBrMPTlo/HPKXGuaPgQJGKl5A== X-Google-Smtp-Source: AGHT+IGsXB0C0CLA/N6ml2wjgKkNggSt2tPL3XVMFibBPpvoTxl5VeWxukjxE8uFT0PxrQzJCZt3g7ykmPtA X-Received: by 2002:a17:903:1a23:b0:215:a028:4ed with SMTP id d9443c01a7336-21f17e0251cmr55140435ad.20.1738767514347; Wed, 05 Feb 2025 06:58:34 -0800 (PST) Received: from postal.iol.unh.edu (postal.iol.unh.edu. [2606:4100:3880:1234::84]) by smtp-relay.gmail.com with ESMTPS id d9443c01a7336-21de33254c5sm6683435ad.81.2025.02.05.06.58.34 (version=TLS1_2 cipher=ECDHE-ECDSA-AES128-GCM-SHA256 bits=128/128); Wed, 05 Feb 2025 06:58:34 -0800 (PST) X-Relaying-Domain: iol.unh.edu Date: Wed, 05 Feb 2025 06:58:34 -0800 (PST) Message-ID: <67a37c9a.170a0220.2551dc.e241SMTPIN_ADDED_MISSING@mx.google.com> Received: from [172.17.0.4] (unknown [172.18.0.217]) by postal.iol.unh.edu (Postfix) with ESMTP id 7B31E6052471; Wed, 5 Feb 2025 09:58:33 -0500 (EST) Subject: |SUCCESS| pw150893 [PATCH] net/af_packet: fix socket close on device From: dpdklab@iol.unh.edu To: Test Report Cc: dpdk-test-reports@iol.unh.edu In-Reply-To: <20250204164508.864080-1-tudor.cornea@gmail.com> References: <20250204164508.864080-1-tudor.cornea@gmail.com> Content-Type: text/plain X-BeenThere: test-report@dpdk.org X-Mailman-Version: 2.1.29 Precedence: list List-Id: automatic DPDK test reports List-Unsubscribe: , List-Archive: List-Post: List-Help: List-Subscribe: , Errors-To: test-report-bounces@dpdk.org Test-Label: iol-compile-amd64-testing Test-Status: SUCCESS http://dpdk.org/patch/150893 _Testing PASS_ Submitter: Tudor Cornea Date: Tuesday, February 04 2025 16:45:08 DPDK git baseline: Repo:dpdk Branch: master CommitID:595535be66b103f7ce3ba61939b8013032987404 150893 --> testing pass Upstream job id: Windows-Compile-DPDK-Native#26427 Test environment and result as below: +---------------------+-------------------+--------------------+------------------+-------------------+-------------------------+ | Environment | dpdk_msvc_compile | dpdk_meson_compile | dpdk_compile_ovs | dpdk_compile_spdk | dpdk_llvm_clang_compile | +=====================+===================+====================+==================+===================+=========================+ | Windows Server 2022 | PASS | SKIPPED | SKIPPED | SKIPPED | PASS | +---------------------+-------------------+--------------------+------------------+-------------------+-------------------------+ | FreeBSD 13.4 | SKIPPED | PASS | SKIPPED | SKIPPED | SKIPPED | +---------------------+-------------------+--------------------+------------------+-------------------+-------------------------+ | FreeBSD 14.2 | SKIPPED | PASS | SKIPPED | SKIPPED | SKIPPED | +---------------------+-------------------+--------------------+------------------+-------------------+-------------------------+ | CentOS Stream 9 | SKIPPED | PASS | PASS | PASS | SKIPPED | +---------------------+-------------------+--------------------+------------------+-------------------+-------------------------+ | Debian Bullseye | SKIPPED | PASS | PASS | PASS | SKIPPED | +---------------------+-------------------+--------------------+------------------+-------------------+-------------------------+ | Debian 12 | SKIPPED | PASS | PASS | PASS | SKIPPED | +---------------------+-------------------+--------------------+------------------+-------------------+-------------------------+ | Fedora 40 (Clang) | SKIPPED | PASS | PASS | PASS | SKIPPED | +---------------------+-------------------+--------------------+------------------+-------------------+-------------------------+ | Fedora 40 | SKIPPED | PASS | PASS | PASS | SKIPPED | +---------------------+-------------------+--------------------+------------------+-------------------+-------------------------+ | Fedora 41 (Clang) | SKIPPED | PASS | PASS | PASS | SKIPPED | +---------------------+-------------------+--------------------+------------------+-------------------+-------------------------+ | Fedora 41 | SKIPPED | PASS | PASS | PASS | SKIPPED | +---------------------+-------------------+--------------------+------------------+-------------------+-------------------------+ | openSUSE Leap 15 | SKIPPED | PASS | SKIPPED | SKIPPED | SKIPPED | +---------------------+-------------------+--------------------+------------------+-------------------+-------------------------+ | RHEL8 | SKIPPED | PASS | PASS | SKIPPED | SKIPPED | +---------------------+-------------------+--------------------+------------------+-------------------+-------------------------+ | RHEL9 | SKIPPED | PASS | PASS | SKIPPED | SKIPPED | +---------------------+-------------------+--------------------+------------------+-------------------+-------------------------+ | Ubuntu 20.04 | SKIPPED | PASS | SKIPPED | SKIPPED | SKIPPED | +---------------------+-------------------+--------------------+------------------+-------------------+-------------------------+ | Ubuntu 22.04 | SKIPPED | PASS | PASS | PASS | SKIPPED | +---------------------+-------------------+--------------------+------------------+-------------------+-------------------------+ | Ubuntu 24.04 | SKIPPED | PASS | PASS | PASS | SKIPPED | +---------------------+-------------------+--------------------+------------------+-------------------+-------------------------+ | Alpine | SKIPPED | PASS | PASS | SKIPPED | SKIPPED | +---------------------+-------------------+--------------------+------------------+-------------------+-------------------------+ Windows Server 2022 Kernel: 10.0.20348.2031 Compiler: clang 15.0.7, gcc 14.1.0 (MinGW), and MSVC VS 19.39.33521 FreeBSD 13.4 Kernel: 13.4-RELEASE-p1 Compiler: clang 18.1.6 FreeBSD 14.2 Kernel: 14.2-RELEASE Compiler: clang 18.1.6 CentOS Stream 9 Kernel: Depends on container host Compiler: gcc 11.5.0 20240719 (Red Hat 11.5.0-2) Debian Bullseye Kernel: Depends on container host Compiler: gcc (Debian 10.2.1-6) 10.2.1 20210110 Debian 12 Kernel: Depends on container host Compiler: gcc (Debian 12.2.0-14) 12.2.0 Fedora 40 (Clang) Kernel: Depends on container host Compiler: clang 18.1.8 (Fedora 18.1.8-1.fc40) Fedora 40 Kernel: Depends on container host Compiler: gcc 14.2.1 20240912 (Red Hat 14.2.1-3) Fedora 41 (Clang) Kernel: Depends on container host Compiler: clang 19.1.5 (Fedora 19.1.5-1.fc41) Fedora 41 Kernel: Depends on container host Compiler: gcc 14.2.1 20240912 (Red Hat 14.2.1-3) openSUSE Leap 15 Kernel: Depends on container host Compiler: gcc (SUSE Linux) 7.5.0 RHEL8 Kernel: Depends on container host Compiler: gcc 8.5.0 20210514 (Red Hat 8.5.0-22) RHEL9 Kernel: Depends on container host Compiler: gcc 11.5.0 20240719 (Red Hat 11.5.0-2) Ubuntu 20.04 Kernel: Depends on container host Compiler: gcc (Ubuntu 9.4.0-1ubuntu1~20.04.2) 9.4.0 Ubuntu 22.04 Kernel: Depends on container host Compiler: gcc (Ubuntu 11.4.0-1ubuntu1~22.04) 11.4.0 Ubuntu 24.04 Kernel: Depends on container host Compiler: gcc (Ubuntu 13.3.0-6ubuntu2~24.04) 13.3.0 Alpine Kernel: Depends on container host Compiler: gcc (Alpine 14.2.0) 14.2.0 To view detailed results, visit: https://lab.dpdk.org/results/dashboard/patchsets/32490/ UNH-IOL DPDK Community Lab To manage your email subscriptions, visit: https://lab.dpdk.org/results/dashboard/preferences/subscriptions/