From mboxrd@z Thu Jan 1 00:00:00 1970 Return-Path: Received: from mails.dpdk.org (mails.dpdk.org [217.70.189.124]) by inbox.dpdk.org (Postfix) with ESMTP id 287CE4619F for ; Wed, 5 Feb 2025 16:00:52 +0100 (CET) Received: from mails.dpdk.org (localhost [127.0.0.1]) by mails.dpdk.org (Postfix) with ESMTP id 23B7B4029A; Wed, 5 Feb 2025 16:00:52 +0100 (CET) Received: from mail-qt1-f227.google.com (mail-qt1-f227.google.com [209.85.160.227]) by mails.dpdk.org (Postfix) with ESMTP id 8BC1240270 for ; Wed, 5 Feb 2025 16:00:50 +0100 (CET) Received: by mail-qt1-f227.google.com with SMTP id d75a77b69052e-46fcbb96ba9so74590451cf.0 for ; Wed, 05 Feb 2025 07:00:50 -0800 (PST) DKIM-Signature: v=1; a=rsa-sha256; c=relaxed/relaxed; d=iol.unh.edu; s=unh-iol; t=1738767650; x=1739372450; darn=dpdk.org; h=references:in-reply-to:cc:to:from:subject:message-id:date:from:to :cc:subject:date:message-id:reply-to; bh=eUFa6D4JUTKbKgBPX7J8YHyt2qdD4+W70gxgmoKeHcc=; b=LA2sUl5avRRsXSPSiJIp3RkYLnOkocg5g1wkX2LLdUIuCCgdntQvMK4GnMGQB5db00 IFVgc1dmV32ocakXzoxkXni4k274cRrYiISU0i5vlzMr7lg1dlzcGXxVDe8Pc+9IzBVz NwLfgE4UE5orGaPGGZgvQQIS6OeeFZZTeUPH0= X-Google-DKIM-Signature: v=1; a=rsa-sha256; c=relaxed/relaxed; d=1e100.net; s=20230601; t=1738767650; x=1739372450; h=references:in-reply-to:cc:to:from:subject:message-id:date :x-gm-message-state:from:to:cc:subject:date:message-id:reply-to; bh=eUFa6D4JUTKbKgBPX7J8YHyt2qdD4+W70gxgmoKeHcc=; b=qDLKrMq4ZJaUhHhI5BvBczZzelurBx3kam66ybKyqxrCdyMjpx2kWfZ746aRd//ujP xiEMYWAw0zsxrW+1noch7JnAZ9uty8PAsafzX8yfHSjqtgoZADLMA7pUDiow3EADEqZ/ 82Kuw4VdiIWyWhrgJZSW3gfMUs1fw0IPMIxSEAvZ46Ry2673OgXDM9N6jgihMl+owOuV BoLt1QQRx5h6w1dEYjkt+RZJR8bv+aa1MwOpyFRig4lRFGxbzd347tvEIB1PBjsdH4kQ e+RJQD4QG5Gaj+cG7OAPf7i8slZ3dzpHIHaE3EUXE+sdHoscndcDg4KP5wUJ7M1X5MEN CjqA== X-Gm-Message-State: AOJu0YzBrSnCZuhYqjvB5BuzyuDPQeI3+fvaJpvVtk0UcAZGstGf60GE ZwhcEvKoOJ94Kpze+7Z010+RRhROmOrbYCpQqu19BzbfIjat7tNN3xvCsdjoJb+xnom7hXXOUYg TCyijUGJ0JWUsuK+/8P4kwC9o0eKtU81dzZOlCA++ X-Gm-Gg: ASbGncuNRawJql+rXbrIw6kOT+wdrcnOO3y8F8K17hklpivZN8eFlj3elP2b9b0fUfF ngemxrty39aAGgSeGqiCG7qS+WW8gZse4FxQDYtYwHFrIIiIsS0zdTsL54RjlcUbBfiQeYC5/NL 2RjM6DDjBBZAwW2PE32BL4SwfsenqFGuf6xXeQOHh2dzHtZLlW1itTY9G9yiIqQqg3USMOWb7/R Awk6SZhSub2ExfOrKO91N1YZ2nHaUDX6PU1zHlPvMjPiT+ZqdZr/c1JFtiviOzQKt4NXzEMvyVd sIaD9jCwRj2X15wdoavAM/BcKCDc0g== X-Google-Smtp-Source: AGHT+IH61QDVpBZIk4/R2Eq0Eci5KX/5ZW+xBmjr6HCy2KFJFcanLxqauISZTtHp4jkdLq4pg8EePXdloq3h X-Received: by 2002:a05:6214:2608:b0:6e2:4ad7:24c9 with SMTP id 6a1803df08f44-6e42fb99f18mr56808786d6.2.1738767649590; Wed, 05 Feb 2025 07:00:49 -0800 (PST) Received: from postal.iol.unh.edu (postal.iol.unh.edu. [132.177.123.84]) by smtp-relay.gmail.com with ESMTPS id 6a1803df08f44-6e25493459bsm10276136d6.44.2025.02.05.07.00.49 (version=TLS1_2 cipher=ECDHE-ECDSA-AES128-GCM-SHA256 bits=128/128); Wed, 05 Feb 2025 07:00:49 -0800 (PST) X-Relaying-Domain: iol.unh.edu Date: Wed, 05 Feb 2025 07:00:49 -0800 (PST) Message-ID: <67a37d21.050a0220.318160.0e9bSMTPIN_ADDED_MISSING@mx.google.com> Received: from [172.17.0.4] (unknown [172.18.0.217]) by postal.iol.unh.edu (Postfix) with ESMTP id 4E8CF6052471; Wed, 5 Feb 2025 10:00:49 -0500 (EST) Subject: |SUCCESS| pw150893 [PATCH] net/af_packet: fix socket close on device From: dpdklab@iol.unh.edu To: Test Report Cc: dpdk-test-reports@iol.unh.edu In-Reply-To: <20250204164508.864080-1-tudor.cornea@gmail.com> References: <20250204164508.864080-1-tudor.cornea@gmail.com> Content-Type: text/plain X-BeenThere: test-report@dpdk.org X-Mailman-Version: 2.1.29 Precedence: list List-Id: automatic DPDK test reports List-Unsubscribe: , List-Archive: List-Post: List-Help: List-Subscribe: , Errors-To: test-report-bounces@dpdk.org Test-Label: iol-compile-amd64-testing Test-Status: SUCCESS http://dpdk.org/patch/150893 _Testing PASS_ Submitter: Tudor Cornea Date: Tuesday, February 04 2025 16:45:08 DPDK git baseline: Repo:dpdk Branch: master CommitID:595535be66b103f7ce3ba61939b8013032987404 150893 --> testing pass Upstream job id: Windows-Compile-DPDK-Native#26428 Test environment and result as below: +---------------------+-------------------+--------------------+------------------+-------------------+-------------------------+----------------------+ | Environment | dpdk_msvc_compile | dpdk_meson_compile | dpdk_compile_ovs | dpdk_compile_spdk | dpdk_llvm_clang_compile | dpdk_mingw64_compile | +=====================+===================+====================+==================+===================+=========================+======================+ | Windows Server 2022 | PASS | SKIPPED | SKIPPED | SKIPPED | PASS | PASS | +---------------------+-------------------+--------------------+------------------+-------------------+-------------------------+----------------------+ | FreeBSD 13.4 | SKIPPED | PASS | SKIPPED | SKIPPED | SKIPPED | SKIPPED | +---------------------+-------------------+--------------------+------------------+-------------------+-------------------------+----------------------+ | FreeBSD 14.2 | SKIPPED | PASS | SKIPPED | SKIPPED | SKIPPED | SKIPPED | +---------------------+-------------------+--------------------+------------------+-------------------+-------------------------+----------------------+ | CentOS Stream 9 | SKIPPED | PASS | PASS | PASS | SKIPPED | SKIPPED | +---------------------+-------------------+--------------------+------------------+-------------------+-------------------------+----------------------+ | Debian Bullseye | SKIPPED | PASS | PASS | PASS | SKIPPED | SKIPPED | +---------------------+-------------------+--------------------+------------------+-------------------+-------------------------+----------------------+ | Debian 12 | SKIPPED | PASS | PASS | PASS | SKIPPED | SKIPPED | +---------------------+-------------------+--------------------+------------------+-------------------+-------------------------+----------------------+ | Fedora 40 (Clang) | SKIPPED | PASS | PASS | PASS | SKIPPED | SKIPPED | +---------------------+-------------------+--------------------+------------------+-------------------+-------------------------+----------------------+ | Fedora 40 | SKIPPED | PASS | PASS | PASS | SKIPPED | SKIPPED | +---------------------+-------------------+--------------------+------------------+-------------------+-------------------------+----------------------+ | Fedora 41 (Clang) | SKIPPED | PASS | PASS | PASS | SKIPPED | SKIPPED | +---------------------+-------------------+--------------------+------------------+-------------------+-------------------------+----------------------+ | Fedora 41 | SKIPPED | PASS | PASS | PASS | SKIPPED | SKIPPED | +---------------------+-------------------+--------------------+------------------+-------------------+-------------------------+----------------------+ | openSUSE Leap 15 | SKIPPED | PASS | SKIPPED | SKIPPED | SKIPPED | SKIPPED | +---------------------+-------------------+--------------------+------------------+-------------------+-------------------------+----------------------+ | RHEL8 | SKIPPED | PASS | PASS | SKIPPED | SKIPPED | SKIPPED | +---------------------+-------------------+--------------------+------------------+-------------------+-------------------------+----------------------+ | RHEL9 | SKIPPED | PASS | PASS | SKIPPED | SKIPPED | SKIPPED | +---------------------+-------------------+--------------------+------------------+-------------------+-------------------------+----------------------+ | Ubuntu 20.04 | SKIPPED | PASS | SKIPPED | SKIPPED | SKIPPED | SKIPPED | +---------------------+-------------------+--------------------+------------------+-------------------+-------------------------+----------------------+ | Ubuntu 22.04 | SKIPPED | PASS | PASS | PASS | SKIPPED | SKIPPED | +---------------------+-------------------+--------------------+------------------+-------------------+-------------------------+----------------------+ | Ubuntu 24.04 | SKIPPED | PASS | PASS | PASS | SKIPPED | SKIPPED | +---------------------+-------------------+--------------------+------------------+-------------------+-------------------------+----------------------+ | Alpine | SKIPPED | PASS | PASS | SKIPPED | SKIPPED | SKIPPED | +---------------------+-------------------+--------------------+------------------+-------------------+-------------------------+----------------------+ Windows Server 2022 Kernel: 10.0.20348.2031 Compiler: clang 15.0.7, gcc 14.1.0 (MinGW), and MSVC VS 19.39.33521 FreeBSD 13.4 Kernel: 13.4-RELEASE-p1 Compiler: clang 18.1.6 FreeBSD 14.2 Kernel: 14.2-RELEASE Compiler: clang 18.1.6 CentOS Stream 9 Kernel: Depends on container host Compiler: gcc 11.5.0 20240719 (Red Hat 11.5.0-2) Debian Bullseye Kernel: Depends on container host Compiler: gcc (Debian 10.2.1-6) 10.2.1 20210110 Debian 12 Kernel: Depends on container host Compiler: gcc (Debian 12.2.0-14) 12.2.0 Fedora 40 (Clang) Kernel: Depends on container host Compiler: clang 18.1.8 (Fedora 18.1.8-1.fc40) Fedora 40 Kernel: Depends on container host Compiler: gcc 14.2.1 20240912 (Red Hat 14.2.1-3) Fedora 41 (Clang) Kernel: Depends on container host Compiler: clang 19.1.5 (Fedora 19.1.5-1.fc41) Fedora 41 Kernel: Depends on container host Compiler: gcc 14.2.1 20240912 (Red Hat 14.2.1-3) openSUSE Leap 15 Kernel: Depends on container host Compiler: gcc (SUSE Linux) 7.5.0 RHEL8 Kernel: Depends on container host Compiler: gcc 8.5.0 20210514 (Red Hat 8.5.0-22) RHEL9 Kernel: Depends on container host Compiler: gcc 11.5.0 20240719 (Red Hat 11.5.0-2) Ubuntu 20.04 Kernel: Depends on container host Compiler: gcc (Ubuntu 9.4.0-1ubuntu1~20.04.2) 9.4.0 Ubuntu 22.04 Kernel: Depends on container host Compiler: gcc (Ubuntu 11.4.0-1ubuntu1~22.04) 11.4.0 Ubuntu 24.04 Kernel: Depends on container host Compiler: gcc (Ubuntu 13.3.0-6ubuntu2~24.04) 13.3.0 Alpine Kernel: Depends on container host Compiler: gcc (Alpine 14.2.0) 14.2.0 To view detailed results, visit: https://lab.dpdk.org/results/dashboard/patchsets/32490/ UNH-IOL DPDK Community Lab To manage your email subscriptions, visit: https://lab.dpdk.org/results/dashboard/preferences/subscriptions/