From mboxrd@z Thu Jan 1 00:00:00 1970 Return-Path: Received: from mails.dpdk.org (mails.dpdk.org [217.70.189.124]) by inbox.dpdk.org (Postfix) with ESMTP id 7A74F4619F for ; Wed, 5 Feb 2025 16:12:02 +0100 (CET) Received: from mails.dpdk.org (localhost [127.0.0.1]) by mails.dpdk.org (Postfix) with ESMTP id 3E8474029A; Wed, 5 Feb 2025 16:12:02 +0100 (CET) Received: from mail-il1-f225.google.com (mail-il1-f225.google.com [209.85.166.225]) by mails.dpdk.org (Postfix) with ESMTP id 4E19B40270 for ; Wed, 5 Feb 2025 16:12:00 +0100 (CET) Received: by mail-il1-f225.google.com with SMTP id e9e14a558f8ab-3d04fc1ea14so8971725ab.2 for ; Wed, 05 Feb 2025 07:12:00 -0800 (PST) DKIM-Signature: v=1; a=rsa-sha256; c=relaxed/relaxed; d=iol.unh.edu; s=unh-iol; t=1738768319; x=1739373119; darn=dpdk.org; h=references:in-reply-to:cc:to:from:subject:message-id:date:from:to :cc:subject:date:message-id:reply-to; bh=voEm8DExucKVl5vHXB8+QG1d/G6JTGArt5uVh1L8AmI=; b=Y1fucVpbt7WRVsLNWN3TZWa/99EX0H9VZI0771kJZyeUdGhV5bu3cKrTKCoFvvwhzi C6VVf5uOVVZYE5kydd5zvGyXNN2Bga0B7osd+5nGJS80GtrmmXDwoxAFxAlMzblX38xN vebrG+x5Ees8FsL/5+UiG9h2kJdddY4BrQdgE= X-Google-DKIM-Signature: v=1; a=rsa-sha256; c=relaxed/relaxed; d=1e100.net; s=20230601; t=1738768319; x=1739373119; h=references:in-reply-to:cc:to:from:subject:message-id:date :x-gm-message-state:from:to:cc:subject:date:message-id:reply-to; bh=voEm8DExucKVl5vHXB8+QG1d/G6JTGArt5uVh1L8AmI=; b=ZcDwA2ZgIWPsqRG9ohQQEkplG9RC/nyecIAr/kmuMADM+KJiM5zit7SPxlbuGd1jRh Dn4kCoq1s8OxVGyojchozvpYxs0vd8ezf7cyuvutx1Agvc5MKve8LonxnjweHGNLjuuB JZs0zRjDlvExHCQXPCpsBVPZDrh+bpT45iyWA9yubhTif9SfHlQSd6siebSNTq4nW3zw AqsuhTftL9oB2CIxoNK93T6z64gPIfU7wEZ9hMrDMkrWxNFvpS/ZvpUfijlj0YQEfrRQ aQOShJ1XAPqcH8AtD+P/gaOkgrHqLWJMgW53MTQnI2q99XP1RGEONrpnFJHUWxtNBAF3 yLXA== X-Gm-Message-State: AOJu0YyNOIxz2+sXNPyD8AovEhZAw2c0gnPja/H8apQffhK+ld6Oo1Zr Mk7pIFOXFBhc7iS/D91Fu1sGsMllPQoM4ErTh4Kwj2QeJ4BhhqAewlo8New9JkgmwDAiG6U52ML Izf2d8lppSTZsTRkSMlSaz68kRqVZT4QkIaTWaEtBXzSWnD0FMC/ro8xE X-Gm-Gg: ASbGncv5yEv3DxSUGOfwdAdOnqekckbE0ahqFHpuvTo95Ye0HKVB+kEUZgMo3Ndsout JRYxjWbmrXuPD1jmY5qJw/UbaEw1tj1/ZrSECR4NRZfs4mcko9Wy4TC7rE8YG+jK1RDmTbCl9td kY/66zHCDvEvYzSYHKg09gJa3IUpoN7UKOCD+EQRjNg1bGLsRJtuzhcv5/AGl91zDNZga3TZiWD PjZ/sFPXZ0KBx7E76a88Ma1dCyjz0Aj6TVcYPWRIECB7XROrWQPJcLD/Xr1JK+oRV0IAYNp3bfW /GddJXxA/QnTmud+k0dlRPSf/TLAQYDBdW3dK1hEHA== X-Google-Smtp-Source: AGHT+IGxevS6J0W7Uz1HT45eb2sYT18X803Q5Fw46RPvCklATRYA+Mh4DZf0JZwYkSRGOBzVoRlQMRSha84b X-Received: by 2002:a05:6e02:2188:b0:3ce:8ed9:ca94 with SMTP id e9e14a558f8ab-3d04f8f6de6mr25287405ab.14.1738768319575; Wed, 05 Feb 2025 07:11:59 -0800 (PST) Received: from postal.iol.unh.edu (postal.iol.unh.edu. [2606:4100:3880:1234::84]) by smtp-relay.gmail.com with ESMTPS id 8926c6da1cb9f-4ec746bfcf8sm834228173.61.2025.02.05.07.11.59 (version=TLS1_2 cipher=ECDHE-ECDSA-AES128-GCM-SHA256 bits=128/128); Wed, 05 Feb 2025 07:11:59 -0800 (PST) X-Relaying-Domain: iol.unh.edu Date: Wed, 05 Feb 2025 07:11:59 -0800 (PST) Message-ID: <67a37fbf.050a0220.b3ff6.8c7eSMTPIN_ADDED_MISSING@mx.google.com> Received: from [172.17.0.4] (unknown [172.18.0.217]) by postal.iol.unh.edu (Postfix) with ESMTP id 1568C6052471; Wed, 5 Feb 2025 10:11:59 -0500 (EST) Subject: |SUCCESS| pw150902 [PATCH] [v2] eal: force compilation of RTE_ASSERT From: dpdklab@iol.unh.edu To: Test Report Cc: dpdk-test-reports@iol.unh.edu In-Reply-To: <20250204194759.723484-1-stephen@networkplumber.org> References: <20250204194759.723484-1-stephen@networkplumber.org> Content-Type: text/plain X-BeenThere: test-report@dpdk.org X-Mailman-Version: 2.1.29 Precedence: list List-Id: automatic DPDK test reports List-Unsubscribe: , List-Archive: List-Post: List-Help: List-Subscribe: , Errors-To: test-report-bounces@dpdk.org Test-Label: iol-compile-amd64-testing Test-Status: SUCCESS http://dpdk.org/patch/150902 _Testing PASS_ Submitter: Stephen Hemminger Date: Tuesday, February 04 2025 19:46:09 DPDK git baseline: Repo:dpdk Branch: master CommitID:dc4ce7c2538b713e16887eb598da309bc7b4d528 150902 --> testing pass Upstream job id: Windows-Compile-DPDK-Native#26431 Test environment and result as below: +---------------------+-------------------+--------------------+------------------+-------------------+-------------------------+ | Environment | dpdk_msvc_compile | dpdk_meson_compile | dpdk_compile_ovs | dpdk_compile_spdk | dpdk_llvm_clang_compile | +=====================+===================+====================+==================+===================+=========================+ | Windows Server 2022 | PASS | SKIPPED | SKIPPED | SKIPPED | PASS | +---------------------+-------------------+--------------------+------------------+-------------------+-------------------------+ | FreeBSD 13.4 | SKIPPED | PASS | SKIPPED | SKIPPED | SKIPPED | +---------------------+-------------------+--------------------+------------------+-------------------+-------------------------+ | FreeBSD 14.2 | SKIPPED | PASS | SKIPPED | SKIPPED | SKIPPED | +---------------------+-------------------+--------------------+------------------+-------------------+-------------------------+ | CentOS Stream 9 | SKIPPED | PASS | PASS | PASS | SKIPPED | +---------------------+-------------------+--------------------+------------------+-------------------+-------------------------+ | Debian Bullseye | SKIPPED | PASS | PASS | PASS | SKIPPED | +---------------------+-------------------+--------------------+------------------+-------------------+-------------------------+ | Debian 12 | SKIPPED | PASS | PASS | PASS | SKIPPED | +---------------------+-------------------+--------------------+------------------+-------------------+-------------------------+ | Fedora 40 (Clang) | SKIPPED | PASS | PASS | PASS | SKIPPED | +---------------------+-------------------+--------------------+------------------+-------------------+-------------------------+ | Fedora 40 | SKIPPED | PASS | PASS | PASS | SKIPPED | +---------------------+-------------------+--------------------+------------------+-------------------+-------------------------+ | Fedora 41 (Clang) | SKIPPED | PASS | PASS | PASS | SKIPPED | +---------------------+-------------------+--------------------+------------------+-------------------+-------------------------+ | Fedora 41 | SKIPPED | PASS | PASS | PASS | SKIPPED | +---------------------+-------------------+--------------------+------------------+-------------------+-------------------------+ | openSUSE Leap 15 | SKIPPED | PASS | SKIPPED | SKIPPED | SKIPPED | +---------------------+-------------------+--------------------+------------------+-------------------+-------------------------+ | RHEL8 | SKIPPED | PASS | PASS | SKIPPED | SKIPPED | +---------------------+-------------------+--------------------+------------------+-------------------+-------------------------+ | RHEL9 | SKIPPED | PASS | PASS | SKIPPED | SKIPPED | +---------------------+-------------------+--------------------+------------------+-------------------+-------------------------+ | Ubuntu 20.04 | SKIPPED | PASS | SKIPPED | SKIPPED | SKIPPED | +---------------------+-------------------+--------------------+------------------+-------------------+-------------------------+ | Ubuntu 22.04 | SKIPPED | PASS | PASS | PASS | SKIPPED | +---------------------+-------------------+--------------------+------------------+-------------------+-------------------------+ | Ubuntu 24.04 | SKIPPED | PASS | PASS | PASS | SKIPPED | +---------------------+-------------------+--------------------+------------------+-------------------+-------------------------+ | Alpine | SKIPPED | PASS | PASS | SKIPPED | SKIPPED | +---------------------+-------------------+--------------------+------------------+-------------------+-------------------------+ Windows Server 2022 Kernel: 10.0.20348.2031 Compiler: clang 15.0.7, gcc 14.1.0 (MinGW), and MSVC VS 19.39.33521 FreeBSD 13.4 Kernel: 13.4-RELEASE-p1 Compiler: clang 18.1.6 FreeBSD 14.2 Kernel: 14.2-RELEASE Compiler: clang 18.1.6 CentOS Stream 9 Kernel: Depends on container host Compiler: gcc 11.5.0 20240719 (Red Hat 11.5.0-2) Debian Bullseye Kernel: Depends on container host Compiler: gcc (Debian 10.2.1-6) 10.2.1 20210110 Debian 12 Kernel: Depends on container host Compiler: gcc (Debian 12.2.0-14) 12.2.0 Fedora 40 (Clang) Kernel: Depends on container host Compiler: clang 18.1.8 (Fedora 18.1.8-1.fc40) Fedora 40 Kernel: Depends on container host Compiler: gcc 14.2.1 20240912 (Red Hat 14.2.1-3) Fedora 41 (Clang) Kernel: Depends on container host Compiler: clang 19.1.5 (Fedora 19.1.5-1.fc41) Fedora 41 Kernel: Depends on container host Compiler: gcc 14.2.1 20240912 (Red Hat 14.2.1-3) openSUSE Leap 15 Kernel: Depends on container host Compiler: gcc (SUSE Linux) 7.5.0 RHEL8 Kernel: Depends on container host Compiler: gcc 8.5.0 20210514 (Red Hat 8.5.0-22) RHEL9 Kernel: Depends on container host Compiler: gcc 11.5.0 20240719 (Red Hat 11.5.0-2) Ubuntu 20.04 Kernel: Depends on container host Compiler: gcc (Ubuntu 9.4.0-1ubuntu1~20.04.2) 9.4.0 Ubuntu 22.04 Kernel: Depends on container host Compiler: gcc (Ubuntu 11.4.0-1ubuntu1~22.04) 11.4.0 Ubuntu 24.04 Kernel: Depends on container host Compiler: gcc (Ubuntu 13.3.0-6ubuntu2~24.04) 13.3.0 Alpine Kernel: Depends on container host Compiler: gcc (Alpine 14.2.0) 14.2.0 To view detailed results, visit: https://lab.dpdk.org/results/dashboard/patchsets/32493/ UNH-IOL DPDK Community Lab To manage your email subscriptions, visit: https://lab.dpdk.org/results/dashboard/preferences/subscriptions/