From mboxrd@z Thu Jan 1 00:00:00 1970 Return-Path: Received: from mails.dpdk.org (mails.dpdk.org [217.70.189.124]) by inbox.dpdk.org (Postfix) with ESMTP id 1C28F4619F for ; Wed, 5 Feb 2025 16:18:27 +0100 (CET) Received: from mails.dpdk.org (localhost [127.0.0.1]) by mails.dpdk.org (Postfix) with ESMTP id 171C54029A; Wed, 5 Feb 2025 16:18:27 +0100 (CET) Received: from mail-pl1-f225.google.com (mail-pl1-f225.google.com [209.85.214.225]) by mails.dpdk.org (Postfix) with ESMTP id 04F5A402DC for ; Wed, 5 Feb 2025 16:18:25 +0100 (CET) Received: by mail-pl1-f225.google.com with SMTP id d9443c01a7336-21f20666e72so10412295ad.1 for ; Wed, 05 Feb 2025 07:18:24 -0800 (PST) DKIM-Signature: v=1; a=rsa-sha256; c=relaxed/relaxed; d=iol.unh.edu; s=unh-iol; t=1738768704; x=1739373504; darn=dpdk.org; h=references:in-reply-to:cc:to:from:subject:message-id:date:from:to :cc:subject:date:message-id:reply-to; bh=8NqFcomra4+IMkKhHpatFnTH+qP2MyXryV2YVsE97+0=; b=jAAi0ZQl2giRT0j7eS5WcGxoQbSiAMe9C1WEKBF4CiwWN+6oneVoB4dBH/IQiEbkKF TfX7BZgtUneD+GZXRAEvn9g0dpjMOvP23scUJ59baCjutJCJFaodBi4c1ZxioB0wqaTy Kc2tOOp8bzhZUG7Zhrd3ZlAGMYBFWtQyL9NBk= X-Google-DKIM-Signature: v=1; a=rsa-sha256; c=relaxed/relaxed; d=1e100.net; s=20230601; t=1738768704; x=1739373504; h=references:in-reply-to:cc:to:from:subject:message-id:date :x-gm-message-state:from:to:cc:subject:date:message-id:reply-to; bh=8NqFcomra4+IMkKhHpatFnTH+qP2MyXryV2YVsE97+0=; b=X3ewf40IuxmVpLoX0KEqbMm/e4FNoM55A4PX6/VRfFCFgTSA2oUhvqvOaHXAzR/afC 5omZXxe4hjyoEuiXldFAxJ3uFm/ecj657lLKusgKRCph7xRALJ+Y2rJr1deXfNaBdh/J /pAf/8XUt4puNjv7X8vRQSz++vaxLRkLwa/2nXxXPnuRDzr3nlll/8hmnqS1puaA1WaI KHHNxMEXv2hrJFvChF34uBgT32MqLFEO8tp3jfmFy4r/lNEc/VLce9NynGKGlx2/Fbm3 MXkOj3wpIw0rqlm0h8zWtbo/6KY0oTGuoAwWVQIDxkCT146pS5qO143OyzJD62aZRc5d JX8A== X-Gm-Message-State: AOJu0YyWBo79hC4Qw4CciEEbr9+23PAl50kHtjbmPdV7MXgXLcpbg8SE XG2Htgyw2myp10QPGLQ3y6CjkPLiqC1fV3jr3d3LI2QXlEmLRXazxye9HH7LhSTYzyVnQpO5p1a hqn35TWdYcvWWLcvwnGVtQfn+Wr2lSjYnYGl92RQV X-Gm-Gg: ASbGncuNzH+62iWjLyoL28J9v9H0SvZjz9FNBmbQn6VN0ZB9kRwdIxT8qIfOYUV3aYu 5JHgpFFwW/9dhmNngevyVd2x0FocK/wuY/QXMSt6DxytZeszWtej4+SODl2fWGRYSBrHhQDmtoQ BW3WqevB5HcikoBzCEMp0yKYQ4eFtxA6qSv8zLTG4F4hk2PAay3r7QSJsSzGeMDAUMHY/1cOqKI kwqWsdkrPa108E0VaWunAAGeqFmqhBJpycpwi1GWrEgS9mwUi26d0atQDfZRj/+AcwkNFPhZxXo ngD+bVaXDAmhbtq9SZGHXDWylaGN6Q== X-Google-Smtp-Source: AGHT+IFjiyHyMpVi634OJ3svCKjAXHVcfYtfxtWGl3rgOInhZJzLPJb6nx/0OKCFyxptj+8OiU6VLwj9pezr X-Received: by 2002:a17:903:22cf:b0:216:4c88:d93a with SMTP id d9443c01a7336-21f17f30666mr51697115ad.48.1738768703882; Wed, 05 Feb 2025 07:18:23 -0800 (PST) Received: from postal.iol.unh.edu (postal.iol.unh.edu. [132.177.123.84]) by smtp-relay.gmail.com with ESMTPS id d9443c01a7336-21de326eeddsm6796775ad.63.2025.02.05.07.18.23 (version=TLS1_2 cipher=ECDHE-ECDSA-AES128-GCM-SHA256 bits=128/128); Wed, 05 Feb 2025 07:18:23 -0800 (PST) X-Relaying-Domain: iol.unh.edu Date: Wed, 05 Feb 2025 07:18:23 -0800 (PST) Message-ID: <67a3813f.170a0220.12376e.e4d7SMTPIN_ADDED_MISSING@mx.google.com> Received: from [172.17.0.4] (unknown [172.18.0.217]) by postal.iol.unh.edu (Postfix) with ESMTP id E76D46052471; Wed, 5 Feb 2025 10:18:22 -0500 (EST) Subject: |SUCCESS| pw150902 [PATCH] [v2] eal: force compilation of RTE_ASSERT From: dpdklab@iol.unh.edu To: Test Report Cc: dpdk-test-reports@iol.unh.edu In-Reply-To: <20250204194759.723484-1-stephen@networkplumber.org> References: <20250204194759.723484-1-stephen@networkplumber.org> Content-Type: text/plain X-BeenThere: test-report@dpdk.org X-Mailman-Version: 2.1.29 Precedence: list List-Id: automatic DPDK test reports List-Unsubscribe: , List-Archive: List-Post: List-Help: List-Subscribe: , Errors-To: test-report-bounces@dpdk.org Test-Label: iol-compile-amd64-testing Test-Status: SUCCESS http://dpdk.org/patch/150902 _Testing PASS_ Submitter: Stephen Hemminger Date: Tuesday, February 04 2025 19:46:09 DPDK git baseline: Repo:dpdk Branch: master CommitID:dc4ce7c2538b713e16887eb598da309bc7b4d528 150902 --> testing pass Upstream job id: Windows-Compile-DPDK-Native#26432 Test environment and result as below: +---------------------+-------------------+--------------------+------------------+-------------------+-------------------------+----------------------+ | Environment | dpdk_msvc_compile | dpdk_meson_compile | dpdk_compile_ovs | dpdk_compile_spdk | dpdk_llvm_clang_compile | dpdk_mingw64_compile | +=====================+===================+====================+==================+===================+=========================+======================+ | Windows Server 2022 | PASS | SKIPPED | SKIPPED | SKIPPED | PASS | PASS | +---------------------+-------------------+--------------------+------------------+-------------------+-------------------------+----------------------+ | FreeBSD 13.4 | SKIPPED | PASS | SKIPPED | SKIPPED | SKIPPED | SKIPPED | +---------------------+-------------------+--------------------+------------------+-------------------+-------------------------+----------------------+ | FreeBSD 14.2 | SKIPPED | PASS | SKIPPED | SKIPPED | SKIPPED | SKIPPED | +---------------------+-------------------+--------------------+------------------+-------------------+-------------------------+----------------------+ | CentOS Stream 9 | SKIPPED | PASS | PASS | PASS | SKIPPED | SKIPPED | +---------------------+-------------------+--------------------+------------------+-------------------+-------------------------+----------------------+ | Debian Bullseye | SKIPPED | PASS | PASS | PASS | SKIPPED | SKIPPED | +---------------------+-------------------+--------------------+------------------+-------------------+-------------------------+----------------------+ | Debian 12 | SKIPPED | PASS | PASS | PASS | SKIPPED | SKIPPED | +---------------------+-------------------+--------------------+------------------+-------------------+-------------------------+----------------------+ | Fedora 40 (Clang) | SKIPPED | PASS | PASS | PASS | SKIPPED | SKIPPED | +---------------------+-------------------+--------------------+------------------+-------------------+-------------------------+----------------------+ | Fedora 40 | SKIPPED | PASS | PASS | PASS | SKIPPED | SKIPPED | +---------------------+-------------------+--------------------+------------------+-------------------+-------------------------+----------------------+ | Fedora 41 (Clang) | SKIPPED | PASS | PASS | PASS | SKIPPED | SKIPPED | +---------------------+-------------------+--------------------+------------------+-------------------+-------------------------+----------------------+ | Fedora 41 | SKIPPED | PASS | PASS | PASS | SKIPPED | SKIPPED | +---------------------+-------------------+--------------------+------------------+-------------------+-------------------------+----------------------+ | openSUSE Leap 15 | SKIPPED | PASS | SKIPPED | SKIPPED | SKIPPED | SKIPPED | +---------------------+-------------------+--------------------+------------------+-------------------+-------------------------+----------------------+ | RHEL8 | SKIPPED | PASS | PASS | SKIPPED | SKIPPED | SKIPPED | +---------------------+-------------------+--------------------+------------------+-------------------+-------------------------+----------------------+ | RHEL9 | SKIPPED | PASS | PASS | SKIPPED | SKIPPED | SKIPPED | +---------------------+-------------------+--------------------+------------------+-------------------+-------------------------+----------------------+ | Ubuntu 20.04 | SKIPPED | PASS | SKIPPED | SKIPPED | SKIPPED | SKIPPED | +---------------------+-------------------+--------------------+------------------+-------------------+-------------------------+----------------------+ | Ubuntu 22.04 | SKIPPED | PASS | PASS | PASS | SKIPPED | SKIPPED | +---------------------+-------------------+--------------------+------------------+-------------------+-------------------------+----------------------+ | Ubuntu 24.04 | SKIPPED | PASS | PASS | PASS | SKIPPED | SKIPPED | +---------------------+-------------------+--------------------+------------------+-------------------+-------------------------+----------------------+ | Alpine | SKIPPED | PASS | PASS | SKIPPED | SKIPPED | SKIPPED | +---------------------+-------------------+--------------------+------------------+-------------------+-------------------------+----------------------+ Windows Server 2022 Kernel: 10.0.20348.2031 Compiler: clang 15.0.7, gcc 14.1.0 (MinGW), and MSVC VS 19.39.33521 FreeBSD 13.4 Kernel: 13.4-RELEASE-p1 Compiler: clang 18.1.6 FreeBSD 14.2 Kernel: 14.2-RELEASE Compiler: clang 18.1.6 CentOS Stream 9 Kernel: Depends on container host Compiler: gcc 11.5.0 20240719 (Red Hat 11.5.0-2) Debian Bullseye Kernel: Depends on container host Compiler: gcc (Debian 10.2.1-6) 10.2.1 20210110 Debian 12 Kernel: Depends on container host Compiler: gcc (Debian 12.2.0-14) 12.2.0 Fedora 40 (Clang) Kernel: Depends on container host Compiler: clang 18.1.8 (Fedora 18.1.8-1.fc40) Fedora 40 Kernel: Depends on container host Compiler: gcc 14.2.1 20240912 (Red Hat 14.2.1-3) Fedora 41 (Clang) Kernel: Depends on container host Compiler: clang 19.1.5 (Fedora 19.1.5-1.fc41) Fedora 41 Kernel: Depends on container host Compiler: gcc 14.2.1 20240912 (Red Hat 14.2.1-3) openSUSE Leap 15 Kernel: Depends on container host Compiler: gcc (SUSE Linux) 7.5.0 RHEL8 Kernel: Depends on container host Compiler: gcc 8.5.0 20210514 (Red Hat 8.5.0-22) RHEL9 Kernel: Depends on container host Compiler: gcc 11.5.0 20240719 (Red Hat 11.5.0-2) Ubuntu 20.04 Kernel: Depends on container host Compiler: gcc (Ubuntu 9.4.0-1ubuntu1~20.04.2) 9.4.0 Ubuntu 22.04 Kernel: Depends on container host Compiler: gcc (Ubuntu 11.4.0-1ubuntu1~22.04) 11.4.0 Ubuntu 24.04 Kernel: Depends on container host Compiler: gcc (Ubuntu 13.3.0-6ubuntu2~24.04) 13.3.0 Alpine Kernel: Depends on container host Compiler: gcc (Alpine 14.2.0) 14.2.0 To view detailed results, visit: https://lab.dpdk.org/results/dashboard/patchsets/32493/ UNH-IOL DPDK Community Lab To manage your email subscriptions, visit: https://lab.dpdk.org/results/dashboard/preferences/subscriptions/