From mboxrd@z Thu Jan 1 00:00:00 1970 Return-Path: Received: from mails.dpdk.org (mails.dpdk.org [217.70.189.124]) by inbox.dpdk.org (Postfix) with ESMTP id AE4F04619F for ; Wed, 5 Feb 2025 16:21:15 +0100 (CET) Received: from mails.dpdk.org (localhost [127.0.0.1]) by mails.dpdk.org (Postfix) with ESMTP id 93E5B4029A; Wed, 5 Feb 2025 16:21:15 +0100 (CET) Received: from mail-ua1-f97.google.com (mail-ua1-f97.google.com [209.85.222.97]) by mails.dpdk.org (Postfix) with ESMTP id 21C3540270 for ; Wed, 5 Feb 2025 16:21:14 +0100 (CET) Received: by mail-ua1-f97.google.com with SMTP id a1e0cc1a2514c-866ebc42c0dso377552241.1 for ; Wed, 05 Feb 2025 07:21:14 -0800 (PST) DKIM-Signature: v=1; a=rsa-sha256; c=relaxed/relaxed; d=iol.unh.edu; s=unh-iol; t=1738768873; x=1739373673; darn=dpdk.org; h=references:in-reply-to:cc:to:from:subject:message-id:date:from:to :cc:subject:date:message-id:reply-to; bh=JfQFXBH1DzrGBMbyhDn9FdA1KgnFmlMFhr7P28Kv9Tk=; b=Kwoxqcqht72ZXEti6hKoHjMNzkz+CJyfUwcKxqswYtFhcN62KMeHw3aAqb734NbJxj 1t0oCTepJbqvepwsNcJ8ts8lXG+GXbRbWF5HW/8WGCA4vJskeyy3m0ozimKxz2XpJM1M +WDOBi2x7gBaks0/Kq+ZO6Xud0OFrGFTKSjHE= X-Google-DKIM-Signature: v=1; a=rsa-sha256; c=relaxed/relaxed; d=1e100.net; s=20230601; t=1738768873; x=1739373673; h=references:in-reply-to:cc:to:from:subject:message-id:date :x-gm-message-state:from:to:cc:subject:date:message-id:reply-to; bh=JfQFXBH1DzrGBMbyhDn9FdA1KgnFmlMFhr7P28Kv9Tk=; b=amrZ84hM+HS+kBsk5YXw3EMTA/AhLIYxMV21osVR1pJPGnO3cCKfOnkjxH4k5lyV6P KuF/05wq/00qbclO5hrlraca6Ia7r0JlXMUEgGGZL8O5SRxMJbeXtA1dGY92QPAO6ThB IPk6QUoeh0ES/3fHdzwF+fSmkigvcGC5osT8kcIVMj5f384QDItnFjuWWkpIeaTZbTs3 Gs2J6+gTDnGCwKntnZWRr35FL9s9eqraHtiOpb3ZDBRrNix57LuCAuEFhG3FV8E+Wk8u F6KUQfXZc+cvbA0qkVXOKyGu+o+qfm17Tz+rZsgKmRGWeQRGdeFQy2818YV818o5baSW NWfg== X-Gm-Message-State: AOJu0YwLhbVckaNcxlO11v6n6Lgs1Xui8sntZ33p1VM8rb4U36BoJNmA AE60NBrKoIO9EOH7mfrkNaeAqT3cZeUMNEFp/B4n5md3yQgw4QkAbEL3EoRPyD99QLLH4t3AwyX lDeg2/lvOoDHAaHZXpRrGHG4eY+NBQpJ5FLjPs6Mp X-Gm-Gg: ASbGncuRFSCUuJXbH5UkULhoydU61KzWZBkaw+4sQm8Qcbaf1ifgEftJQszc4ZbfJhu lffgr9bX1e+jHtMjUdhaOibed+tzpIhrfJVz0yjg9WTi1DGRn3K7hFRdz3a96qqck9kfQtF0o0G 4F7/aWTWACpNeSgZxr1HxNOUM8s9A3mWIEHvCRCNg9bHK9NfvK7dISw+reUlephIIq8j9cbZwEz FSA3N9wss8VKQVGVxyKFHmikZ8oeZ06jTu+6PghyPIVPcTaYOOpu2mAi8UffWQduTMSNzaAbUHS jJ28P4EqhTgS+7DHwtJLSAdhroG4fA== X-Google-Smtp-Source: AGHT+IFxfJxq+vUgTXbjJk0LJB0juG1DhPgV6K+Aa8ttwwkCx3DYgUbPALthsZjr+pe/ak7+3KhL59+fQHFH X-Received: by 2002:a92:cda6:0:b0:3d0:101e:45e7 with SMTP id e9e14a558f8ab-3d04f900afemr27923265ab.19.1738768863232; Wed, 05 Feb 2025 07:21:03 -0800 (PST) Received: from postal.iol.unh.edu (postal.iol.unh.edu. [132.177.123.84]) by smtp-relay.gmail.com with ESMTPS id e9e14a558f8ab-3d00a529da0sm9625535ab.41.2025.02.05.07.21.03 (version=TLS1_2 cipher=ECDHE-ECDSA-AES128-GCM-SHA256 bits=128/128); Wed, 05 Feb 2025 07:21:03 -0800 (PST) X-Relaying-Domain: iol.unh.edu Date: Wed, 05 Feb 2025 07:21:03 -0800 (PST) Message-ID: <67a381df.050a0220.262ba7.c49aSMTPIN_ADDED_MISSING@mx.google.com> Received: from [172.17.0.4] (unknown [172.18.0.217]) by postal.iol.unh.edu (Postfix) with ESMTP id B421A6052471; Wed, 5 Feb 2025 10:21:02 -0500 (EST) Subject: |SUCCESS| pw150966-150969 [PATCH] [v4,4/4] net/intel: allow building From: dpdklab@iol.unh.edu To: Test Report Cc: dpdk-test-reports@iol.unh.edu In-Reply-To: <20250205115533.2746196-5-bruce.richardson@intel.com> References: <20250205115533.2746196-5-bruce.richardson@intel.com> Content-Type: text/plain X-BeenThere: test-report@dpdk.org X-Mailman-Version: 2.1.29 Precedence: list List-Id: automatic DPDK test reports List-Unsubscribe: , List-Archive: List-Post: List-Help: List-Subscribe: , Errors-To: test-report-bounces@dpdk.org Test-Label: iol-sample-apps-testing Test-Status: SUCCESS http://dpdk.org/patch/150969 _Testing PASS_ Submitter: Bruce Richardson Date: Wednesday, February 05 2025 11:55:31 DPDK git baseline: Repo:dpdk Branch: master CommitID:595535be66b103f7ce3ba61939b8013032987404 150966-150969 --> testing pass Upstream job id: ACVP-FIPS-testing#8791 Test environment and result as below: +--------------------+----------------------+----------------------+ | Environment | compressdev_zlib_pmd | dpdk_fips_validation | +====================+======================+======================+ | Ubuntu 22.04 (ARM) | PASS | SKIPPED | +--------------------+----------------------+----------------------+ | Ubuntu 22.04 | PASS | SKIPPED | +--------------------+----------------------+----------------------+ | Ubuntu 20.04 | SKIPPED | PASS | +--------------------+----------------------+----------------------+ Ubuntu 22.04 (ARM) Kernel: 5.15.0-97-generic Compiler: gcc gcc (Ubuntu 11.4.0-1ubuntu1~22.04) 11.4.0 Ubuntu 22.04 Kernel: 5.15.0-100-generic Compiler: gcc gcc (Ubuntu 11.4.0-1ubuntu1~22.04) 11.4.0 Ubuntu 20.04 Kernel: Depends on container host Compiler: gcc (Ubuntu 9.4.0-1ubuntu1~20.04.2) 9.4.0 To view detailed results, visit: https://lab.dpdk.org/results/dashboard/patchsets/32497/ UNH-IOL DPDK Community Lab To manage your email subscriptions, visit: https://lab.dpdk.org/results/dashboard/preferences/subscriptions/