From mboxrd@z Thu Jan 1 00:00:00 1970 Return-Path: Received: from mails.dpdk.org (mails.dpdk.org [217.70.189.124]) by inbox.dpdk.org (Postfix) with ESMTP id E1FCB4619F for ; Wed, 5 Feb 2025 16:22:47 +0100 (CET) Received: from mails.dpdk.org (localhost [127.0.0.1]) by mails.dpdk.org (Postfix) with ESMTP id DDD4A4029A; Wed, 5 Feb 2025 16:22:47 +0100 (CET) Received: from mail-pl1-f228.google.com (mail-pl1-f228.google.com [209.85.214.228]) by mails.dpdk.org (Postfix) with ESMTP id 9022440270 for ; Wed, 5 Feb 2025 16:22:46 +0100 (CET) Received: by mail-pl1-f228.google.com with SMTP id d9443c01a7336-21f1b2480a2so14134585ad.0 for ; Wed, 05 Feb 2025 07:22:46 -0800 (PST) DKIM-Signature: v=1; a=rsa-sha256; c=relaxed/relaxed; d=iol.unh.edu; s=unh-iol; t=1738768966; x=1739373766; darn=dpdk.org; h=references:in-reply-to:cc:to:from:subject:message-id:date:from:to :cc:subject:date:message-id:reply-to; bh=xx4YncP7FR6h4NlVDy7qMEV0dg76d4UMQn2E5p7Bm1c=; b=I49D/edonpvzYtMR9uZrhz2pEm6tPvft/O8sEw0qQ28m8/WieThdyh38Uz75xi+L08 9jyMk2G4zH7Xu/nm17h/vXEhPlnzinMTkAkDko2MCeQBVICcnEJ/Z1CB15IOBRP5UzSj DoyYygvfjDOTi1xtRv4Ktqy//9FxFlWTJkO0A= X-Google-DKIM-Signature: v=1; a=rsa-sha256; c=relaxed/relaxed; d=1e100.net; s=20230601; t=1738768966; x=1739373766; h=references:in-reply-to:cc:to:from:subject:message-id:date :x-gm-message-state:from:to:cc:subject:date:message-id:reply-to; bh=xx4YncP7FR6h4NlVDy7qMEV0dg76d4UMQn2E5p7Bm1c=; b=nMsZwQGAYnfwAbyF8Kilr1hAIr4sWop3EjaGV4Ln+MTsBb11jKGs3C+vkTeA76G9EE u3dfdpsHR32NHMXgdA8RqnKGl8VCgLAc4brYQTFK7SJIjK/LCKDDN8byeee7B/efhhOn KRAWHqPNiPqtCMBASnFGbg2dlnHj4/BgNSscx3GJVGPpiRVnHzrnnuSLDFHmMdqSF7Tb bNaisGAWcSpX/HRaCf3qACCV4aDetsmMubv3JcZ68wpD+DV9lN6l3FlkmsdL28GKGn5L 9mBIZkT/sXzH9H1VHpu5XoSrS110urgrvX4HnJRKNRC52Eaxx5a0w0CQ2W0nrbPLzbC5 comQ== X-Gm-Message-State: AOJu0YzBi392EGYEdmm7X1mR8NK3oViqRGhW0dC3siame8JXApaIageh uhUElMGNg3iD8dDqnwqvUJ7ziXWunPKfGXO59VUis9Fae+qrqeQ0Ch6yGjbukaeBxmUAbW0arhA Q63bAsjHpLO6fBY69XxzMBeN1DlThAuxib3/7f1+h X-Gm-Gg: ASbGncutLSfl2Ty4jX+cbTp2d3wUMyJpbwxfRU8wezd871yu7yBzJHhIXS3WW3pzXQU E+NsaAdlKpLcj0EdV30ekZ53Nu/7uKg0NnSCzf6XKFPiY/4RnQ0keEE/g6F01r8z+uB9SdoEkAI U15tdTzFxa9wvLpLSHpWJbojgRQm2YLNwxdw+/bJDASLpAA4eCcPDDZgsCzMYvyl3SH+7rBcj9s l0LAZ7YkWOxAyGxpMNNLe6CyI1xuxAyt/m5yZBaiq3FsNboR6QuXdzqaLo9er6IrpaokA1MQyJw NUNzsoZ/LFTGmp1M23UstId+cZMQDQ== X-Google-Smtp-Source: AGHT+IHY6qdSu7ASTRwOBifR2ha3H6k4oPqePTZyXOPRP6BAjHu4Y5u8I5m5mI5y+Prhwqpz+BPqMtjg8umO X-Received: by 2002:a17:902:f64d:b0:21f:55e:ed6e with SMTP id d9443c01a7336-21f17e2c93amr45868115ad.6.1738768965666; Wed, 05 Feb 2025 07:22:45 -0800 (PST) Received: from postal.iol.unh.edu (postal.iol.unh.edu. [132.177.123.84]) by smtp-relay.gmail.com with ESMTPS id d9443c01a7336-21f14bb3189sm1293075ad.108.2025.02.05.07.22.45 (version=TLS1_2 cipher=ECDHE-ECDSA-AES128-GCM-SHA256 bits=128/128); Wed, 05 Feb 2025 07:22:45 -0800 (PST) X-Relaying-Domain: iol.unh.edu Date: Wed, 05 Feb 2025 07:22:45 -0800 (PST) Message-ID: <67a38245.170a0220.1270dc.5cbfSMTPIN_ADDED_MISSING@mx.google.com> Received: from [172.17.0.4] (unknown [172.18.0.217]) by postal.iol.unh.edu (Postfix) with ESMTP id 14B186052471; Wed, 5 Feb 2025 10:22:45 -0500 (EST) Subject: |SUCCESS| pw150868-150889 [PATCH] [v20,27/27] config: add -Wvla proj From: dpdklab@iol.unh.edu To: Test Report Cc: dpdk-test-reports@iol.unh.edu In-Reply-To: <1738686124-16173-28-git-send-email-andremue@linux.microsoft.com> References: <1738686124-16173-28-git-send-email-andremue@linux.microsoft.com> Content-Type: text/plain X-BeenThere: test-report@dpdk.org X-Mailman-Version: 2.1.29 Precedence: list List-Id: automatic DPDK test reports List-Unsubscribe: , List-Archive: List-Post: List-Help: List-Subscribe: , Errors-To: test-report-bounces@dpdk.org Test-Label: iol-unit-arm64-testing Test-Status: SUCCESS http://dpdk.org/patch/150889 _Testing PASS_ Submitter: Andre Muezerie Date: Tuesday, February 04 2025 16:22:04 DPDK git baseline: Repo:dpdk Branch: master CommitID:dc4ce7c2538b713e16887eb598da309bc7b4d528 150868-150889 --> testing pass Upstream job id: Aarch32-Unit-Test#5188 Test environment and result as below: +-----------------------------+----------------+--------------+------------------------------+---------------------------+ | Environment | dpdk_unit_test | lpm_autotest | cryptodev_sw_snow3g_autotest | cryptodev_sw_zuc_autotest | +=============================+================+==============+==============================+===========================+ | CentOS Stream 9 (ARM) | PASS | SKIPPED | SKIPPED | SKIPPED | +-----------------------------+----------------+--------------+------------------------------+---------------------------+ | Debian 11 (Buster) (ARM) | PASS | SKIPPED | SKIPPED | SKIPPED | +-----------------------------+----------------+--------------+------------------------------+---------------------------+ | Debian 12 (arm) | PASS | SKIPPED | PASS | PASS | +-----------------------------+----------------+--------------+------------------------------+---------------------------+ | Fedora 40 (ARM Clang) | PASS | SKIPPED | SKIPPED | SKIPPED | +-----------------------------+----------------+--------------+------------------------------+---------------------------+ | Fedora 41 (ARM) | PASS | SKIPPED | SKIPPED | SKIPPED | +-----------------------------+----------------+--------------+------------------------------+---------------------------+ | Fedora 41 (ARM Clang) | PASS | SKIPPED | SKIPPED | SKIPPED | +-----------------------------+----------------+--------------+------------------------------+---------------------------+ | Fedora 40 (ARM) | PASS | SKIPPED | SKIPPED | SKIPPED | +-----------------------------+----------------+--------------+------------------------------+---------------------------+ | Ubuntu 20.04 (ARM) | PASS | SKIPPED | SKIPPED | SKIPPED | +-----------------------------+----------------+--------------+------------------------------+---------------------------+ | RHEL9 (ARM) | PASS | SKIPPED | SKIPPED | SKIPPED | +-----------------------------+----------------+--------------+------------------------------+---------------------------+ | Ubuntu 22.04 (ARM) | PASS | SKIPPED | SKIPPED | SKIPPED | +-----------------------------+----------------+--------------+------------------------------+---------------------------+ | Ubuntu 24.04 (ARM) | PASS | SKIPPED | SKIPPED | SKIPPED | +-----------------------------+----------------+--------------+------------------------------+---------------------------+ | 32-bit Ubuntu 22.04.4 (ARM) | PASS | SKIPPED | SKIPPED | SKIPPED | +-----------------------------+----------------+--------------+------------------------------+---------------------------+ | Ubuntu 20.04 ARM SVE | SKIPPED | PASS | SKIPPED | SKIPPED | +-----------------------------+----------------+--------------+------------------------------+---------------------------+ CentOS Stream 9 (ARM) Kernel: Depends on container host Compiler: gcc 11.5.0 20240719 (Red Hat 11.5.0-2) Debian 11 (Buster) (ARM) Kernel: Depends on container host Compiler: gcc (Debian 10.2.1-6) 10.2.1 20210110 Debian 12 (arm) Kernel: Depends on container host Compiler: gcc (Debian 12.2.0-14) 12.2.0 Fedora 40 (ARM Clang) Kernel: Depends on container host Compiler: clang 18.1.8 (Fedora 18.1.8-1.fc40) Fedora 41 (ARM) Kernel: Depends on container host Compiler: gcc 14.2.1 20240912 (Red Hat 14.2.1-3) Fedora 41 (ARM Clang) Kernel: Depends on container host Compiler: clang 19.1.5 (Fedora 19.1.5-1.fc41) Fedora 40 (ARM) Kernel: Depends on container host Compiler: gcc 14.2.1 20240912 (Red Hat 14.2.1-3) Ubuntu 20.04 (ARM) Kernel: Depends on container host Compiler: gcc (Ubuntu 9.4.0-1ubuntu1~20.04.2) 9.4.0 RHEL9 (ARM) Kernel: Depends on container host Compiler: gcc 11.5.0 20240719 (Red Hat 11.5.0-2) Ubuntu 22.04 (ARM) Kernel: Depends on container host Compiler: gcc (Ubuntu 11.4.0-1ubuntu1~22.04) 11.4.0 Ubuntu 24.04 (ARM) Kernel: Depends on container host Compiler: gcc (Ubuntu 13.3.0-6ubuntu2~24.04) 13.3.0 32-bit Ubuntu 22.04.4 (ARM) Kernel: 5.15.83+ aarch64 Compiler: gcc (Ubuntu 11.4.0-1ubuntu1~22.04) 11.4.0 Ubuntu 20.04 ARM SVE Kernel: Depends on container host Compiler: gcc (Ubuntu 10.5.0-1ubuntu1~20.04) 10.5.0 To view detailed results, visit: https://lab.dpdk.org/results/dashboard/patchsets/32489/ UNH-IOL DPDK Community Lab To manage your email subscriptions, visit: https://lab.dpdk.org/results/dashboard/preferences/subscriptions/