From mboxrd@z Thu Jan 1 00:00:00 1970 Return-Path: Received: from mails.dpdk.org (mails.dpdk.org [217.70.189.124]) by inbox.dpdk.org (Postfix) with ESMTP id BA6274619F for ; Wed, 5 Feb 2025 16:29:21 +0100 (CET) Received: from mails.dpdk.org (localhost [127.0.0.1]) by mails.dpdk.org (Postfix) with ESMTP id 9501A40289; Wed, 5 Feb 2025 16:29:21 +0100 (CET) Received: from mail-pl1-f227.google.com (mail-pl1-f227.google.com [209.85.214.227]) by mails.dpdk.org (Postfix) with ESMTP id 6ADFA40270 for ; Wed, 5 Feb 2025 16:29:20 +0100 (CET) Received: by mail-pl1-f227.google.com with SMTP id d9443c01a7336-2163dc5155fso123868725ad.0 for ; Wed, 05 Feb 2025 07:29:20 -0800 (PST) DKIM-Signature: v=1; a=rsa-sha256; c=relaxed/relaxed; d=iol.unh.edu; s=unh-iol; t=1738769359; x=1739374159; darn=dpdk.org; h=cc:to:from:subject:message-id:date:from:to:cc:subject:date :message-id:reply-to; bh=q1ZVFmU1Uxi9JRjgp85cyefOrxaWEPKIDoPsNtk/pJc=; b=INse5FqPEfI/ByVhhRD7+fwKIvHPxEx/upHw27XYOGpBpvNdVWhZN8bbOg7QhiGCTG QPzGowsp4XVIY+WDuC8H126TTR9+NDoB5Nlw991lPk3VHm6YwRlRt3gLU9p6xE97fIFE Y3PFtlADTQBO+r/TmSmUr15tTNylDgt4N4x6A= X-Google-DKIM-Signature: v=1; a=rsa-sha256; c=relaxed/relaxed; d=1e100.net; s=20230601; t=1738769359; x=1739374159; h=cc:to:from:subject:message-id:date:x-gm-message-state:from:to:cc :subject:date:message-id:reply-to; bh=q1ZVFmU1Uxi9JRjgp85cyefOrxaWEPKIDoPsNtk/pJc=; b=mpZOr45T54PjqOeJNXrO9n7oQtiK42ig8jQV4VOHmAfsOOiiZFRa+9Ip5q/H/ENx7x E7lp7mE++tHd1SyYqF/ICitzaV/pg2U46MR9Bp3xxNAHfHwBvJO8SNBq7aaBvY+2UHPk ByQf2s1+U12UKcOl1OX08OTMtshNS4bTuT/VtWflDVRbZfAC6iss/cSudyrWHyrhOBxr STxI8pLTQVPEZ3DznuR92cwmvnbZhP73DglFNMhIfFqpWPKozCcZXApvJdNKu3zb0SgE 8fi1MjxZ2/e4TJ4XM1epruqlCy7dQO+6hWV65RYAiTUH6fzQEsGop+3F7c6C/GeB0gJ6 fMTw== X-Gm-Message-State: AOJu0YzuP42u+0yiPDSkTRI6U8ZceksyJtBDq46WOiPILXuwXGWjVlI2 afU3OuTRGqMSFG44NAkSX2Gq6UJ7nZZT6YHpZNw4/NeTzgxGKkTPWlw17fi8kh3i2KbE+WXysNk A3rvTiRHUdUl0jZXqZaO16/UOUMaeMcHutjg4nH5aved8jAAd X-Gm-Gg: ASbGncvRUHD9l1asez6nesl7ktN07ktUKyBYO+PbvdtHpLwYUzvIjwZwihDuIcdKSaF sOKzqZAXthtyFL3OUHc7qc0Q4eQcIwYCfbfcXLSfHWH24Jci/3THYzXblhPEEpjB29uhwS9YiZZ KSl7udBej2ORs8KX3jW/BpM+4ebjj/XwvNjHyAXXbdmt0wY4bKWBnLDP+ksQCXCPnZ/ldJi060u nocsaYY5mOX0C6HpC94xHKBeJ71YvWvh6qv/2Wdge930MPe2ZeAbB1WcDbVcCyS5Rdk+XgKaJed UbxHTC/V3Ga8NJk/IO5ntcUum1CCl7paIw+BWyZXiw== X-Google-Smtp-Source: AGHT+IFx3svBHyb1OyOfHUHDgIH4I+vIKp5KWr8vEx/OonJMehMXkAn/aEzgXWxIZemu/203DDuO807iS3no X-Received: by 2002:a05:6a21:998c:b0:1e1:b60c:5bcf with SMTP id adf61e73a8af0-1ede88b239dmr5888022637.32.1738769359348; Wed, 05 Feb 2025 07:29:19 -0800 (PST) Received: from postal.iol.unh.edu (postal.iol.unh.edu. [2606:4100:3880:1234::84]) by smtp-relay.gmail.com with ESMTPS id d2e1a72fcca58-72fe6008878sm1074514b3a.0.2025.02.05.07.29.19 (version=TLS1_2 cipher=ECDHE-ECDSA-AES128-GCM-SHA256 bits=128/128); Wed, 05 Feb 2025 07:29:19 -0800 (PST) X-Relaying-Domain: iol.unh.edu Date: Wed, 05 Feb 2025 07:29:19 -0800 (PST) Message-ID: <67a383cf.050a0220.325a98.1db5SMTPIN_ADDED_MISSING@mx.google.com> Received: from [172.17.0.6] (unknown [172.18.0.217]) by postal.iol.unh.edu (Postfix) with ESMTP id 681746052471; Wed, 5 Feb 2025 10:29:18 -0500 (EST) Subject: |SUCCESS| [GIT MASTER] f2eea2f37a82bb73fb01d56350708f7d70e21379 From: dpdklab@iol.unh.edu To: Test Report Cc: dpdk-test-reports@iol.unh.edu, Xueming Li , Christian Ehrhardt , Kevin Traynor , Luca Boccassi Content-Type: text/plain X-BeenThere: test-report@dpdk.org X-Mailman-Version: 2.1.29 Precedence: list List-Id: automatic DPDK test reports List-Unsubscribe: , List-Archive: List-Post: List-Help: List-Subscribe: , Errors-To: test-report-bounces@dpdk.org _Testing PASS_ Branch: tags/v24.11 f2eea2f37a82bb73fb01d56350708f7d70e21379 --> testing pass Upstream job id: Windows-Compile-DPDK-Native#26435 Test environment and result as below: +---------------------+--------------------+-------------------+------------------+-------------------+-------------------------+ | Environment | dpdk_meson_compile | dpdk_msvc_compile | dpdk_compile_ovs | dpdk_compile_spdk | dpdk_llvm_clang_compile | +=====================+====================+===================+==================+===================+=========================+ | FreeBSD 13.4 | PASS | SKIPPED | SKIPPED | SKIPPED | SKIPPED | +---------------------+--------------------+-------------------+------------------+-------------------+-------------------------+ | FreeBSD 14.2 | PASS | SKIPPED | SKIPPED | SKIPPED | SKIPPED | +---------------------+--------------------+-------------------+------------------+-------------------+-------------------------+ | CentOS Stream 9 | PASS | SKIPPED | PASS | PASS | SKIPPED | +---------------------+--------------------+-------------------+------------------+-------------------+-------------------------+ | Debian Bullseye | PASS | SKIPPED | PASS | PASS | SKIPPED | +---------------------+--------------------+-------------------+------------------+-------------------+-------------------------+ | Debian 12 | PASS | SKIPPED | PASS | PASS | SKIPPED | +---------------------+--------------------+-------------------+------------------+-------------------+-------------------------+ | Fedora 40 (Clang) | PASS | SKIPPED | PASS | PASS | SKIPPED | +---------------------+--------------------+-------------------+------------------+-------------------+-------------------------+ | Fedora 40 | PASS | SKIPPED | PASS | PASS | SKIPPED | +---------------------+--------------------+-------------------+------------------+-------------------+-------------------------+ | Fedora 41 (Clang) | PASS | SKIPPED | PASS | PASS | SKIPPED | +---------------------+--------------------+-------------------+------------------+-------------------+-------------------------+ | Fedora 41 | PASS | SKIPPED | PASS | PASS | SKIPPED | +---------------------+--------------------+-------------------+------------------+-------------------+-------------------------+ | openSUSE Leap 15 | PASS | SKIPPED | SKIPPED | SKIPPED | SKIPPED | +---------------------+--------------------+-------------------+------------------+-------------------+-------------------------+ | RHEL8 | PASS | SKIPPED | PASS | SKIPPED | SKIPPED | +---------------------+--------------------+-------------------+------------------+-------------------+-------------------------+ | RHEL9 | PASS | SKIPPED | PASS | SKIPPED | SKIPPED | +---------------------+--------------------+-------------------+------------------+-------------------+-------------------------+ | Ubuntu 20.04 | PASS | SKIPPED | SKIPPED | SKIPPED | SKIPPED | +---------------------+--------------------+-------------------+------------------+-------------------+-------------------------+ | Ubuntu 22.04 | PASS | SKIPPED | PASS | PASS | SKIPPED | +---------------------+--------------------+-------------------+------------------+-------------------+-------------------------+ | Ubuntu 24.04 | PASS | SKIPPED | PASS | PASS | SKIPPED | +---------------------+--------------------+-------------------+------------------+-------------------+-------------------------+ | Alpine | PASS | SKIPPED | PASS | SKIPPED | SKIPPED | +---------------------+--------------------+-------------------+------------------+-------------------+-------------------------+ | Windows Server 2022 | SKIPPED | PASS | SKIPPED | SKIPPED | PASS | +---------------------+--------------------+-------------------+------------------+-------------------+-------------------------+ FreeBSD 13.4 Kernel: 13.4-RELEASE-p1 Compiler: clang 18.1.6 FreeBSD 14.2 Kernel: 14.2-RELEASE Compiler: clang 18.1.6 CentOS Stream 9 Kernel: Depends on container host Compiler: gcc 11.5.0 20240719 (Red Hat 11.5.0-2) Debian Bullseye Kernel: Depends on container host Compiler: gcc (Debian 10.2.1-6) 10.2.1 20210110 Debian 12 Kernel: Depends on container host Compiler: gcc (Debian 12.2.0-14) 12.2.0 Fedora 40 (Clang) Kernel: Depends on container host Compiler: clang 18.1.8 (Fedora 18.1.8-1.fc40) Fedora 40 Kernel: Depends on container host Compiler: gcc 14.2.1 20240912 (Red Hat 14.2.1-3) Fedora 41 (Clang) Kernel: Depends on container host Compiler: clang 19.1.5 (Fedora 19.1.5-1.fc41) Fedora 41 Kernel: Depends on container host Compiler: gcc 14.2.1 20240912 (Red Hat 14.2.1-3) openSUSE Leap 15 Kernel: Depends on container host Compiler: gcc (SUSE Linux) 7.5.0 RHEL8 Kernel: Depends on container host Compiler: gcc 8.5.0 20210514 (Red Hat 8.5.0-22) RHEL9 Kernel: Depends on container host Compiler: gcc 11.5.0 20240719 (Red Hat 11.5.0-2) Ubuntu 20.04 Kernel: Depends on container host Compiler: gcc (Ubuntu 9.4.0-1ubuntu1~20.04.2) 9.4.0 Ubuntu 22.04 Kernel: Depends on container host Compiler: gcc (Ubuntu 11.4.0-1ubuntu1~22.04) 11.4.0 Ubuntu 24.04 Kernel: Depends on container host Compiler: gcc (Ubuntu 13.3.0-6ubuntu2~24.04) 13.3.0 Alpine Kernel: Depends on container host Compiler: gcc (Alpine 14.2.0) 14.2.0 Windows Server 2022 Kernel: 10.0.20348.2031 Compiler: clang 15.0.7, gcc 14.1.0 (MinGW), and MSVC VS 19.39.33521 To view detailed results, visit: https://lab.dpdk.org/results/dashboard/tarballs/32446/ UNH-IOL DPDK Community Lab To manage your email subscriptions, visit: https://lab.dpdk.org/results/dashboard/preferences/subscriptions/