From mboxrd@z Thu Jan 1 00:00:00 1970 Return-Path: Received: from mails.dpdk.org (mails.dpdk.org [217.70.189.124]) by inbox.dpdk.org (Postfix) with ESMTP id 8914E4619F for ; Wed, 5 Feb 2025 16:32:01 +0100 (CET) Received: from mails.dpdk.org (localhost [127.0.0.1]) by mails.dpdk.org (Postfix) with ESMTP id 5D52740289; Wed, 5 Feb 2025 16:32:01 +0100 (CET) Received: from mail-ua1-f100.google.com (mail-ua1-f100.google.com [209.85.222.100]) by mails.dpdk.org (Postfix) with ESMTP id 0949940270 for ; Wed, 5 Feb 2025 16:32:00 +0100 (CET) Received: by mail-ua1-f100.google.com with SMTP id a1e0cc1a2514c-866f32750a7so74898241.0 for ; Wed, 05 Feb 2025 07:31:59 -0800 (PST) DKIM-Signature: v=1; a=rsa-sha256; c=relaxed/relaxed; d=iol.unh.edu; s=unh-iol; t=1738769519; x=1739374319; darn=dpdk.org; h=cc:to:from:subject:message-id:date:from:to:cc:subject:date :message-id:reply-to; bh=fGQ30NjQiMqUwRnKAvvqxXu1zsFWw9xOx7J3rv2w/r4=; b=F2qT66t9vcNXMDpFKklOr6JcoA/EKSLQB5JZhfl1MrLOtxrDIwglI8Eqt2kOecbGa3 5SwZjohzbp1qIu5um9JbY0vllq52CK4mgWcsixiNyIeSLq1NUGBFR3JxnaqHYLt90Xjq FoA8GkbRwjZ0kWcPG++HMVNUsrIW4D87SI19I= X-Google-DKIM-Signature: v=1; a=rsa-sha256; c=relaxed/relaxed; d=1e100.net; s=20230601; t=1738769519; x=1739374319; h=cc:to:from:subject:message-id:date:x-gm-message-state:from:to:cc :subject:date:message-id:reply-to; bh=fGQ30NjQiMqUwRnKAvvqxXu1zsFWw9xOx7J3rv2w/r4=; b=bPFjD9nsGCUE5TTguY/JHmifYhxH5sQWwlMvZ73ZP8O7rwXGIF1WYeZxSPL3W+y9Yy 2ezygXXAl4G2rjweYWoYfGyGMXMlrLHrxH3OB2cyMl1fwdg91vT5t26gQPfMpA61NCq0 WM4BWWEdUMh71WB2v+qpGOqYKOspNhLcQrSPBYw2EDnJwVzHf3bPAwdlKDvG7Xv+oI+u U97nBlVWm42jnf/ubkzAEnhUm2Smmyc+1pmy6DcP68N/4ptHOfxF0eU7k+66vDBXdvhJ oiM/Fn4XxXe8i4RT6nGOO8E8lKKo0Xmr6xPw8Ox/Zmyl3VnOlaBiXu4fM6CPwQqhEYZt zTFw== X-Gm-Message-State: AOJu0YwzgeH5Qe/LbicYEUG2IIl8KJIoz4zGJ9xBepMTCuSHmuZY2mce QKwN1ziVWkijxlsenct3SsMc2BXiLrI9+ycYKJvtFh9OzaHuj3Ql8UGSBdCzf2PscAwyK0z77F0 9hDvMON+fppfVlUHdWz4hGjTXXQUNpxSJ X-Gm-Gg: ASbGncvk71Mi93SW0zPq9/vYOCEjNDmTXN91l/CMJkHfRahtuBoCELdMLR3Ajz6i/ji XenU5OtryhopkWIpqOb0HCTmViTxSOL1pztnDaZm8O2CogxxSFtx+6aD7DBzTxIqUJGslCa7S0u cmmzigHNR9LwzSOQPPQDGUx6CNRqm18aYGNpu1tgdN6t6NDpCGcUSqOW+0EIhYIZ32FbuFbhXRt 7YW+LzmQgEep9gQTtli48Beb5lo9zIeujQCQy0w1+alC8B3UjNvJHLWzPl1uZDMeiRMPjJPA6iQ ItnswB2kbU/eu5hvlcFcC3YNEpHzDA== X-Google-Smtp-Source: AGHT+IHmrxNkrqV1CCN6U5BnCDbZA06lUaJVitTIoFCLS7E0RRzk3UvAmv7hgEgfZwHxnhlZs9WBEIFhS//g X-Received: by 2002:a05:6e02:1b0c:b0:3cf:bb3e:884c with SMTP id e9e14a558f8ab-3d04f6e46cemr31824155ab.16.1738769508801; Wed, 05 Feb 2025 07:31:48 -0800 (PST) Received: from postal.iol.unh.edu (postal.iol.unh.edu. [132.177.123.84]) by smtp-relay.gmail.com with ESMTPS id 8926c6da1cb9f-4ec745b6622sm825265173.26.2025.02.05.07.31.48 (version=TLS1_2 cipher=ECDHE-ECDSA-AES128-GCM-SHA256 bits=128/128); Wed, 05 Feb 2025 07:31:48 -0800 (PST) X-Relaying-Domain: iol.unh.edu Date: Wed, 05 Feb 2025 07:31:48 -0800 (PST) Message-ID: <67a38464.050a0220.28f98e.7d3aSMTPIN_ADDED_MISSING@mx.google.com> Received: from [172.17.0.6] (unknown [172.18.0.217]) by postal.iol.unh.edu (Postfix) with ESMTP id 6B2C56052471; Wed, 5 Feb 2025 10:31:48 -0500 (EST) Subject: |SUCCESS| [GIT MASTER] f2eea2f37a82bb73fb01d56350708f7d70e21379 From: dpdklab@iol.unh.edu To: Test Report Cc: dpdk-test-reports@iol.unh.edu, Xueming Li , Christian Ehrhardt , Kevin Traynor , Luca Boccassi Content-Type: text/plain X-BeenThere: test-report@dpdk.org X-Mailman-Version: 2.1.29 Precedence: list List-Id: automatic DPDK test reports List-Unsubscribe: , List-Archive: List-Post: List-Help: List-Subscribe: , Errors-To: test-report-bounces@dpdk.org _Testing PASS_ Branch: tags/v24.11 f2eea2f37a82bb73fb01d56350708f7d70e21379 --> testing pass Upstream job id: Windows-Compile-DPDK-Native#26436 Test environment and result as below: +---------------------+--------------------+-------------------+------------------+-------------------+-------------------------+----------------------+ | Environment | dpdk_meson_compile | dpdk_msvc_compile | dpdk_compile_ovs | dpdk_compile_spdk | dpdk_llvm_clang_compile | dpdk_mingw64_compile | +=====================+====================+===================+==================+===================+=========================+======================+ | FreeBSD 13.4 | PASS | SKIPPED | SKIPPED | SKIPPED | SKIPPED | SKIPPED | +---------------------+--------------------+-------------------+------------------+-------------------+-------------------------+----------------------+ | FreeBSD 14.2 | PASS | SKIPPED | SKIPPED | SKIPPED | SKIPPED | SKIPPED | +---------------------+--------------------+-------------------+------------------+-------------------+-------------------------+----------------------+ | CentOS Stream 9 | PASS | SKIPPED | PASS | PASS | SKIPPED | SKIPPED | +---------------------+--------------------+-------------------+------------------+-------------------+-------------------------+----------------------+ | Debian Bullseye | PASS | SKIPPED | PASS | PASS | SKIPPED | SKIPPED | +---------------------+--------------------+-------------------+------------------+-------------------+-------------------------+----------------------+ | Debian 12 | PASS | SKIPPED | PASS | PASS | SKIPPED | SKIPPED | +---------------------+--------------------+-------------------+------------------+-------------------+-------------------------+----------------------+ | Fedora 40 (Clang) | PASS | SKIPPED | PASS | PASS | SKIPPED | SKIPPED | +---------------------+--------------------+-------------------+------------------+-------------------+-------------------------+----------------------+ | Fedora 40 | PASS | SKIPPED | PASS | PASS | SKIPPED | SKIPPED | +---------------------+--------------------+-------------------+------------------+-------------------+-------------------------+----------------------+ | Fedora 41 (Clang) | PASS | SKIPPED | PASS | PASS | SKIPPED | SKIPPED | +---------------------+--------------------+-------------------+------------------+-------------------+-------------------------+----------------------+ | Fedora 41 | PASS | SKIPPED | PASS | PASS | SKIPPED | SKIPPED | +---------------------+--------------------+-------------------+------------------+-------------------+-------------------------+----------------------+ | openSUSE Leap 15 | PASS | SKIPPED | SKIPPED | SKIPPED | SKIPPED | SKIPPED | +---------------------+--------------------+-------------------+------------------+-------------------+-------------------------+----------------------+ | RHEL8 | PASS | SKIPPED | PASS | SKIPPED | SKIPPED | SKIPPED | +---------------------+--------------------+-------------------+------------------+-------------------+-------------------------+----------------------+ | RHEL9 | PASS | SKIPPED | PASS | SKIPPED | SKIPPED | SKIPPED | +---------------------+--------------------+-------------------+------------------+-------------------+-------------------------+----------------------+ | Ubuntu 20.04 | PASS | SKIPPED | SKIPPED | SKIPPED | SKIPPED | SKIPPED | +---------------------+--------------------+-------------------+------------------+-------------------+-------------------------+----------------------+ | Ubuntu 22.04 | PASS | SKIPPED | PASS | PASS | SKIPPED | SKIPPED | +---------------------+--------------------+-------------------+------------------+-------------------+-------------------------+----------------------+ | Ubuntu 24.04 | PASS | SKIPPED | PASS | PASS | SKIPPED | SKIPPED | +---------------------+--------------------+-------------------+------------------+-------------------+-------------------------+----------------------+ | Alpine | PASS | SKIPPED | PASS | SKIPPED | SKIPPED | SKIPPED | +---------------------+--------------------+-------------------+------------------+-------------------+-------------------------+----------------------+ | Windows Server 2022 | SKIPPED | PASS | SKIPPED | SKIPPED | PASS | PASS | +---------------------+--------------------+-------------------+------------------+-------------------+-------------------------+----------------------+ FreeBSD 13.4 Kernel: 13.4-RELEASE-p1 Compiler: clang 18.1.6 FreeBSD 14.2 Kernel: 14.2-RELEASE Compiler: clang 18.1.6 CentOS Stream 9 Kernel: Depends on container host Compiler: gcc 11.5.0 20240719 (Red Hat 11.5.0-2) Debian Bullseye Kernel: Depends on container host Compiler: gcc (Debian 10.2.1-6) 10.2.1 20210110 Debian 12 Kernel: Depends on container host Compiler: gcc (Debian 12.2.0-14) 12.2.0 Fedora 40 (Clang) Kernel: Depends on container host Compiler: clang 18.1.8 (Fedora 18.1.8-1.fc40) Fedora 40 Kernel: Depends on container host Compiler: gcc 14.2.1 20240912 (Red Hat 14.2.1-3) Fedora 41 (Clang) Kernel: Depends on container host Compiler: clang 19.1.5 (Fedora 19.1.5-1.fc41) Fedora 41 Kernel: Depends on container host Compiler: gcc 14.2.1 20240912 (Red Hat 14.2.1-3) openSUSE Leap 15 Kernel: Depends on container host Compiler: gcc (SUSE Linux) 7.5.0 RHEL8 Kernel: Depends on container host Compiler: gcc 8.5.0 20210514 (Red Hat 8.5.0-22) RHEL9 Kernel: Depends on container host Compiler: gcc 11.5.0 20240719 (Red Hat 11.5.0-2) Ubuntu 20.04 Kernel: Depends on container host Compiler: gcc (Ubuntu 9.4.0-1ubuntu1~20.04.2) 9.4.0 Ubuntu 22.04 Kernel: Depends on container host Compiler: gcc (Ubuntu 11.4.0-1ubuntu1~22.04) 11.4.0 Ubuntu 24.04 Kernel: Depends on container host Compiler: gcc (Ubuntu 13.3.0-6ubuntu2~24.04) 13.3.0 Alpine Kernel: Depends on container host Compiler: gcc (Alpine 14.2.0) 14.2.0 Windows Server 2022 Kernel: 10.0.20348.2031 Compiler: clang 15.0.7, gcc 14.1.0 (MinGW), and MSVC VS 19.39.33521 To view detailed results, visit: https://lab.dpdk.org/results/dashboard/tarballs/32446/ UNH-IOL DPDK Community Lab To manage your email subscriptions, visit: https://lab.dpdk.org/results/dashboard/preferences/subscriptions/