From: dpdklab@iol.unh.edu
To: Test Report <test-report@dpdk.org>
Cc: dpdk-test-reports@iol.unh.edu
Subject: |SUCCESS| pw150932-150965 [PATCH] [v2,34/34] net/ntnic: remove tag E
Date: Wed, 05 Feb 2025 07:53:31 -0800 (PST) [thread overview]
Message-ID: <67a3897b.050a0220.351dcf.f57cSMTPIN_ADDED_MISSING@mx.google.com> (raw)
In-Reply-To: <20250205104548.1533554-35-sil-plv@napatech.com>
Test-Label: iol-compile-amd64-testing
Test-Status: SUCCESS
http://dpdk.org/patch/150965
_Testing PASS_
Submitter: Serhii Iliushyk <sil-plv@napatech.com>
Date: Wednesday, February 05 2025 10:45:43
DPDK git baseline: Repo:dpdk
Branch: master
CommitID:dc4ce7c2538b713e16887eb598da309bc7b4d528
150932-150965 --> testing pass
Upstream job id: Windows-Compile-DPDK-Native#26442
Test environment and result as below:
+---------------------+--------------------+-------------------+-------------------------+
| Environment | dpdk_meson_compile | dpdk_msvc_compile | dpdk_llvm_clang_compile |
+=====================+====================+===================+=========================+
| FreeBSD 13.4 | PASS | SKIPPED | SKIPPED |
+---------------------+--------------------+-------------------+-------------------------+
| FreeBSD 14.2 | PASS | SKIPPED | SKIPPED |
+---------------------+--------------------+-------------------+-------------------------+
| Windows Server 2022 | SKIPPED | PASS | PASS |
+---------------------+--------------------+-------------------+-------------------------+
FreeBSD 13.4
Kernel: 13.4-RELEASE-p1
Compiler: clang 18.1.6
FreeBSD 14.2
Kernel: 14.2-RELEASE
Compiler: clang 18.1.6
Windows Server 2022
Kernel: 10.0.20348.2031
Compiler: clang 15.0.7, gcc 14.1.0 (MinGW), and MSVC VS 19.39.33521
To view detailed results, visit:
https://lab.dpdk.org/results/dashboard/patchsets/32496/
UNH-IOL DPDK Community Lab
To manage your email subscriptions, visit:
https://lab.dpdk.org/results/dashboard/preferences/subscriptions/
next prev parent reply other threads:[~2025-02-05 15:53 UTC|newest]
Thread overview: 19+ messages / expand[flat|nested] mbox.gz Atom feed top
[not found] <20250205104548.1533554-35-sil-plv@napatech.com>
2025-02-05 10:26 ` |SUCCESS| pw150932-150965 [PATCH v2 34/34] net/ntnic: remove tag EXPERIMENTAL qemudev
2025-02-05 10:31 ` qemudev
2025-02-05 10:52 ` |SUCCESS| pw150965 " checkpatch
2025-02-05 11:44 ` |SUCCESS| pw150932-150965 [PATCH] [v2,34/34] net/ntnic: remove tag E dpdklab
2025-02-05 11:45 ` |SUCCESS| pw150965 [PATCH v2 34/34] net/ntnic: remove tag EXPERIMENTAL 0-day Robot
2025-02-05 11:46 ` |PENDING| pw150932-150965 [PATCH] [v2,34/34] net/ntnic: remove tag E dpdklab
2025-02-05 11:48 ` dpdklab
2025-02-05 11:51 ` |SUCCESS| " dpdklab
2025-02-05 11:54 ` dpdklab
2025-02-05 11:57 ` |PENDING| " dpdklab
2025-02-05 11:59 ` |SUCCESS| " dpdklab
2025-02-05 12:06 ` dpdklab
2025-02-05 12:14 ` dpdklab
2025-02-05 12:26 ` |PENDING| " dpdklab
2025-02-05 12:30 ` |SUCCESS| " dpdklab
2025-02-05 13:00 ` dpdklab
2025-02-05 14:54 ` dpdklab
2025-02-05 15:53 ` dpdklab [this message]
2025-02-05 15:56 ` dpdklab
Reply instructions:
You may reply publicly to this message via plain-text email
using any one of the following methods:
* Save the following mbox file, import it into your mail client,
and reply-to-all from there: mbox
Avoid top-posting and favor interleaved quoting:
https://en.wikipedia.org/wiki/Posting_style#Interleaved_style
* Reply using the --to, --cc, and --in-reply-to
switches of git-send-email(1):
git send-email \
--in-reply-to=67a3897b.050a0220.351dcf.f57cSMTPIN_ADDED_MISSING@mx.google.com \
--to=dpdklab@iol.unh.edu \
--cc=dpdk-test-reports@iol.unh.edu \
--cc=test-report@dpdk.org \
/path/to/YOUR_REPLY
https://kernel.org/pub/software/scm/git/docs/git-send-email.html
* If your mail client supports setting the In-Reply-To header
via mailto: links, try the mailto: link
Be sure your reply has a Subject: header at the top and a blank line
before the message body.
This is a public inbox, see mirroring instructions
for how to clone and mirror all data and code used for this inbox;
as well as URLs for NNTP newsgroup(s).