From mboxrd@z Thu Jan 1 00:00:00 1970 Return-Path: Received: from mails.dpdk.org (mails.dpdk.org [217.70.189.124]) by inbox.dpdk.org (Postfix) with ESMTP id 20D084619F for ; Wed, 5 Feb 2025 16:53:33 +0100 (CET) Received: from mails.dpdk.org (localhost [127.0.0.1]) by mails.dpdk.org (Postfix) with ESMTP id 09460402DA; Wed, 5 Feb 2025 16:53:33 +0100 (CET) Received: from mail-qv1-f97.google.com (mail-qv1-f97.google.com [209.85.219.97]) by mails.dpdk.org (Postfix) with ESMTP id 3DA0540270 for ; Wed, 5 Feb 2025 16:53:32 +0100 (CET) Received: by mail-qv1-f97.google.com with SMTP id 6a1803df08f44-6e42d9c092bso11736726d6.0 for ; Wed, 05 Feb 2025 07:53:32 -0800 (PST) DKIM-Signature: v=1; a=rsa-sha256; c=relaxed/relaxed; d=iol.unh.edu; s=unh-iol; t=1738770811; x=1739375611; darn=dpdk.org; h=references:in-reply-to:cc:to:from:subject:message-id:date:from:to :cc:subject:date:message-id:reply-to; bh=GwC+O3sP9MeXIP95BbaFLTA3hN0dGxL8KqdkKXTdKaQ=; b=PGMebaUNLiHKdavMuY9w6+V8dOK0ez5zRrFOAvwOiHyW7O6+2iIDs9xwnZUnpGJE+p nX5L2pK583XbO5oVgymNZw7DnBHxQ01SCdZM9OC6j25ULlCpwrXzV4jvcaVIKWC45q0N 1Nl8lT53w2Mb39mJ4Elk2YAW+zHM2Ieqz0914= X-Google-DKIM-Signature: v=1; a=rsa-sha256; c=relaxed/relaxed; d=1e100.net; s=20230601; t=1738770811; x=1739375611; h=references:in-reply-to:cc:to:from:subject:message-id:date :x-gm-message-state:from:to:cc:subject:date:message-id:reply-to; bh=GwC+O3sP9MeXIP95BbaFLTA3hN0dGxL8KqdkKXTdKaQ=; b=Sl1iaAkgLqEwA9vLnvRvufcFdSGm+Z+Q8+hcqKm6eOMQZKph2ExNmgpongZN+pRcST DhL8CDV47/znHvCfM5O5bv3dFGcbWhb2V+tc46586ZlIZwMKNES2rWh0sDs0LbQlwL9Z NME1fuEPCJQlEDAXY7uiWkTmCXkBO4eWGQBwvlTkdqCVkL+WXh3YyawlD1hjgNPhAubj b/TbVf42a7CqccmuFzs7Oc+iMM7dgmaBBxTn+5r7UMQMeUxo5r5nIu63eBdN5CH0gdX4 72lX/Mi6WFh4+e0h12yreQJjCMbh4kP3f4Vb6DxdZrSTxnlgCCKO8nrWrqX/Rjpqf5ED aDzQ== X-Gm-Message-State: AOJu0Yw8jYED1Ua2qEOIKl05B/kSBQkfFhzhtr4FRcNhBeHX3EKppoc8 ke2ajA2jb9p66jeBDsOoSHx+tpMBwiQhMy9FkBCiDghuZ+wJxkyuO1O6k+B4++EkLG6VU33ewo4 Yk9nzd6sLH91W/xMtCThmuzLiFvpBklLzari8mH53b0LZkMg/VxDb1LTm X-Gm-Gg: ASbGncv1HIM9sZj3+IcXTV3eDrjY2lD125jzs5CY75QkCIpz015smt6updTYfdmf72I WYNMTKxY9n0KG/WBMaVIoA7oX3hq0bM9Nfrzu6JPR1262strPK1KfulRgmroHQwM72993Uq6xQ7 h3NKer/28MMn4viYTDc2p74SVehuGJshM7904Uyx/voPWxP9S6vuT5YQsUJV67+lqxckS/zjnlV J4QtliBnNNOFReP6QxAkdANdNye2maJ4fz1/ubpuA2ZxNSsGF8PlsA2pHddqK7NDnfoKhpZ46ll GJmoLODDXW/qTZXiQa7hNNdA8GDv74RR1NLd1xHETA== X-Google-Smtp-Source: AGHT+IEWskZ+ODCadxT1TRLeMxQChVapPCvlZEGMSy8laZlhjCsNBWosKJcrMczPWV8M7ariJd4ZtRsC3YV5 X-Received: by 2002:ad4:5ba3:0:b0:6d4:19a0:202 with SMTP id 6a1803df08f44-6e42fc4596emr44374846d6.33.1738770811647; Wed, 05 Feb 2025 07:53:31 -0800 (PST) Received: from postal.iol.unh.edu (postal.iol.unh.edu. [2606:4100:3880:1234::84]) by smtp-relay.gmail.com with ESMTPS id 6a1803df08f44-6e25482fd2asm10204226d6.30.2025.02.05.07.53.31 (version=TLS1_2 cipher=ECDHE-ECDSA-AES128-GCM-SHA256 bits=128/128); Wed, 05 Feb 2025 07:53:31 -0800 (PST) X-Relaying-Domain: iol.unh.edu Date: Wed, 05 Feb 2025 07:53:31 -0800 (PST) Message-ID: <67a3897b.050a0220.351dcf.f57cSMTPIN_ADDED_MISSING@mx.google.com> Received: from [172.17.0.5] (unknown [172.18.0.217]) by postal.iol.unh.edu (Postfix) with ESMTP id 5833E6052471; Wed, 5 Feb 2025 10:53:31 -0500 (EST) Subject: |SUCCESS| pw150932-150965 [PATCH] [v2,34/34] net/ntnic: remove tag E From: dpdklab@iol.unh.edu To: Test Report Cc: dpdk-test-reports@iol.unh.edu In-Reply-To: <20250205104548.1533554-35-sil-plv@napatech.com> References: <20250205104548.1533554-35-sil-plv@napatech.com> Content-Type: text/plain X-BeenThere: test-report@dpdk.org X-Mailman-Version: 2.1.29 Precedence: list List-Id: automatic DPDK test reports List-Unsubscribe: , List-Archive: List-Post: List-Help: List-Subscribe: , Errors-To: test-report-bounces@dpdk.org Test-Label: iol-compile-amd64-testing Test-Status: SUCCESS http://dpdk.org/patch/150965 _Testing PASS_ Submitter: Serhii Iliushyk Date: Wednesday, February 05 2025 10:45:43 DPDK git baseline: Repo:dpdk Branch: master CommitID:dc4ce7c2538b713e16887eb598da309bc7b4d528 150932-150965 --> testing pass Upstream job id: Windows-Compile-DPDK-Native#26442 Test environment and result as below: +---------------------+--------------------+-------------------+-------------------------+ | Environment | dpdk_meson_compile | dpdk_msvc_compile | dpdk_llvm_clang_compile | +=====================+====================+===================+=========================+ | FreeBSD 13.4 | PASS | SKIPPED | SKIPPED | +---------------------+--------------------+-------------------+-------------------------+ | FreeBSD 14.2 | PASS | SKIPPED | SKIPPED | +---------------------+--------------------+-------------------+-------------------------+ | Windows Server 2022 | SKIPPED | PASS | PASS | +---------------------+--------------------+-------------------+-------------------------+ FreeBSD 13.4 Kernel: 13.4-RELEASE-p1 Compiler: clang 18.1.6 FreeBSD 14.2 Kernel: 14.2-RELEASE Compiler: clang 18.1.6 Windows Server 2022 Kernel: 10.0.20348.2031 Compiler: clang 15.0.7, gcc 14.1.0 (MinGW), and MSVC VS 19.39.33521 To view detailed results, visit: https://lab.dpdk.org/results/dashboard/patchsets/32496/ UNH-IOL DPDK Community Lab To manage your email subscriptions, visit: https://lab.dpdk.org/results/dashboard/preferences/subscriptions/