From mboxrd@z Thu Jan  1 00:00:00 1970
Return-Path: <test-report-bounces@dpdk.org>
Received: from mails.dpdk.org (mails.dpdk.org [217.70.189.124])
	by inbox.dpdk.org (Postfix) with ESMTP id 8832C4619F
	for <public@inbox.dpdk.org>; Wed,  5 Feb 2025 16:56:11 +0100 (CET)
Received: from mails.dpdk.org (localhost [127.0.0.1])
	by mails.dpdk.org (Postfix) with ESMTP id 57B93402CE;
	Wed,  5 Feb 2025 16:56:11 +0100 (CET)
Received: from mail-il1-f227.google.com (mail-il1-f227.google.com
 [209.85.166.227])
 by mails.dpdk.org (Postfix) with ESMTP id 262A840270
 for <test-report@dpdk.org>; Wed,  5 Feb 2025 16:56:10 +0100 (CET)
Received: by mail-il1-f227.google.com with SMTP id
 e9e14a558f8ab-3d04aec2b84so10185025ab.2
 for <test-report@dpdk.org>; Wed, 05 Feb 2025 07:56:10 -0800 (PST)
DKIM-Signature: v=1; a=rsa-sha256; c=relaxed/relaxed;
 d=iol.unh.edu; s=unh-iol; t=1738770969; x=1739375769; darn=dpdk.org;
 h=references:in-reply-to:cc:to:from:subject:message-id:date:from:to
 :cc:subject:date:message-id:reply-to;
 bh=5v0/8fGit+Bg0r2T28fib12oPRqOmhJ1hAdxo3a/bz0=;
 b=CGsWXR1/Vprm+Ct34MDIpJO/871ldlpLbqifL4TjmTEn2e9Gc38cvS5O3Q0O4mwCqa
 9+lueUAQLlujSYGaeliZ5PkwICB/IapoqUVWfIy95oekSMWJLAeozZXlsSBNH4t5ZGnn
 vjz/7VVRdDZpMtpVLrKrH5u6n12XUqRcORDp4=
X-Google-DKIM-Signature: v=1; a=rsa-sha256; c=relaxed/relaxed;
 d=1e100.net; s=20230601; t=1738770969; x=1739375769;
 h=references:in-reply-to:cc:to:from:subject:message-id:date
 :x-gm-message-state:from:to:cc:subject:date:message-id:reply-to;
 bh=5v0/8fGit+Bg0r2T28fib12oPRqOmhJ1hAdxo3a/bz0=;
 b=E5H6XDDh1mAmQnjpL4aWwB7UKFDTkI8wwJJZyoWWxpJxMAaGyaV09ahy5X9TIiLH2U
 paxZqxXOE7SHyytYmWEQlSoA4beX912ru4X7e4zCPGfD9yr3CDAoknI/eM6BBEAPg+yH
 71gdgbKS6Ziha2qATy1q9QbASt2IE/Bzm/uks9qigOKOpU26ECjnTPh8UY5B7QR1N5r6
 MgiNS2HThz3sDrn4SoNRtJMOS9iphbkpeFbZSOrjyyCJ44Ne0ijimvLRWTi6vvPVPhVc
 HCsdrVHcI4XKEm8Wxm9ug2ea0HKHKbNFA/hLreMzOUOu7IvmUS0MIYJ3DUb634gdL+zP
 vMMQ==
X-Gm-Message-State: AOJu0Yw+bzkfXi/tCrfW0T25FB3sCDcMNYLF+k5g4GfGiZVSO48G0F7Y
 h/QbDR/UI4xT3lnXLFBcTT2wVbLnk6ZkGCUvShH+vFQumpW0hxJYcMC9CJy5wJBVATgp7NjxyAY
 9ib/cUvXtMgCm9yH12VwMZXTl84k0riMqSyxF3yNGZapVSTqpM2PzdOPd
X-Gm-Gg: ASbGncuUfatJ25trYqQjUJKr0DK/hMIIrYcZgob8HQ3HxzAYcN7IH35ERTSRuouGlEj
 uyqRk3Fues+WtQ+plRIA/0BZoZpgx1u/XM96r49HJ8st+u+CvtKotNrQGnXbDqGdayB8KAL1DLF
 pex1ykgx+uOu0tAISbpAt1hN9wzoKaJQ76m//i3jCwYhy1Ka6EmV1W4DLNJT3maodeSXk2w2fdx
 iiaXjUoaz/gVQiUj9qlzkQViCl+1RsrlzQa9xKy+gjYmaUGwQF70GU0T9BopyDFdCoJ4VVHwGxz
 /49OoOpsNkMKtFjtLhuRa71AvhdeWyun1lnTxcrOjw==
X-Google-Smtp-Source: AGHT+IFbBwQ7wgzWcvdRkcD2dDFtT5vS7NcT2PbTRbar2xtO6xogPVONIAXsMoLX/la1Mp6NC7NwWjyJ6lYk
X-Received: by 2002:a05:6e02:168c:b0:3d0:164e:958 with SMTP id
 e9e14a558f8ab-3d04f962480mr31506665ab.17.1738770969411; 
 Wed, 05 Feb 2025 07:56:09 -0800 (PST)
Received: from postal.iol.unh.edu (postal.iol.unh.edu.
 [2606:4100:3880:1234::84]) by smtp-relay.gmail.com with ESMTPS id
 e9e14a558f8ab-3d010ab0f4bsm9028245ab.16.2025.02.05.07.56.09
 (version=TLS1_2 cipher=ECDHE-ECDSA-AES128-GCM-SHA256 bits=128/128);
 Wed, 05 Feb 2025 07:56:09 -0800 (PST)
X-Relaying-Domain: iol.unh.edu
Date: Wed, 05 Feb 2025 07:56:09 -0800 (PST)
Message-ID: <67a38a19.050a0220.25d564.9c14SMTPIN_ADDED_MISSING@mx.google.com>
Received: from [172.17.0.5] (unknown [172.18.0.217])
 by postal.iol.unh.edu (Postfix) with ESMTP id DD6C16052471;
 Wed,  5 Feb 2025 10:56:08 -0500 (EST)
Subject: |SUCCESS| pw150932-150965 [PATCH] [v2,34/34] net/ntnic: remove tag E
From: dpdklab@iol.unh.edu
To: Test Report <test-report@dpdk.org>
Cc: dpdk-test-reports@iol.unh.edu
In-Reply-To: <20250205104548.1533554-35-sil-plv@napatech.com>
References: <20250205104548.1533554-35-sil-plv@napatech.com>
Content-Type: text/plain
X-BeenThere: test-report@dpdk.org
X-Mailman-Version: 2.1.29
Precedence: list
List-Id: automatic DPDK test reports <test-report.dpdk.org>
List-Unsubscribe: <https://mails.dpdk.org/options/test-report>,
 <mailto:test-report-request@dpdk.org?subject=unsubscribe>
List-Archive: <http://mails.dpdk.org/archives/test-report/>
List-Post: <mailto:test-report@dpdk.org>
List-Help: <mailto:test-report-request@dpdk.org?subject=help>
List-Subscribe: <https://mails.dpdk.org/listinfo/test-report>,
 <mailto:test-report-request@dpdk.org?subject=subscribe>
Errors-To: test-report-bounces@dpdk.org

Test-Label: iol-compile-amd64-testing
Test-Status: SUCCESS
http://dpdk.org/patch/150965

_Testing PASS_

Submitter: Serhii Iliushyk <sil-plv@napatech.com>
Date: Wednesday, February 05 2025 10:45:43 
DPDK git baseline: Repo:dpdk
  Branch: master
  CommitID:dc4ce7c2538b713e16887eb598da309bc7b4d528

150932-150965 --> testing pass

Upstream job id: Windows-Compile-DPDK-Native#26443

Test environment and result as below:

+---------------------+--------------------+-------------------+-------------------------+----------------------+
|     Environment     | dpdk_meson_compile | dpdk_msvc_compile | dpdk_llvm_clang_compile | dpdk_mingw64_compile |
+=====================+====================+===================+=========================+======================+
| FreeBSD 13.4        | PASS               | SKIPPED           | SKIPPED                 | SKIPPED              |
+---------------------+--------------------+-------------------+-------------------------+----------------------+
| FreeBSD 14.2        | PASS               | SKIPPED           | SKIPPED                 | SKIPPED              |
+---------------------+--------------------+-------------------+-------------------------+----------------------+
| Windows Server 2022 | SKIPPED            | PASS              | PASS                    | PASS                 |
+---------------------+--------------------+-------------------+-------------------------+----------------------+


FreeBSD 13.4
	Kernel: 13.4-RELEASE-p1
	Compiler: clang 18.1.6

FreeBSD 14.2
	Kernel: 14.2-RELEASE
	Compiler: clang 18.1.6

Windows Server 2022
	Kernel: 10.0.20348.2031
	Compiler: clang 15.0.7, gcc 14.1.0 (MinGW), and MSVC VS 19.39.33521

To view detailed results, visit:
https://lab.dpdk.org/results/dashboard/patchsets/32496/

UNH-IOL DPDK Community Lab

To manage your email subscriptions, visit: 
https://lab.dpdk.org/results/dashboard/preferences/subscriptions/