From mboxrd@z Thu Jan 1 00:00:00 1970 Return-Path: Received: from mails.dpdk.org (mails.dpdk.org [217.70.189.124]) by inbox.dpdk.org (Postfix) with ESMTP id EBF234619F for ; Wed, 5 Feb 2025 17:00:07 +0100 (CET) Received: from mails.dpdk.org (localhost [127.0.0.1]) by mails.dpdk.org (Postfix) with ESMTP id B5EF8402CE; Wed, 5 Feb 2025 17:00:07 +0100 (CET) Received: from mail-io1-f97.google.com (mail-io1-f97.google.com [209.85.166.97]) by mails.dpdk.org (Postfix) with ESMTP id 1BF6340270 for ; Wed, 5 Feb 2025 17:00:07 +0100 (CET) Received: by mail-io1-f97.google.com with SMTP id ca18e2360f4ac-844ee166150so167150439f.2 for ; Wed, 05 Feb 2025 08:00:07 -0800 (PST) DKIM-Signature: v=1; a=rsa-sha256; c=relaxed/relaxed; d=iol.unh.edu; s=unh-iol; t=1738771206; x=1739376006; darn=dpdk.org; h=references:in-reply-to:cc:to:from:subject:message-id:date:from:to :cc:subject:date:message-id:reply-to; bh=zr6X2sZ4etjiQjbTHFJqmzHeQhu1HaCVPZN99kRZQmE=; b=BqN7cNeE9hbkEgKMfgqtobtFQ4KHZXof+9IHMOToQzBP1wKkI3EFldd0jsUnxQZME/ 2ZgqO9zfrwBlDdC1eZEdYwqSL2NkMLo5bN6x681XS0nRgYZ8TIpIWRnqKV1bXjxMyX// lnwf7gLlmLVRoKlz/gE7vUxi3iklIYogQHWpQ= X-Google-DKIM-Signature: v=1; a=rsa-sha256; c=relaxed/relaxed; d=1e100.net; s=20230601; t=1738771206; x=1739376006; h=references:in-reply-to:cc:to:from:subject:message-id:date :x-gm-message-state:from:to:cc:subject:date:message-id:reply-to; bh=zr6X2sZ4etjiQjbTHFJqmzHeQhu1HaCVPZN99kRZQmE=; b=mQUgckPJ7nDQ9v2cElXPY27qdf2rdTk2hYvM41KJDkGxv64gPA+ZxuEIjhJ6l6ZrN/ W1iUTxKBsHv5qV/bV2x1QnsrrXgloaNN+QNGWKcuYRm4DAsCgwo5dBZZj+t0f6CXdUEK WV96Hnsk2zJYKLabmry+xGe04slBG7+2PMEyQ70F0jKz2DYC7MvlksgWwr4ZuD31RgOG fZ+6Zd/aVERweJJAR9kqmO3ci6R3SkO7QZClmfykqYMaal9YgK9zkw8ix0SHbOlJOYpJ HxFxkNqrmTsJiVI/vN5EP6JORrFuETrqWP0yYxDDGHPhUAjpqmAyBFADUcyuhy83S+KU CrrQ== X-Gm-Message-State: AOJu0YwNsZy1bzEQmrTDRH5WpsD3V0QyAGkPktVQGPLKQ3edmOGceFNy TYF4ig2yGWjB1dYnZFQ2s9+CJ4TIsgF8VzwBkYm1bgvvnXASWr0M8TVSCyGzglSfYS5tsTgeOqS ZZHX0Ponhh62cudznixjifWEgPnNjztlSnI8L+eBp X-Gm-Gg: ASbGncvfXNVR8eTxJyTNDHqiuQEpcUxqTQHGf4CEUHb0JcPFurXDw79B3WPqxUXjY+S E+Nni2xKknlqj3zks17f2OLRarA3t0E53UZI+NWQmCeVZnTu9uA/LI0ecyMD//3JlIQZeodAyI5 uMlmvbyHsrhDp/HPrEIZ5ulIXEB/EZ39XoVsYdVTPnFq5lc/AK0fqq88XmHZhS/MSWQt8/kpEJJ SrSWiaoB8/LDkuTm3K4WsQw29zLLhnmFXVV5jlJT/ydSPBmTj3BzES9yoehATJeR8+mQjStlZKj DQp3Y2UwrHvaX8UPP/Zw/ylcGxSKqQ== X-Google-Smtp-Source: AGHT+IEozXC1Q1lhimmP+jGTGTE0iBet1V1DGR2iMl3UrNnditEqfwVFU0RP0xrWGEBa4qjWtKxKTadb3ahs X-Received: by 2002:a92:ca0a:0:b0:3cf:cf25:ec83 with SMTP id e9e14a558f8ab-3d04f45f2demr21058355ab.11.1738771206316; Wed, 05 Feb 2025 08:00:06 -0800 (PST) Received: from postal.iol.unh.edu (postal.iol.unh.edu. [132.177.123.84]) by smtp-relay.gmail.com with ESMTPS id 8926c6da1cb9f-4ec7469d85csm821112173.55.2025.02.05.08.00.06 (version=TLS1_2 cipher=ECDHE-ECDSA-AES128-GCM-SHA256 bits=128/128); Wed, 05 Feb 2025 08:00:06 -0800 (PST) X-Relaying-Domain: iol.unh.edu Date: Wed, 05 Feb 2025 08:00:06 -0800 (PST) Message-ID: <67a38b06.050a0220.191309.6d71SMTPIN_ADDED_MISSING@mx.google.com> Received: from [172.17.0.5] (unknown [172.18.0.217]) by postal.iol.unh.edu (Postfix) with ESMTP id E05856052471; Wed, 5 Feb 2025 11:00:04 -0500 (EST) Subject: |SUCCESS| pw150865 [PATCH] [RFC] ci: Add support for Cirrus-CI servi From: dpdklab@iol.unh.edu To: Test Report Cc: dpdk-test-reports@iol.unh.edu In-Reply-To: <20250204160739.1603197-1-aconole@redhat.com> References: <20250204160739.1603197-1-aconole@redhat.com> Content-Type: text/plain X-BeenThere: test-report@dpdk.org X-Mailman-Version: 2.1.29 Precedence: list List-Id: automatic DPDK test reports List-Unsubscribe: , List-Archive: List-Post: List-Help: List-Subscribe: , Errors-To: test-report-bounces@dpdk.org Test-Label: iol-unit-arm64-testing Test-Status: SUCCESS http://dpdk.org/patch/150865 _Testing PASS_ Submitter: Aaron Conole Date: Tuesday, February 04 2025 16:07:39 DPDK git baseline: Repo:dpdk Branch: master CommitID:dc4ce7c2538b713e16887eb598da309bc7b4d528 150865 --> testing pass Upstream job id: Aarch32-Unit-Test#5190 Test environment and result as below: +-----------------------------+----------------+------------------------------+---------------------------+--------------+ | Environment | dpdk_unit_test | cryptodev_sw_snow3g_autotest | cryptodev_sw_zuc_autotest | lpm_autotest | +=============================+================+==============================+===========================+==============+ | Debian 12 (arm) | PASS | PASS | PASS | SKIPPED | +-----------------------------+----------------+------------------------------+---------------------------+--------------+ | CentOS Stream 9 (ARM) | PASS | SKIPPED | SKIPPED | SKIPPED | +-----------------------------+----------------+------------------------------+---------------------------+--------------+ | Debian 11 (Buster) (ARM) | PASS | SKIPPED | SKIPPED | SKIPPED | +-----------------------------+----------------+------------------------------+---------------------------+--------------+ | Fedora 41 (ARM Clang) | PASS | SKIPPED | SKIPPED | SKIPPED | +-----------------------------+----------------+------------------------------+---------------------------+--------------+ | Fedora 41 (ARM) | PASS | SKIPPED | SKIPPED | SKIPPED | +-----------------------------+----------------+------------------------------+---------------------------+--------------+ | RHEL9 (ARM) | PASS | SKIPPED | SKIPPED | SKIPPED | +-----------------------------+----------------+------------------------------+---------------------------+--------------+ | Fedora 40 (ARM) | PASS | SKIPPED | SKIPPED | SKIPPED | +-----------------------------+----------------+------------------------------+---------------------------+--------------+ | Ubuntu 24.04 (ARM) | PASS | SKIPPED | SKIPPED | SKIPPED | +-----------------------------+----------------+------------------------------+---------------------------+--------------+ | Fedora 40 (ARM Clang) | PASS | SKIPPED | SKIPPED | SKIPPED | +-----------------------------+----------------+------------------------------+---------------------------+--------------+ | Ubuntu 22.04 (ARM) | PASS | SKIPPED | SKIPPED | SKIPPED | +-----------------------------+----------------+------------------------------+---------------------------+--------------+ | Ubuntu 20.04 (ARM) | PASS | SKIPPED | SKIPPED | SKIPPED | +-----------------------------+----------------+------------------------------+---------------------------+--------------+ | 32-bit Ubuntu 22.04.4 (ARM) | PASS | SKIPPED | SKIPPED | SKIPPED | +-----------------------------+----------------+------------------------------+---------------------------+--------------+ | Ubuntu 20.04 ARM SVE | SKIPPED | SKIPPED | SKIPPED | PASS | +-----------------------------+----------------+------------------------------+---------------------------+--------------+ Debian 12 (arm) Kernel: Depends on container host Compiler: gcc (Debian 12.2.0-14) 12.2.0 CentOS Stream 9 (ARM) Kernel: Depends on container host Compiler: gcc 11.5.0 20240719 (Red Hat 11.5.0-2) Debian 11 (Buster) (ARM) Kernel: Depends on container host Compiler: gcc (Debian 10.2.1-6) 10.2.1 20210110 Fedora 41 (ARM Clang) Kernel: Depends on container host Compiler: clang 19.1.5 (Fedora 19.1.5-1.fc41) Fedora 41 (ARM) Kernel: Depends on container host Compiler: gcc 14.2.1 20240912 (Red Hat 14.2.1-3) RHEL9 (ARM) Kernel: Depends on container host Compiler: gcc 11.5.0 20240719 (Red Hat 11.5.0-2) Fedora 40 (ARM) Kernel: Depends on container host Compiler: gcc 14.2.1 20240912 (Red Hat 14.2.1-3) Ubuntu 24.04 (ARM) Kernel: Depends on container host Compiler: gcc (Ubuntu 13.3.0-6ubuntu2~24.04) 13.3.0 Fedora 40 (ARM Clang) Kernel: Depends on container host Compiler: clang 18.1.8 (Fedora 18.1.8-1.fc40) Ubuntu 22.04 (ARM) Kernel: Depends on container host Compiler: gcc (Ubuntu 11.4.0-1ubuntu1~22.04) 11.4.0 Ubuntu 20.04 (ARM) Kernel: Depends on container host Compiler: gcc (Ubuntu 9.4.0-1ubuntu1~20.04.2) 9.4.0 32-bit Ubuntu 22.04.4 (ARM) Kernel: 5.15.83+ aarch64 Compiler: gcc (Ubuntu 11.4.0-1ubuntu1~22.04) 11.4.0 Ubuntu 20.04 ARM SVE Kernel: Depends on container host Compiler: gcc (Ubuntu 10.5.0-1ubuntu1~20.04) 10.5.0 To view detailed results, visit: https://lab.dpdk.org/results/dashboard/patchsets/32488/ UNH-IOL DPDK Community Lab To manage your email subscriptions, visit: https://lab.dpdk.org/results/dashboard/preferences/subscriptions/