From mboxrd@z Thu Jan 1 00:00:00 1970 Return-Path: Received: from mails.dpdk.org (mails.dpdk.org [217.70.189.124]) by inbox.dpdk.org (Postfix) with ESMTP id EC7654619F for ; Wed, 5 Feb 2025 17:01:07 +0100 (CET) Received: from mails.dpdk.org (localhost [127.0.0.1]) by mails.dpdk.org (Postfix) with ESMTP id E617B402CE; Wed, 5 Feb 2025 17:01:07 +0100 (CET) Received: from mail-yw1-f227.google.com (mail-yw1-f227.google.com [209.85.128.227]) by mails.dpdk.org (Postfix) with ESMTP id 7712B40270 for ; Wed, 5 Feb 2025 17:01:06 +0100 (CET) Received: by mail-yw1-f227.google.com with SMTP id 00721157ae682-6efc58fae20so50594207b3.0 for ; Wed, 05 Feb 2025 08:01:06 -0800 (PST) DKIM-Signature: v=1; a=rsa-sha256; c=relaxed/relaxed; d=iol.unh.edu; s=unh-iol; t=1738771266; x=1739376066; darn=dpdk.org; h=references:in-reply-to:cc:to:from:subject:message-id:date:from:to :cc:subject:date:message-id:reply-to; bh=Kv6pGKzHCdQakteEiGzfgsR8cnYLdi8JdfGk4m4FhN8=; b=a0jsPli6KVdlMx7OLWqE4GKicXCV/oDIAxRHqtWnMEHjkOhJRT+82yDfQXjBeu4vjP FV6KcjrdO3axRI+Oec8FMYNRJZ8yf7RX7u9BoTk2p0VGWAN1gQNP/VzwRBuB9/f0VzTg kf6aV1/IZqpFAmuiLEjH2bh6kVgjSrd237a5Y= X-Google-DKIM-Signature: v=1; a=rsa-sha256; c=relaxed/relaxed; d=1e100.net; s=20230601; t=1738771266; x=1739376066; h=references:in-reply-to:cc:to:from:subject:message-id:date :x-gm-message-state:from:to:cc:subject:date:message-id:reply-to; bh=Kv6pGKzHCdQakteEiGzfgsR8cnYLdi8JdfGk4m4FhN8=; b=vEldWBpcAWraP1pMi0+22V00wqxnaCwnwmOWN1QpnFTmXCajhDGvssb8nLQG8Nrvqr HRcGMijcO62MsSMU9kuzDKKpYgal/tBZhjCz2MErIQqrl8Kj9XWgZicULQOodKGQ4Ktq yjOAnIltpWquhjRQfqQjg08WCtZDsHg+XXD2rDqpq7bQz5a7MQq5ut8G3PYkYJNqgdFx qZxG2mIUeC+TE5WOOlAzqb3CVJ7fGVZKi564RBJTvKX3xqWBQPNDajMkxXcsIAuB05yd EJzA3xZbyt9W3qeiygLcTDdLc50yEnbGr6zwRe7+rNST52CvvXGLljcAksn8pydu+l/1 pUmg== X-Gm-Message-State: AOJu0Yx6oa3SRK8sRuSGbKK95fDMtLQEwVcouxRujK0Eah8wnohMrK8h CSan6eggMloKJTWmqscFZ2eZxQYcD6ft+inV9a5hzh/TM5gOrQSupHksEs1ycfQzmuf1RLbsOu2 FENd1viVubcAPp6jn3mloQ/vLsahZ07h/tIf4G4HU X-Gm-Gg: ASbGncsrw9Ut5KArLNa2dXQGgzer955f0gJCjtfIm7b1R1aPHhN3sbG8Y8kIXXazPEd LQv565fsfjg/xB9XVqbg46Xblh2RmKgP8y62p+Hslnt4yjoLigD/EZ40boBZTWAp0NRfoTh67CL uIA4dpvfmlXbaBKXhyw97A35FsGLlfHMqwk+GEtKKGEWq9puXwDtmPcmFwXbD5B+Z09FRrmthJG BzwmgZBlgGUVZDMt10twfLLkGEUuFW+JqdMfs28ir4sBhVsHiMrnvHa0o9lrQ6naOa/gXV7lXZe KHGY1SKio1edRA10g/c7NVu8hvwT9A== X-Google-Smtp-Source: AGHT+IEUqGP4WLJWvZahDQwHr0rHrtpqA7i+7KMYoZbymFZzQ/gpyuNw6BQ59256qC6TIkxXWRGn2MN/WSbt X-Received: by 2002:a05:690c:6309:b0:6f9:760b:2ed1 with SMTP id 00721157ae682-6f989eb7232mr30864007b3.12.1738771265518; Wed, 05 Feb 2025 08:01:05 -0800 (PST) Received: from postal.iol.unh.edu (postal.iol.unh.edu. [132.177.123.84]) by smtp-relay.gmail.com with ESMTPS id 00721157ae682-6f97e28c4c7sm1411337b3.49.2025.02.05.08.01.05 (version=TLS1_2 cipher=ECDHE-ECDSA-AES128-GCM-SHA256 bits=128/128); Wed, 05 Feb 2025 08:01:05 -0800 (PST) X-Relaying-Domain: iol.unh.edu Date: Wed, 05 Feb 2025 08:01:05 -0800 (PST) Message-ID: <67a38b41.050a0220.1f7ce0.6576SMTPIN_ADDED_MISSING@mx.google.com> Received: from [172.17.0.4] (unknown [172.18.0.217]) by postal.iol.unh.edu (Postfix) with ESMTP id 276296052471; Wed, 5 Feb 2025 11:01:05 -0500 (EST) Subject: |SUCCESS| pw150966-150969 [PATCH] [v4,4/4] net/intel: allow building From: dpdklab@iol.unh.edu To: Test Report Cc: dpdk-test-reports@iol.unh.edu In-Reply-To: <20250205115533.2746196-5-bruce.richardson@intel.com> References: <20250205115533.2746196-5-bruce.richardson@intel.com> Content-Type: text/plain X-BeenThere: test-report@dpdk.org X-Mailman-Version: 2.1.29 Precedence: list List-Id: automatic DPDK test reports List-Unsubscribe: , List-Archive: List-Post: List-Help: List-Subscribe: , Errors-To: test-report-bounces@dpdk.org Test-Label: iol-compile-amd64-testing Test-Status: SUCCESS http://dpdk.org/patch/150969 _Testing PASS_ Submitter: Bruce Richardson Date: Wednesday, February 05 2025 11:55:31 DPDK git baseline: Repo:dpdk Branch: master CommitID:595535be66b103f7ce3ba61939b8013032987404 150966-150969 --> testing pass Upstream job id: Windows-Compile-DPDK-Native#26444 Test environment and result as below: +---------------------+-------------------+--------------------+-------------------------+ | Environment | dpdk_msvc_compile | dpdk_meson_compile | dpdk_llvm_clang_compile | +=====================+===================+====================+=========================+ | Windows Server 2022 | PASS | SKIPPED | PASS | +---------------------+-------------------+--------------------+-------------------------+ | FreeBSD 13.4 | SKIPPED | PASS | SKIPPED | +---------------------+-------------------+--------------------+-------------------------+ | FreeBSD 14.2 | SKIPPED | PASS | SKIPPED | +---------------------+-------------------+--------------------+-------------------------+ Windows Server 2022 Kernel: 10.0.20348.2031 Compiler: clang 15.0.7, gcc 14.1.0 (MinGW), and MSVC VS 19.39.33521 FreeBSD 13.4 Kernel: 13.4-RELEASE-p1 Compiler: clang 18.1.6 FreeBSD 14.2 Kernel: 14.2-RELEASE Compiler: clang 18.1.6 To view detailed results, visit: https://lab.dpdk.org/results/dashboard/patchsets/32497/ UNH-IOL DPDK Community Lab To manage your email subscriptions, visit: https://lab.dpdk.org/results/dashboard/preferences/subscriptions/