From mboxrd@z Thu Jan 1 00:00:00 1970 Return-Path: Received: from mails.dpdk.org (mails.dpdk.org [217.70.189.124]) by inbox.dpdk.org (Postfix) with ESMTP id 8F8364619F for ; Wed, 5 Feb 2025 17:06:29 +0100 (CET) Received: from mails.dpdk.org (localhost [127.0.0.1]) by mails.dpdk.org (Postfix) with ESMTP id 5E84240289; Wed, 5 Feb 2025 17:06:29 +0100 (CET) Received: from mail-yw1-f225.google.com (mail-yw1-f225.google.com [209.85.128.225]) by mails.dpdk.org (Postfix) with ESMTP id 54AC640270 for ; Wed, 5 Feb 2025 17:06:28 +0100 (CET) Received: by mail-yw1-f225.google.com with SMTP id 00721157ae682-6ef9b8b4f13so48322247b3.2 for ; Wed, 05 Feb 2025 08:06:28 -0800 (PST) DKIM-Signature: v=1; a=rsa-sha256; c=relaxed/relaxed; d=iol.unh.edu; s=unh-iol; t=1738771587; x=1739376387; darn=dpdk.org; h=references:in-reply-to:cc:to:from:subject:message-id:date:from:to :cc:subject:date:message-id:reply-to; bh=HNUhqLrCddXa7oKhD9jDzhy0iLludi3XYdCHBCegzZA=; b=LMsvCmUpkOE09aHiSwNt8+4qT+mCMGBoCD/WnA9ySdZB0RZxfqO6M24XbBx0XDp9ee Z+38Kc/B+MyvA2DF6aTGjoK3pIxN+Uyefju6dJn4izniN7I6XwK9BbReHgVtQTUSYdqE ptNpykmUrHF8NI0g/Zmy/suEn/BwdRNU9bnqI= X-Google-DKIM-Signature: v=1; a=rsa-sha256; c=relaxed/relaxed; d=1e100.net; s=20230601; t=1738771587; x=1739376387; h=references:in-reply-to:cc:to:from:subject:message-id:date :x-gm-message-state:from:to:cc:subject:date:message-id:reply-to; bh=HNUhqLrCddXa7oKhD9jDzhy0iLludi3XYdCHBCegzZA=; b=Q4L+WVy1W6boJ8gXJL3C27my9F02d5bjAM1R7/YdIW9+t50xz9FhTLtPXl8gMOuir/ eQbkweuZuK5wzsx2lck7QuqW2w7blk2IR3hNd7GkvK+7myiSZjj2hAEsWORakgrC8BPs Y3CBLqZ7Y+Z9J0/VsnMAzsP+6NwiwKefWAVyukMKOri390/UPnF/XjnhAWvbpIVj30L2 lkCwahCVB67rwBwCEiAMy8khhFjcXdB4dWwX0yfHhdLtnxXIlXJikv/p+6TrffLYP43t tNKEJpzwflV0qnrUms8a1Es9DMmKfksOxSSrEfug2jWssMxp8GYAtFpp9dpZ3iC+ErqR MvUw== X-Gm-Message-State: AOJu0Yxwj8yW1nZyE1e5uvaxeU5o8nljtEgEZGySzlXs7Aq/aOMozrFx E4EQq0+u0zfwbO8pY9czxKf3aiLovJzwrYCsSb8KNy8sDdz5c1AdI636iut73MlTJ6t5XE9DL01 u9xG2XBcbNWqDI4iRtuJKzusOPd5tYeBsvzxn+7nuu07bPrrFuM3utI8C X-Gm-Gg: ASbGncsLq17pkdFt1Ti23gRbycNZUwfJGS9zFWxv+32/dmprS1yMqD/WWirv77IPbXW nNzWYaZ3HnYPDWfPS4n4Dp3u8F2E5ToYCpMc/RDDAt56sfOIf70ybU7syt+DFA0fJswrXRGnZK2 W52118j5RH1ELNrVSgcKwBcal7xzVWoUVpDoTAn2G3OxriclgOVMmCpf+F5Cp+yd+hIg+v6GHpZ UeIQmDCuv8I06vU9l+V0t7kGZ9fWGSK+16uq0RMkUdx+yPDE3n9DNDHrcIcPze3Xu01Hd9oaTYi 1NevmWaLJmYjvKe/xNtAscLyqNABr5jLJdR66whriw== X-Google-Smtp-Source: AGHT+IH8Is3OP8Vq4TdTWdJ+BlbfRyOXIePnX0n4elE47qv3r4mxI4EUFFA0DZwCvpfVGrVnLXJqFSMPnIl5 X-Received: by 2002:a05:690c:6104:b0:6f6:b646:4f34 with SMTP id 00721157ae682-6f989f62f57mr30392957b3.30.1738771587566; Wed, 05 Feb 2025 08:06:27 -0800 (PST) Received: from postal.iol.unh.edu (postal.iol.unh.edu. [2606:4100:3880:1234::84]) by smtp-relay.gmail.com with ESMTPS id 00721157ae682-6f8c463bd86sm7248007b3.18.2025.02.05.08.06.27 (version=TLS1_2 cipher=ECDHE-ECDSA-AES128-GCM-SHA256 bits=128/128); Wed, 05 Feb 2025 08:06:27 -0800 (PST) X-Relaying-Domain: iol.unh.edu Date: Wed, 05 Feb 2025 08:06:27 -0800 (PST) Message-ID: <67a38c83.810a0220.2c9b32.0776SMTPIN_ADDED_MISSING@mx.google.com> Received: from [172.21.0.5] (unknown [172.18.0.240]) by postal.iol.unh.edu (Postfix) with ESMTP id 27E266052471; Wed, 5 Feb 2025 11:06:27 -0500 (EST) Subject: |SUCCESS| pw150966-150969 [PATCH] [v4,4/4] net/intel: allow building From: dpdklab@iol.unh.edu To: Test Report Cc: dpdk-test-reports@iol.unh.edu In-Reply-To: <20250205115533.2746196-5-bruce.richardson@intel.com> References: <20250205115533.2746196-5-bruce.richardson@intel.com> Content-Type: text/plain X-BeenThere: test-report@dpdk.org X-Mailman-Version: 2.1.29 Precedence: list List-Id: automatic DPDK test reports List-Unsubscribe: , List-Archive: List-Post: List-Help: List-Subscribe: , Errors-To: test-report-bounces@dpdk.org Test-Label: iol-compile-amd64-testing Test-Status: SUCCESS http://dpdk.org/patch/150969 _Testing PASS_ Submitter: Bruce Richardson Date: Wednesday, February 05 2025 11:55:31 DPDK git baseline: Repo:dpdk Branch: master CommitID:595535be66b103f7ce3ba61939b8013032987404 150966-150969 --> testing pass Upstream job id: Windows-Compile-DPDK-Native#26445 Test environment and result as below: +---------------------+-------------------+--------------------+-------------------------+----------------------+ | Environment | dpdk_msvc_compile | dpdk_meson_compile | dpdk_llvm_clang_compile | dpdk_mingw64_compile | +=====================+===================+====================+=========================+======================+ | Windows Server 2022 | PASS | SKIPPED | PASS | PASS | +---------------------+-------------------+--------------------+-------------------------+----------------------+ | FreeBSD 13.4 | SKIPPED | PASS | SKIPPED | SKIPPED | +---------------------+-------------------+--------------------+-------------------------+----------------------+ | FreeBSD 14.2 | SKIPPED | PASS | SKIPPED | SKIPPED | +---------------------+-------------------+--------------------+-------------------------+----------------------+ Windows Server 2022 Kernel: 10.0.20348.2031 Compiler: clang 15.0.7, gcc 14.1.0 (MinGW), and MSVC VS 19.39.33521 FreeBSD 13.4 Kernel: 13.4-RELEASE-p1 Compiler: clang 18.1.6 FreeBSD 14.2 Kernel: 14.2-RELEASE Compiler: clang 18.1.6 To view detailed results, visit: https://lab.dpdk.org/results/dashboard/patchsets/32497/ UNH-IOL DPDK Community Lab To manage your email subscriptions, visit: https://lab.dpdk.org/results/dashboard/preferences/subscriptions/