From mboxrd@z Thu Jan 1 00:00:00 1970 Return-Path: Received: from mails.dpdk.org (mails.dpdk.org [217.70.189.124]) by inbox.dpdk.org (Postfix) with ESMTP id 732A04619F for ; Wed, 5 Feb 2025 17:37:56 +0100 (CET) Received: from mails.dpdk.org (localhost [127.0.0.1]) by mails.dpdk.org (Postfix) with ESMTP id 5D515402E3; Wed, 5 Feb 2025 17:37:56 +0100 (CET) Received: from mail-io1-f100.google.com (mail-io1-f100.google.com [209.85.166.100]) by mails.dpdk.org (Postfix) with ESMTP id BEEBD40289 for ; Wed, 5 Feb 2025 17:37:54 +0100 (CET) Received: by mail-io1-f100.google.com with SMTP id ca18e2360f4ac-854e5dd5cf7so44619239f.3 for ; Wed, 05 Feb 2025 08:37:54 -0800 (PST) DKIM-Signature: v=1; a=rsa-sha256; c=relaxed/relaxed; d=iol.unh.edu; s=unh-iol; t=1738773474; x=1739378274; darn=dpdk.org; h=references:in-reply-to:cc:to:from:subject:message-id:date:from:to :cc:subject:date:message-id:reply-to; bh=78dYxrZwr0Cr8pShVuN73a7UbVcLeZQhTtv3NrqZN54=; b=Gbkmsqskx+HvPv6opgQx+xO46jvALw2SepQjGUcjFYGveSHAgdNKxqME6fBakBso8S G+7n500vozX218PfhD3YGPYBpsfQhnm/zZLgwkOf6J4GLwX8NqcGT0bWp22CXYKojtEy KtgIQSqrf7EJz73ib/edo8gULnfIN60mBZhLU= X-Google-DKIM-Signature: v=1; a=rsa-sha256; c=relaxed/relaxed; d=1e100.net; s=20230601; t=1738773474; x=1739378274; h=references:in-reply-to:cc:to:from:subject:message-id:date :x-gm-message-state:from:to:cc:subject:date:message-id:reply-to; bh=78dYxrZwr0Cr8pShVuN73a7UbVcLeZQhTtv3NrqZN54=; b=Al527eHGrDUgsGXMFkDWKQGOHoABYNhWBlAX1wG0z2HzhlaT/Up90VjdQuPBaQ8wDs yT1rh8kFqwBocis1ixfk5VTshdXZ5GKaYkzAOsRsOC/lxnUX4blNw/iJ8yoxlHtXxSxI wKMF9kWpPVkeee7Zhf4wPy32Bo1krEb30ktwnzGkqup1VAYs3fOX6IZGHiUgGthGRYPA xcm+pq1j7+Bqj3y3JyU9CDOFsm9UvvyTtr6LkmyH1JM4cRXj6RJjuLW29O9a5v85CQ7Y +2Oa6GPQavjnH/sxeWlmq0vYzaDCcPLCjpzRFGr32WGXyo2cIYZsLjMKZ/JsKXobM7iX T+ug== X-Gm-Message-State: AOJu0YzdYAJD+QBqpvJHUlNgg94TzTsNCblkctxNZXoScbRGp/TjyTJ2 TIVonlu4ghlqqTur7rp7MFKNS6c8tukctOzldZ4gfFhexNNPdTg+eFCxuKETITayTNw6R36imSw gxlBHBU+yqtFNfD1bzxY+FcyFZ3T7RjXVx5SPKMWc X-Gm-Gg: ASbGncuQbp2q3Oojs17tksCpnhSdmb88FHW4LtVa13sgg8Ob8piTZymPRBqfcaT0NIz YY1+3oi0+LUBba1fQ6wJNTO3toNFmsmnBOBCfgqmMVZCk6mZ9X/g35tVgpGaZwBsovO2AJRglxO Fl98RyeWHa8zLcCIEiYD+IR+srwiXuVD/kF9QTXEJZ2yg1gtsp3XWEkUlxf6zgmo+aIfG18S130 DPRxjsVCL3xhwS3hj2MGn+e59sjszLysd4wsU/kNBlUO/E7m6G8ZFB7vKm81T/taMb3+6XY9Skr NIoiPOjuwcGl55jkB2tbHjg7VNGpmg== X-Google-Smtp-Source: AGHT+IE25B6xHJV8zEYPwr95+C8YZN7TIqwpUuo5O4Tr16fozQVUBNd2nBe1BLGrZhVqQHH4pqO+DXECnUx0 X-Received: by 2002:a05:6602:7285:b0:847:4fc0:c775 with SMTP id ca18e2360f4ac-854ea461252mr377698739f.8.1738773474060; Wed, 05 Feb 2025 08:37:54 -0800 (PST) Received: from postal.iol.unh.edu (postal.iol.unh.edu. [132.177.123.84]) by smtp-relay.gmail.com with ESMTPS id 8926c6da1cb9f-4ec7469eb36sm845182173.49.2025.02.05.08.37.53 (version=TLS1_2 cipher=ECDHE-ECDSA-AES128-GCM-SHA256 bits=128/128); Wed, 05 Feb 2025 08:37:54 -0800 (PST) X-Relaying-Domain: iol.unh.edu Date: Wed, 05 Feb 2025 08:37:54 -0800 (PST) Message-ID: <67a393e2.050a0220.320e38.8640SMTPIN_ADDED_MISSING@mx.google.com> Received: from [172.21.0.5] (unknown [172.18.0.240]) by postal.iol.unh.edu (Postfix) with ESMTP id 848EB6052471; Wed, 5 Feb 2025 11:37:53 -0500 (EST) Subject: |SUCCESS| pw150893 [PATCH] net/af_packet: fix socket close on device From: dpdklab@iol.unh.edu To: Test Report Cc: dpdk-test-reports@iol.unh.edu In-Reply-To: <20250204164508.864080-1-tudor.cornea@gmail.com> References: <20250204164508.864080-1-tudor.cornea@gmail.com> Content-Type: text/plain X-BeenThere: test-report@dpdk.org X-Mailman-Version: 2.1.29 Precedence: list List-Id: automatic DPDK test reports List-Unsubscribe: , List-Archive: List-Post: List-Help: List-Subscribe: , Errors-To: test-report-bounces@dpdk.org Test-Label: iol-unit-arm64-testing Test-Status: SUCCESS http://dpdk.org/patch/150893 _Testing PASS_ Submitter: Tudor Cornea Date: Tuesday, February 04 2025 16:45:08 DPDK git baseline: Repo:dpdk Branch: master CommitID:595535be66b103f7ce3ba61939b8013032987404 150893 --> testing pass Upstream job id: Aarch32-Unit-Test#5192 Test environment and result as below: +-----------------------------+--------------+------------------------------+---------------------------+----------------+ | Environment | lpm_autotest | cryptodev_sw_snow3g_autotest | cryptodev_sw_zuc_autotest | dpdk_unit_test | +=============================+==============+==============================+===========================+================+ | Ubuntu 20.04 ARM SVE | PASS | SKIPPED | SKIPPED | SKIPPED | +-----------------------------+--------------+------------------------------+---------------------------+----------------+ | Debian 12 (arm) | SKIPPED | PASS | PASS | PASS | +-----------------------------+--------------+------------------------------+---------------------------+----------------+ | Debian 11 (Buster) (ARM) | SKIPPED | SKIPPED | SKIPPED | PASS | +-----------------------------+--------------+------------------------------+---------------------------+----------------+ | CentOS Stream 9 (ARM) | SKIPPED | SKIPPED | SKIPPED | PASS | +-----------------------------+--------------+------------------------------+---------------------------+----------------+ | Fedora 40 (ARM Clang) | SKIPPED | SKIPPED | SKIPPED | PASS | +-----------------------------+--------------+------------------------------+---------------------------+----------------+ | Fedora 40 (ARM) | SKIPPED | SKIPPED | SKIPPED | PASS | +-----------------------------+--------------+------------------------------+---------------------------+----------------+ | Fedora 41 (ARM) | SKIPPED | SKIPPED | SKIPPED | PASS | +-----------------------------+--------------+------------------------------+---------------------------+----------------+ | RHEL9 (ARM) | SKIPPED | SKIPPED | SKIPPED | PASS | +-----------------------------+--------------+------------------------------+---------------------------+----------------+ | Fedora 41 (ARM Clang) | SKIPPED | SKIPPED | SKIPPED | PASS | +-----------------------------+--------------+------------------------------+---------------------------+----------------+ | Ubuntu 20.04 (ARM) | SKIPPED | SKIPPED | SKIPPED | PASS | +-----------------------------+--------------+------------------------------+---------------------------+----------------+ | Ubuntu 22.04 (ARM) | SKIPPED | SKIPPED | SKIPPED | PASS | +-----------------------------+--------------+------------------------------+---------------------------+----------------+ | Ubuntu 24.04 (ARM) | SKIPPED | SKIPPED | SKIPPED | PASS | +-----------------------------+--------------+------------------------------+---------------------------+----------------+ | 32-bit Ubuntu 22.04.4 (ARM) | SKIPPED | SKIPPED | SKIPPED | PASS | +-----------------------------+--------------+------------------------------+---------------------------+----------------+ Ubuntu 20.04 ARM SVE Kernel: Depends on container host Compiler: gcc (Ubuntu 10.5.0-1ubuntu1~20.04) 10.5.0 Debian 12 (arm) Kernel: Depends on container host Compiler: gcc (Debian 12.2.0-14) 12.2.0 Debian 11 (Buster) (ARM) Kernel: Depends on container host Compiler: gcc (Debian 10.2.1-6) 10.2.1 20210110 CentOS Stream 9 (ARM) Kernel: Depends on container host Compiler: gcc 11.5.0 20240719 (Red Hat 11.5.0-2) Fedora 40 (ARM Clang) Kernel: Depends on container host Compiler: clang 18.1.8 (Fedora 18.1.8-1.fc40) Fedora 40 (ARM) Kernel: Depends on container host Compiler: gcc 14.2.1 20240912 (Red Hat 14.2.1-3) Fedora 41 (ARM) Kernel: Depends on container host Compiler: gcc 14.2.1 20240912 (Red Hat 14.2.1-3) RHEL9 (ARM) Kernel: Depends on container host Compiler: gcc 11.5.0 20240719 (Red Hat 11.5.0-2) Fedora 41 (ARM Clang) Kernel: Depends on container host Compiler: clang 19.1.5 (Fedora 19.1.5-1.fc41) Ubuntu 20.04 (ARM) Kernel: Depends on container host Compiler: gcc (Ubuntu 9.4.0-1ubuntu1~20.04.2) 9.4.0 Ubuntu 22.04 (ARM) Kernel: Depends on container host Compiler: gcc (Ubuntu 11.4.0-1ubuntu1~22.04) 11.4.0 Ubuntu 24.04 (ARM) Kernel: Depends on container host Compiler: gcc (Ubuntu 13.3.0-6ubuntu2~24.04) 13.3.0 32-bit Ubuntu 22.04.4 (ARM) Kernel: 5.15.83+ aarch64 Compiler: gcc (Ubuntu 11.4.0-1ubuntu1~22.04) 11.4.0 To view detailed results, visit: https://lab.dpdk.org/results/dashboard/patchsets/32490/ UNH-IOL DPDK Community Lab To manage your email subscriptions, visit: https://lab.dpdk.org/results/dashboard/preferences/subscriptions/