From mboxrd@z Thu Jan 1 00:00:00 1970 Return-Path: Received: from mails.dpdk.org (mails.dpdk.org [217.70.189.124]) by inbox.dpdk.org (Postfix) with ESMTP id 4ACC34619F for ; Wed, 5 Feb 2025 17:59:02 +0100 (CET) Received: from mails.dpdk.org (localhost [127.0.0.1]) by mails.dpdk.org (Postfix) with ESMTP id 3F53740261; Wed, 5 Feb 2025 17:59:02 +0100 (CET) Received: from mail-oo1-f97.google.com (mail-oo1-f97.google.com [209.85.161.97]) by mails.dpdk.org (Postfix) with ESMTP id 16C8040270 for ; Wed, 5 Feb 2025 17:59:01 +0100 (CET) Received: by mail-oo1-f97.google.com with SMTP id 006d021491bc7-5f2efd94787so4895610eaf.2 for ; Wed, 05 Feb 2025 08:59:01 -0800 (PST) DKIM-Signature: v=1; a=rsa-sha256; c=relaxed/relaxed; d=iol.unh.edu; s=unh-iol; t=1738774740; x=1739379540; darn=dpdk.org; h=references:in-reply-to:cc:to:from:subject:message-id:date:from:to :cc:subject:date:message-id:reply-to; bh=1h4IIacwO8o6nBqFGF4CV455VzC6eZMZFziJ75ctl3c=; b=C6JYV61MwzXAfqDr9fF9cBNTZ4WVbxEUSD5CzKHAApFStrHpI4gBW4EQPje5XrydtR o7snwvpzHP+hK3vLxUP8oYQsTX+jYxizK88AZSMdnS+2H9MwgmYuGbpJmvcvmAfsjYL3 GFbFr8iD9ob4+I6Hx9AtV1iFyDGexAmsee79Q= X-Google-DKIM-Signature: v=1; a=rsa-sha256; c=relaxed/relaxed; d=1e100.net; s=20230601; t=1738774740; x=1739379540; h=references:in-reply-to:cc:to:from:subject:message-id:date :x-gm-message-state:from:to:cc:subject:date:message-id:reply-to; bh=1h4IIacwO8o6nBqFGF4CV455VzC6eZMZFziJ75ctl3c=; b=lMELwiGB8V+Sths4soDKJMp3Xmsb4e3uFIqkLaPPg4BJ3oDkFtNR9+RZ0+XBWjNkDK ZrIGokDnyb1oU9xuQEHRlN2pQlHrUXXssP7K/v78yN3cQweRdOSYLzU3Ti6eAPQMQe9E CHQC8fRUU/iwrVlVNYcfkLp2gskzstM1vM9uN48ua7w7CbBB3Oq1bTU7mqPzB8c77Awu IojPA+arrM53zJISkwHaBwUO/3EH4ywi2F99GvUox7mf3XXBJFRnn8eg4kotWfhp8E7K +oyHOcUogR/wTncKnqmD0poWzw4WEGTpHcbfoW+rVd25TwWi7DN586DAbdgcVn/iGXWo JlkQ== X-Gm-Message-State: AOJu0YzzMJ/wv1ALLewWnAIhNvoBPDk+Hsnn4ZDiv1HI6InvcLUY0TkF i2RL3YaR1/j/xY/IJimKwDHwyXYHWqaPjw/SJ70OLjCysx/9zZcieTxaViVxqP0ck+mXony2bGa dOT4DbaSbHWVAyNUsvJ9Vqt38CEhw0Xob8/yMXTzJ X-Gm-Gg: ASbGnctkMjXJcD5kYNlKif997ywxy+xfF9QpRfJF8fEOYjzlUXYk6ypKctCfxgoYp1i GT4Y5g3Ghvqbnzn30xiUFjpIgQBYHrf3WV6IvZjalkYS7B5CUScT+1j5U6acVf+AQCIfJ1JbXuJ 3rwevsZZjOfQP8LWo29oe5sXy8Ukacz8QQKQxLZhtNKXqUlghU83tod/zNlTRAvgopIZ5d8Nwwq Ash0yDtbcjQKd06wLlD7vwdmzTHRMhp5gAb1w+Sqe+Fl7ue3liHOXLUpFgZMKoZYjDHi/ARr+MA HyM4lCh6Sb6ws09VIoCDZExs+NtrEg== X-Google-Smtp-Source: AGHT+IEKHC+sdqNbML/Q3D8+nHIu9IVRGdMi95fIsbQ4GwNlhgw/3j5JsksWTr9BM8IvyAB6yejSGhbDRMRZ X-Received: by 2002:a05:6820:208c:b0:5eb:b282:5916 with SMTP id 006d021491bc7-5fc47a44c4cmr2566131eaf.7.1738774740222; Wed, 05 Feb 2025 08:59:00 -0800 (PST) Received: from postal.iol.unh.edu (postal.iol.unh.edu. [132.177.123.84]) by smtp-relay.gmail.com with ESMTPS id 006d021491bc7-5fc104c4009sm189584eaf.9.2025.02.05.08.59.00 (version=TLS1_2 cipher=ECDHE-ECDSA-AES128-GCM-SHA256 bits=128/128); Wed, 05 Feb 2025 08:59:00 -0800 (PST) X-Relaying-Domain: iol.unh.edu Date: Wed, 05 Feb 2025 08:59:00 -0800 (PST) Message-ID: <67a398d4.050a0220.1dffd2.8173SMTPIN_ADDED_MISSING@mx.google.com> Received: from [172.17.0.5] (unknown [172.18.0.217]) by postal.iol.unh.edu (Postfix) with ESMTP id 50D2E6052471; Wed, 5 Feb 2025 11:58:59 -0500 (EST) Subject: |SUCCESS| pw150798-150804 [PATCH] [RFC,7/7] dts: revamp runtime inte From: dpdklab@iol.unh.edu To: Test Report Cc: dpdk-test-reports@iol.unh.edu In-Reply-To: <20250203151613.2436570-8-luca.vizzarro@arm.com> References: <20250203151613.2436570-8-luca.vizzarro@arm.com> Content-Type: text/plain X-BeenThere: test-report@dpdk.org X-Mailman-Version: 2.1.29 Precedence: list List-Id: automatic DPDK test reports List-Unsubscribe: , List-Archive: List-Post: List-Help: List-Subscribe: , Errors-To: test-report-bounces@dpdk.org Test-Label: iol-compile-amd64-testing Test-Status: SUCCESS http://dpdk.org/patch/150804 _Testing PASS_ Submitter: Luca Vizzarro Date: Monday, February 03 2025 15:16:12 DPDK git baseline: Repo:dpdk Branch: master CommitID:75fb46c7ade4a7efaaa02743c4aa450f75ba9468 150798-150804 --> testing pass Test environment and result as below: +---------------------+--------------------+------------------+-------------------+-------------------+----------------------+-------------------------+ | Environment | dpdk_meson_compile | dpdk_compile_ovs | dpdk_compile_spdk | dpdk_msvc_compile | dpdk_mingw64_compile | dpdk_llvm_clang_compile | +=====================+====================+==================+===================+===================+======================+=========================+ | CentOS Stream 9 | PASS | PASS | PASS | SKIPPED | SKIPPED | SKIPPED | +---------------------+--------------------+------------------+-------------------+-------------------+----------------------+-------------------------+ | Debian Bullseye | PASS | PASS | PASS | SKIPPED | SKIPPED | SKIPPED | +---------------------+--------------------+------------------+-------------------+-------------------+----------------------+-------------------------+ | Debian 12 | PASS | PASS | PASS | SKIPPED | SKIPPED | SKIPPED | +---------------------+--------------------+------------------+-------------------+-------------------+----------------------+-------------------------+ | Fedora 40 | PASS | PASS | PASS | SKIPPED | SKIPPED | SKIPPED | +---------------------+--------------------+------------------+-------------------+-------------------+----------------------+-------------------------+ | Fedora 41 (Clang) | PASS | PASS | PASS | SKIPPED | SKIPPED | SKIPPED | +---------------------+--------------------+------------------+-------------------+-------------------+----------------------+-------------------------+ | Fedora 40 (Clang) | PASS | PASS | PASS | SKIPPED | SKIPPED | SKIPPED | +---------------------+--------------------+------------------+-------------------+-------------------+----------------------+-------------------------+ | Fedora 41 | PASS | PASS | PASS | SKIPPED | SKIPPED | SKIPPED | +---------------------+--------------------+------------------+-------------------+-------------------+----------------------+-------------------------+ | RHEL8 | PASS | PASS | SKIPPED | SKIPPED | SKIPPED | SKIPPED | +---------------------+--------------------+------------------+-------------------+-------------------+----------------------+-------------------------+ | RHEL9 | PASS | PASS | SKIPPED | SKIPPED | SKIPPED | SKIPPED | +---------------------+--------------------+------------------+-------------------+-------------------+----------------------+-------------------------+ | openSUSE Leap 15 | PASS | SKIPPED | SKIPPED | SKIPPED | SKIPPED | SKIPPED | +---------------------+--------------------+------------------+-------------------+-------------------+----------------------+-------------------------+ | Ubuntu 20.04 | PASS | SKIPPED | SKIPPED | SKIPPED | SKIPPED | SKIPPED | +---------------------+--------------------+------------------+-------------------+-------------------+----------------------+-------------------------+ | Ubuntu 22.04 | PASS | PASS | PASS | SKIPPED | SKIPPED | SKIPPED | +---------------------+--------------------+------------------+-------------------+-------------------+----------------------+-------------------------+ | Ubuntu 24.04 | PASS | PASS | PASS | SKIPPED | SKIPPED | SKIPPED | +---------------------+--------------------+------------------+-------------------+-------------------+----------------------+-------------------------+ | Alpine | PASS | PASS | SKIPPED | SKIPPED | SKIPPED | SKIPPED | +---------------------+--------------------+------------------+-------------------+-------------------+----------------------+-------------------------+ | FreeBSD 13.4 | PASS | SKIPPED | SKIPPED | SKIPPED | SKIPPED | SKIPPED | +---------------------+--------------------+------------------+-------------------+-------------------+----------------------+-------------------------+ | FreeBSD 14.2 | PASS | SKIPPED | SKIPPED | SKIPPED | SKIPPED | SKIPPED | +---------------------+--------------------+------------------+-------------------+-------------------+----------------------+-------------------------+ | Windows Server 2022 | SKIPPED | SKIPPED | SKIPPED | PASS | PASS | PASS | +---------------------+--------------------+------------------+-------------------+-------------------+----------------------+-------------------------+ CentOS Stream 9 Kernel: Depends on container host Compiler: gcc 11.5.0 20240719 (Red Hat 11.5.0-2) Debian Bullseye Kernel: Depends on container host Compiler: gcc (Debian 10.2.1-6) 10.2.1 20210110 Debian 12 Kernel: Depends on container host Compiler: gcc (Debian 12.2.0-14) 12.2.0 Fedora 40 Kernel: Depends on container host Compiler: gcc 14.2.1 20240912 (Red Hat 14.2.1-3) Fedora 41 (Clang) Kernel: Depends on container host Compiler: clang 19.1.5 (Fedora 19.1.5-1.fc41) Fedora 40 (Clang) Kernel: Depends on container host Compiler: clang 18.1.8 (Fedora 18.1.8-1.fc40) Fedora 41 Kernel: Depends on container host Compiler: gcc 14.2.1 20240912 (Red Hat 14.2.1-3) RHEL8 Kernel: Depends on container host Compiler: gcc 8.5.0 20210514 (Red Hat 8.5.0-22) RHEL9 Kernel: Depends on container host Compiler: gcc 11.5.0 20240719 (Red Hat 11.5.0-2) openSUSE Leap 15 Kernel: Depends on container host Compiler: gcc (SUSE Linux) 7.5.0 Ubuntu 20.04 Kernel: Depends on container host Compiler: gcc (Ubuntu 9.4.0-1ubuntu1~20.04.2) 9.4.0 Ubuntu 22.04 Kernel: Depends on container host Compiler: gcc (Ubuntu 11.4.0-1ubuntu1~22.04) 11.4.0 Ubuntu 24.04 Kernel: Depends on container host Compiler: gcc (Ubuntu 13.3.0-6ubuntu2~24.04) 13.3.0 Alpine Kernel: Depends on container host Compiler: gcc (Alpine 14.2.0) 14.2.0 FreeBSD 13.4 Kernel: 13.4-RELEASE-p1 Compiler: clang 18.1.6 FreeBSD 14.2 Kernel: 14.2-RELEASE Compiler: clang 18.1.6 Windows Server 2022 Kernel: 10.0.20348.2031 Compiler: clang 15.0.7, gcc 14.1.0 (MinGW), and MSVC VS 19.39.33521 To view detailed results, visit: https://lab.dpdk.org/results/dashboard/patchsets/32482/ UNH-IOL DPDK Community Lab To manage your email subscriptions, visit: https://lab.dpdk.org/results/dashboard/preferences/subscriptions/