From mboxrd@z Thu Jan 1 00:00:00 1970 Return-Path: Received: from mails.dpdk.org (mails.dpdk.org [217.70.189.124]) by inbox.dpdk.org (Postfix) with ESMTP id C841F4619F for ; Wed, 5 Feb 2025 17:59:36 +0100 (CET) Received: from mails.dpdk.org (localhost [127.0.0.1]) by mails.dpdk.org (Postfix) with ESMTP id BFD7240270; Wed, 5 Feb 2025 17:59:36 +0100 (CET) Received: from mail-oa1-f100.google.com (mail-oa1-f100.google.com [209.85.160.100]) by mails.dpdk.org (Postfix) with ESMTP id 33C1740261 for ; Wed, 5 Feb 2025 17:59:35 +0100 (CET) Received: by mail-oa1-f100.google.com with SMTP id 586e51a60fabf-29fe7ff65e6so2300420fac.0 for ; Wed, 05 Feb 2025 08:59:35 -0800 (PST) DKIM-Signature: v=1; a=rsa-sha256; c=relaxed/relaxed; d=iol.unh.edu; s=unh-iol; t=1738774774; x=1739379574; darn=dpdk.org; h=cc:to:from:subject:message-id:date:from:to:cc:subject:date :message-id:reply-to; bh=i90t8kMdFNZafH4s3xsT/fPqd9UP18ke4/9XMNmR+BA=; b=ExxHg0EkhfMut/2Hv+qp6ZPWm6Qghz6FjWnhzpBgjb6jjLvZgGB6ml14zxElEhasv5 gbggaLvX6hu6yVUqw5T0s1wVIPSWsGpqSDpxHDjkKX0BqLYV/Mhtnj+JUnjOPenas0UC c/Gj4x2VDPUhzMsV/q+pp9MVJBfSxo2Lpgj/Y= X-Google-DKIM-Signature: v=1; a=rsa-sha256; c=relaxed/relaxed; d=1e100.net; s=20230601; t=1738774774; x=1739379574; h=cc:to:from:subject:message-id:date:x-gm-message-state:from:to:cc :subject:date:message-id:reply-to; bh=i90t8kMdFNZafH4s3xsT/fPqd9UP18ke4/9XMNmR+BA=; b=WJumYXxO1KABUsRELi71F6uAo+Vt4z7Tvzhb26yQqoaTtUVPhB5rbYZAsEHLDo7Rhs 9nFW3paPLByG7MAvF8EONhQndOiZWTJGo23W72UiaHDkT1Y8adDRLJ6AmG+C4WwK02or /4MO7tU4BEzJwz9xsskQtqSlANT7OfCj6fxyFtDvvXsBmu0wrh5XdiAPoAvhQ7WsqWxQ BKL7knFmfaz/fVw3u0lvfEJiKBs+PfYuCgorsxsLO7NQbg7OG6E2Py4X8ZTihQaO4jSe mllUJUGLoWolHOcgtk3+3cxCS2yoNniMh3uUkEV4SvySmePtwP8YGFvI5VVFJBV1Hzej obQQ== X-Gm-Message-State: AOJu0Yx/1xLZV/YRk0FSdTlC0PzrtI/5gWvx8LtJdcFChn/AgqF7pLo2 HeN+6A1h0R60V/acIDt9zEAyoprhUsRyHt8HfU1DOo/DkpMsPGuOiPDagBAtoTTo1xlKIrWtzO+ lJg0gpeWC8QhTEG004e9njSyPBa/z/6sab1mk7+IvV3DYofeJ X-Gm-Gg: ASbGncu9UrfnT2SDn1smJ7UgJnfEFjJyzVCRh1uF6oQozBNKal/U0wMwBXewGkc2Hxb jbs4pteLj7OLRXQcu8sKZvTQ3hGEN7j3ZpoAMkGGouKHBxu610NnJGlsl6qjanl/JbVwnRgytug /ffajRAZqMRb2pjWdqw1Xle54AuxsU1igsy6nslM/dEJC3Oqve+6YKoH4/GfreBoe1shZN3iDBA RjBOBhvq7SbX1Z/0eZTES1YJrn530Bzl/O56OtvjruRFNZT8HE4OyzfDF+pmsRCHXcskddFThOF 7GW4Qr2f+qZBdNdlDcvugX+H/qNpSm5LOn0MMjRAog== X-Google-Smtp-Source: AGHT+IHJAcncNSocedpitj/g45b3+gPkkEQrlgxbJpk5/RNrLlVbPuJn5SLrEJ7w5cbGJnDEgOMzwSe9Y1zK X-Received: by 2002:a05:6870:d608:b0:29e:49b3:c50e with SMTP id 586e51a60fabf-2b804f4e971mr2600884fac.13.1738774774550; Wed, 05 Feb 2025 08:59:34 -0800 (PST) Received: from postal.iol.unh.edu (postal.iol.unh.edu. [2606:4100:3880:1234::84]) by smtp-relay.gmail.com with ESMTPS id 586e51a60fabf-2b3561a5ef3sm975379fac.13.2025.02.05.08.59.34 (version=TLS1_2 cipher=ECDHE-ECDSA-AES128-GCM-SHA256 bits=128/128); Wed, 05 Feb 2025 08:59:34 -0800 (PST) X-Relaying-Domain: iol.unh.edu Date: Wed, 05 Feb 2025 08:59:34 -0800 (PST) Message-ID: <67a398f6.050a0220.1b7867.d1a3SMTPIN_ADDED_MISSING@mx.google.com> Received: from [172.17.0.5] (unknown [172.18.0.57]) by postal.iol.unh.edu (Postfix) with ESMTP id 0F65B6052471; Wed, 5 Feb 2025 11:59:34 -0500 (EST) Subject: |SUCCESS| [GIT MASTER] f2eea2f37a82bb73fb01d56350708f7d70e21379 From: dpdklab@iol.unh.edu To: Test Report Cc: dpdk-test-reports@iol.unh.edu, Xueming Li , Christian Ehrhardt , Kevin Traynor , Luca Boccassi Content-Type: text/plain X-BeenThere: test-report@dpdk.org X-Mailman-Version: 2.1.29 Precedence: list List-Id: automatic DPDK test reports List-Unsubscribe: , List-Archive: List-Post: List-Help: List-Subscribe: , Errors-To: test-report-bounces@dpdk.org _Testing PASS_ Branch: tags/v24.11 f2eea2f37a82bb73fb01d56350708f7d70e21379 --> testing pass Test environment and result as below: +---------------------+--------------------+------------------+-------------------+-------------------+----------------------+-------------------------+ | Environment | dpdk_meson_compile | dpdk_compile_ovs | dpdk_compile_spdk | dpdk_msvc_compile | dpdk_mingw64_compile | dpdk_llvm_clang_compile | +=====================+====================+==================+===================+===================+======================+=========================+ | CentOS Stream 9 | PASS | PASS | PASS | SKIPPED | SKIPPED | SKIPPED | +---------------------+--------------------+------------------+-------------------+-------------------+----------------------+-------------------------+ | Debian 12 | PASS | PASS | PASS | SKIPPED | SKIPPED | SKIPPED | +---------------------+--------------------+------------------+-------------------+-------------------+----------------------+-------------------------+ | Debian Bullseye | PASS | PASS | PASS | SKIPPED | SKIPPED | SKIPPED | +---------------------+--------------------+------------------+-------------------+-------------------+----------------------+-------------------------+ | openSUSE Leap 15 | PASS | SKIPPED | SKIPPED | SKIPPED | SKIPPED | SKIPPED | +---------------------+--------------------+------------------+-------------------+-------------------+----------------------+-------------------------+ | Fedora 41 (Clang) | PASS | PASS | PASS | SKIPPED | SKIPPED | SKIPPED | +---------------------+--------------------+------------------+-------------------+-------------------+----------------------+-------------------------+ | Fedora 41 | PASS | PASS | PASS | SKIPPED | SKIPPED | SKIPPED | +---------------------+--------------------+------------------+-------------------+-------------------+----------------------+-------------------------+ | Fedora 40 | PASS | PASS | PASS | SKIPPED | SKIPPED | SKIPPED | +---------------------+--------------------+------------------+-------------------+-------------------+----------------------+-------------------------+ | RHEL9 | PASS | PASS | SKIPPED | SKIPPED | SKIPPED | SKIPPED | +---------------------+--------------------+------------------+-------------------+-------------------+----------------------+-------------------------+ | Ubuntu 22.04 | PASS | PASS | PASS | SKIPPED | SKIPPED | SKIPPED | +---------------------+--------------------+------------------+-------------------+-------------------+----------------------+-------------------------+ | Ubuntu 20.04 | PASS | SKIPPED | SKIPPED | SKIPPED | SKIPPED | SKIPPED | +---------------------+--------------------+------------------+-------------------+-------------------+----------------------+-------------------------+ | RHEL8 | PASS | PASS | SKIPPED | SKIPPED | SKIPPED | SKIPPED | +---------------------+--------------------+------------------+-------------------+-------------------+----------------------+-------------------------+ | Ubuntu 24.04 | PASS | PASS | PASS | SKIPPED | SKIPPED | SKIPPED | +---------------------+--------------------+------------------+-------------------+-------------------+----------------------+-------------------------+ | Alpine | PASS | PASS | SKIPPED | SKIPPED | SKIPPED | SKIPPED | +---------------------+--------------------+------------------+-------------------+-------------------+----------------------+-------------------------+ | FreeBSD 13.4 | PASS | SKIPPED | SKIPPED | SKIPPED | SKIPPED | SKIPPED | +---------------------+--------------------+------------------+-------------------+-------------------+----------------------+-------------------------+ | FreeBSD 14.2 | PASS | SKIPPED | SKIPPED | SKIPPED | SKIPPED | SKIPPED | +---------------------+--------------------+------------------+-------------------+-------------------+----------------------+-------------------------+ | Fedora 40 (Clang) | PASS | PASS | PASS | SKIPPED | SKIPPED | SKIPPED | +---------------------+--------------------+------------------+-------------------+-------------------+----------------------+-------------------------+ | Windows Server 2022 | SKIPPED | SKIPPED | SKIPPED | PASS | PASS | PASS | +---------------------+--------------------+------------------+-------------------+-------------------+----------------------+-------------------------+ CentOS Stream 9 Kernel: Depends on container host Compiler: gcc 11.5.0 20240719 (Red Hat 11.5.0-2) Debian 12 Kernel: Depends on container host Compiler: gcc (Debian 12.2.0-14) 12.2.0 Debian Bullseye Kernel: Depends on container host Compiler: gcc (Debian 10.2.1-6) 10.2.1 20210110 openSUSE Leap 15 Kernel: Depends on container host Compiler: gcc (SUSE Linux) 7.5.0 Fedora 41 (Clang) Kernel: Depends on container host Compiler: clang 19.1.5 (Fedora 19.1.5-1.fc41) Fedora 41 Kernel: Depends on container host Compiler: gcc 14.2.1 20240912 (Red Hat 14.2.1-3) Fedora 40 Kernel: Depends on container host Compiler: gcc 14.2.1 20240912 (Red Hat 14.2.1-3) RHEL9 Kernel: Depends on container host Compiler: gcc 11.5.0 20240719 (Red Hat 11.5.0-2) Ubuntu 22.04 Kernel: Depends on container host Compiler: gcc (Ubuntu 11.4.0-1ubuntu1~22.04) 11.4.0 Ubuntu 20.04 Kernel: Depends on container host Compiler: gcc (Ubuntu 9.4.0-1ubuntu1~20.04.2) 9.4.0 RHEL8 Kernel: Depends on container host Compiler: gcc 8.5.0 20210514 (Red Hat 8.5.0-22) Ubuntu 24.04 Kernel: Depends on container host Compiler: gcc (Ubuntu 13.3.0-6ubuntu2~24.04) 13.3.0 Alpine Kernel: Depends on container host Compiler: gcc (Alpine 14.2.0) 14.2.0 FreeBSD 13.4 Kernel: 13.4-RELEASE-p1 Compiler: clang 18.1.6 FreeBSD 14.2 Kernel: 14.2-RELEASE Compiler: clang 18.1.6 Fedora 40 (Clang) Kernel: Depends on container host Compiler: clang 18.1.8 (Fedora 18.1.8-1.fc40) Windows Server 2022 Kernel: 10.0.20348.2031 Compiler: clang 15.0.7, gcc 14.1.0 (MinGW), and MSVC VS 19.39.33521 To view detailed results, visit: https://lab.dpdk.org/results/dashboard/tarballs/32421/ UNH-IOL DPDK Community Lab To manage your email subscriptions, visit: https://lab.dpdk.org/results/dashboard/preferences/subscriptions/