From mboxrd@z Thu Jan 1 00:00:00 1970 Return-Path: Received: from mails.dpdk.org (mails.dpdk.org [217.70.189.124]) by inbox.dpdk.org (Postfix) with ESMTP id 1A43D4619F for ; Wed, 5 Feb 2025 17:59:55 +0100 (CET) Received: from mails.dpdk.org (localhost [127.0.0.1]) by mails.dpdk.org (Postfix) with ESMTP id 16F3A40270; Wed, 5 Feb 2025 17:59:55 +0100 (CET) Received: from mail-io1-f98.google.com (mail-io1-f98.google.com [209.85.166.98]) by mails.dpdk.org (Postfix) with ESMTP id 50B2440261 for ; Wed, 5 Feb 2025 17:59:53 +0100 (CET) Received: by mail-io1-f98.google.com with SMTP id ca18e2360f4ac-8521df70be6so2508939f.1 for ; Wed, 05 Feb 2025 08:59:53 -0800 (PST) DKIM-Signature: v=1; a=rsa-sha256; c=relaxed/relaxed; d=iol.unh.edu; s=unh-iol; t=1738774792; x=1739379592; darn=dpdk.org; h=references:in-reply-to:cc:to:from:subject:message-id:date:from:to :cc:subject:date:message-id:reply-to; bh=JPcVQxrZ4qgehwGbRtPeOOkfFDuP2z6b5TkKt19V1sk=; b=iFd/i5N7pskNJqnzQK9wopI0G8+8C0cHQVEXnY/70lxEBsZJErUAHeoPfgOcOBJzmC zpLyDemiIY7jy2Obpnae4uUpoWZ9o2U0LOAiDPsbh9crP10hrq06Ik6LrlprGpqzIjWF /RbTbgqVtG+abO+ySRRFqPPKWeh6uEfxees+E= X-Google-DKIM-Signature: v=1; a=rsa-sha256; c=relaxed/relaxed; d=1e100.net; s=20230601; t=1738774792; x=1739379592; h=references:in-reply-to:cc:to:from:subject:message-id:date :x-gm-message-state:from:to:cc:subject:date:message-id:reply-to; bh=JPcVQxrZ4qgehwGbRtPeOOkfFDuP2z6b5TkKt19V1sk=; b=j0VeAVN0cQJ091sMWw4XvTnfDoxSRdt+Z3jPUVRI12+neSydTbxJX5g4Umsuj7rn6x GfHWS5BXZvJjdoQHrlVtWp9WZbkooQhnG+NrPyC2YGz031uPpzJV+216+PTapbJMkr0u Tsj/TRdpCMtPHO+irDY6qbbucXzXBVmOpndTW3UzDoAtWpdFOMhnqQxhi+Gxu+U9JNae 6lcsDMeWHUwV39jW6qda15VfSdF5cZvdCBDFFNDBqJ0TsEndgZ/6djR6o96oNWHKWY+q p32FqPa7QZdtIt+42fC/tEgG6OVlnLHaw4/Bg3HGJIwQzjBRvgSd644Z2v/557e0QgaY OWEQ== X-Gm-Message-State: AOJu0YxrrEK+YNBsRdqXh+LhC+pMtEkJFT6Wrs35ulUCPlqM+rJldyQ/ BiR8W1x8MSseUm4soJarGJca9HtFEJy8Y9iWvX7yiXZc8jt/6PO3sVlLnp6lBG9rGLkEpg8Qg8g sr4uHBeqXDRsbJ0Tqa9CE+namt7PikQHEgRiOHhJa X-Gm-Gg: ASbGncuCFg6PtT0KtXfuS/CD729S2d4Ut9jZ8PZZYrA8Tpvc1DzHm6qfGEFYuWV6oLo MzMwfLZQkIDbUBsU4Gmw9EGzrrVAbUqcf+/PcTSSzRH7nG6q36w1RZe035PPEVerozpbcSpmdAP JjOOlzFShPMQ9Zz6f5A+haPQ/jkc6gE7GTFycVfgFY37TmxV42PWc1kwmKQ+Mv5gkJqm3mTwmHc ovgotAK/3zkXJck4Nh8s8EOg/9woDrGYXlYXqsFB1Kh7LuZLBNKvxY2dwSV9x+XWwKuMW6O3luK CjPMnBoVsv+SxLS8kfCqjjtNIHZAew== X-Google-Smtp-Source: AGHT+IFBCOeVESm/WpQu8qF/6v6ztk5cl9jaIVuT2dKY9kK3/fvPEoVVPNzkZ0R/6c9H1DZNTbye+Yx1rQGN X-Received: by 2002:a92:c56f:0:b0:3cf:c8bf:3b87 with SMTP id e9e14a558f8ab-3d04f479f94mr30494975ab.1.1738774792622; Wed, 05 Feb 2025 08:59:52 -0800 (PST) Received: from postal.iol.unh.edu (postal.iol.unh.edu. [132.177.123.84]) by smtp-relay.gmail.com with ESMTPS id 8926c6da1cb9f-4ec745b6555sm830530173.23.2025.02.05.08.59.52 (version=TLS1_2 cipher=ECDHE-ECDSA-AES128-GCM-SHA256 bits=128/128); Wed, 05 Feb 2025 08:59:52 -0800 (PST) X-Relaying-Domain: iol.unh.edu Date: Wed, 05 Feb 2025 08:59:52 -0800 (PST) Message-ID: <67a39908.050a0220.2dca1f.648cSMTPIN_ADDED_MISSING@mx.google.com> Received: from [172.17.0.3] (unknown [172.18.0.214]) by postal.iol.unh.edu (Postfix) with ESMTP id 2BA6E6052471; Wed, 5 Feb 2025 11:59:52 -0500 (EST) Subject: |SUCCESS| pw150765-150766 [PATCH] [v7,2/2] net/af_xdp: Refactor af_x From: dpdklab@iol.unh.edu To: Test Report Cc: dpdk-test-reports@iol.unh.edu In-Reply-To: <20250201100300.2194018-3-ariel.otilibili@6wind.com> References: <20250201100300.2194018-3-ariel.otilibili@6wind.com> Content-Type: text/plain X-BeenThere: test-report@dpdk.org X-Mailman-Version: 2.1.29 Precedence: list List-Id: automatic DPDK test reports List-Unsubscribe: , List-Archive: List-Post: List-Help: List-Subscribe: , Errors-To: test-report-bounces@dpdk.org Test-Label: iol-compile-amd64-testing Test-Status: SUCCESS http://dpdk.org/patch/150766 _Testing PASS_ Submitter: Ariel Otilibili Date: Saturday, February 01 2025 10:03:00 DPDK git baseline: Repo:dpdk Branch: master CommitID:e290f8c00e068f06a37fbea251dfff2c78cb2aae 150765-150766 --> testing pass Test environment and result as below: +---------------------+--------------------+------------------+-------------------+-------------------+----------------------+-------------------------+ | Environment | dpdk_meson_compile | dpdk_compile_ovs | dpdk_compile_spdk | dpdk_msvc_compile | dpdk_mingw64_compile | dpdk_llvm_clang_compile | +=====================+====================+==================+===================+===================+======================+=========================+ | CentOS Stream 9 | PASS | PASS | PASS | SKIPPED | SKIPPED | SKIPPED | +---------------------+--------------------+------------------+-------------------+-------------------+----------------------+-------------------------+ | Debian Bullseye | PASS | PASS | PASS | SKIPPED | SKIPPED | SKIPPED | +---------------------+--------------------+------------------+-------------------+-------------------+----------------------+-------------------------+ | Debian 12 | PASS | PASS | PASS | SKIPPED | SKIPPED | SKIPPED | +---------------------+--------------------+------------------+-------------------+-------------------+----------------------+-------------------------+ | Fedora 40 (Clang) | PASS | PASS | PASS | SKIPPED | SKIPPED | SKIPPED | +---------------------+--------------------+------------------+-------------------+-------------------+----------------------+-------------------------+ | openSUSE Leap 15 | PASS | SKIPPED | SKIPPED | SKIPPED | SKIPPED | SKIPPED | +---------------------+--------------------+------------------+-------------------+-------------------+----------------------+-------------------------+ | Fedora 41 | PASS | PASS | PASS | SKIPPED | SKIPPED | SKIPPED | +---------------------+--------------------+------------------+-------------------+-------------------+----------------------+-------------------------+ | Fedora 40 | PASS | PASS | PASS | SKIPPED | SKIPPED | SKIPPED | +---------------------+--------------------+------------------+-------------------+-------------------+----------------------+-------------------------+ | Fedora 41 (Clang) | PASS | PASS | PASS | SKIPPED | SKIPPED | SKIPPED | +---------------------+--------------------+------------------+-------------------+-------------------+----------------------+-------------------------+ | RHEL8 | PASS | PASS | SKIPPED | SKIPPED | SKIPPED | SKIPPED | +---------------------+--------------------+------------------+-------------------+-------------------+----------------------+-------------------------+ | RHEL9 | PASS | PASS | SKIPPED | SKIPPED | SKIPPED | SKIPPED | +---------------------+--------------------+------------------+-------------------+-------------------+----------------------+-------------------------+ | Ubuntu 20.04 | PASS | SKIPPED | SKIPPED | SKIPPED | SKIPPED | SKIPPED | +---------------------+--------------------+------------------+-------------------+-------------------+----------------------+-------------------------+ | Ubuntu 22.04 | PASS | PASS | PASS | SKIPPED | SKIPPED | SKIPPED | +---------------------+--------------------+------------------+-------------------+-------------------+----------------------+-------------------------+ | Ubuntu 24.04 | PASS | PASS | PASS | SKIPPED | SKIPPED | SKIPPED | +---------------------+--------------------+------------------+-------------------+-------------------+----------------------+-------------------------+ | Alpine | PASS | PASS | SKIPPED | SKIPPED | SKIPPED | SKIPPED | +---------------------+--------------------+------------------+-------------------+-------------------+----------------------+-------------------------+ | FreeBSD 13.4 | PASS | SKIPPED | SKIPPED | SKIPPED | SKIPPED | SKIPPED | +---------------------+--------------------+------------------+-------------------+-------------------+----------------------+-------------------------+ | FreeBSD 14.2 | PASS | SKIPPED | SKIPPED | SKIPPED | SKIPPED | SKIPPED | +---------------------+--------------------+------------------+-------------------+-------------------+----------------------+-------------------------+ | Windows Server 2022 | SKIPPED | SKIPPED | SKIPPED | PASS | PASS | PASS | +---------------------+--------------------+------------------+-------------------+-------------------+----------------------+-------------------------+ CentOS Stream 9 Kernel: Depends on container host Compiler: gcc 11.5.0 20240719 (Red Hat 11.5.0-2) Debian Bullseye Kernel: Depends on container host Compiler: gcc (Debian 10.2.1-6) 10.2.1 20210110 Debian 12 Kernel: Depends on container host Compiler: gcc (Debian 12.2.0-14) 12.2.0 Fedora 40 (Clang) Kernel: Depends on container host Compiler: clang 18.1.8 (Fedora 18.1.8-1.fc40) openSUSE Leap 15 Kernel: Depends on container host Compiler: gcc (SUSE Linux) 7.5.0 Fedora 41 Kernel: Depends on container host Compiler: gcc 14.2.1 20240912 (Red Hat 14.2.1-3) Fedora 40 Kernel: Depends on container host Compiler: gcc 14.2.1 20240912 (Red Hat 14.2.1-3) Fedora 41 (Clang) Kernel: Depends on container host Compiler: clang 19.1.5 (Fedora 19.1.5-1.fc41) RHEL8 Kernel: Depends on container host Compiler: gcc 8.5.0 20210514 (Red Hat 8.5.0-22) RHEL9 Kernel: Depends on container host Compiler: gcc 11.5.0 20240719 (Red Hat 11.5.0-2) Ubuntu 20.04 Kernel: Depends on container host Compiler: gcc (Ubuntu 9.4.0-1ubuntu1~20.04.2) 9.4.0 Ubuntu 22.04 Kernel: Depends on container host Compiler: gcc (Ubuntu 11.4.0-1ubuntu1~22.04) 11.4.0 Ubuntu 24.04 Kernel: Depends on container host Compiler: gcc (Ubuntu 13.3.0-6ubuntu2~24.04) 13.3.0 Alpine Kernel: Depends on container host Compiler: gcc (Alpine 14.2.0) 14.2.0 FreeBSD 13.4 Kernel: 13.4-RELEASE-p1 Compiler: clang 18.1.6 FreeBSD 14.2 Kernel: 14.2-RELEASE Compiler: clang 18.1.6 Windows Server 2022 Kernel: 10.0.20348.2031 Compiler: clang 15.0.7, gcc 14.1.0 (MinGW), and MSVC VS 19.39.33521 To view detailed results, visit: https://lab.dpdk.org/results/dashboard/patchsets/32478/ UNH-IOL DPDK Community Lab To manage your email subscriptions, visit: https://lab.dpdk.org/results/dashboard/preferences/subscriptions/