From mboxrd@z Thu Jan 1 00:00:00 1970 Return-Path: Received: from mails.dpdk.org (mails.dpdk.org [217.70.189.124]) by inbox.dpdk.org (Postfix) with ESMTP id 2C08B461A0 for ; Wed, 5 Feb 2025 18:00:13 +0100 (CET) Received: from mails.dpdk.org (localhost [127.0.0.1]) by mails.dpdk.org (Postfix) with ESMTP id 2815D40270; Wed, 5 Feb 2025 18:00:13 +0100 (CET) Received: from mail-pl1-f228.google.com (mail-pl1-f228.google.com [209.85.214.228]) by mails.dpdk.org (Postfix) with ESMTP id D3DAB40261 for ; Wed, 5 Feb 2025 18:00:11 +0100 (CET) Received: by mail-pl1-f228.google.com with SMTP id d9443c01a7336-21644aca3a0so345825ad.3 for ; Wed, 05 Feb 2025 09:00:11 -0800 (PST) DKIM-Signature: v=1; a=rsa-sha256; c=relaxed/relaxed; d=iol.unh.edu; s=unh-iol; t=1738774811; x=1739379611; darn=dpdk.org; h=cc:to:from:subject:message-id:date:from:to:cc:subject:date :message-id:reply-to; bh=NrLiIYTZUh9sID1PQGjCx4pjeT5b/nIF7RpoDdJXiA8=; b=a9OMUsfxWt1RaQ08ilMONsuaPQx2+mMM5AIMQcKL4hbqfn0teXvgTI8qkivXhpP2Qn nWJNM4zKLxR8II2+VJiVm0WuyF7j86BylRk2FA9ydxQ/3zGlxJAhn82e/w6+PeOIMxa/ KbeFBbYPrXTu6OuLkSdEvZ4f/aQa/2MWiHVBI= X-Google-DKIM-Signature: v=1; a=rsa-sha256; c=relaxed/relaxed; d=1e100.net; s=20230601; t=1738774811; x=1739379611; h=cc:to:from:subject:message-id:date:x-gm-message-state:from:to:cc :subject:date:message-id:reply-to; bh=NrLiIYTZUh9sID1PQGjCx4pjeT5b/nIF7RpoDdJXiA8=; b=C4d9qs+qUoh9LnO+1ghQXfSDr6tDxAf56gsOZOOIYj3z42y85DwWu6Q2Qmztr+Fq1s IDAlXtThYkoP5iL9YnwfuA2PV55kMmeo6EJixLxs8OvtqatuDZrNrxQcsc0cEEYYX8DT VhhZ2EgB7/F7DyrbAak1VKRpI1TR2IoaVChjbrxyHEvBOxk2l6wLwHd3iVqz8Mt4aCaa ER6wbRH7CDPQAevbn+xuSrQMJFnIj6n9tY/2dBitbvhHmorcB7goRa23fs9ybO9CRvfx GDd0J0YVAoKq7oPAT3pCPlLWHwAk8tG2QtrgMv0ZjomEzhhwZp5Nh9GudDsALQdUDr+R JolQ== X-Gm-Message-State: AOJu0Yw9Qhn/rGucsDb26Cf3ykygq3FZE9aZEwIWJj2V6Kd/yLtutKKs VXAel4lR+zYzEqV33FZeYTxD1bgKyzZewXEyCXaBsLXyPuZJ8NK+rNEhc4hcY9hgA8Tn/mHdAkB 8AGX8vSKAs/iyT6v8EGGvOwm8Bo2+U4s01VdVJ1zpSe8isSwS X-Gm-Gg: ASbGncsusYgOBRpP43RpuQThZN2MC0hjAJbUaUTrW7rd/Dfeimy8iqS7pD40Crd5sOC L5gh+R65jHUp6HDdBizRGTGiKYV+Wjns4cyLCe9QFRYO82RPecka0hBhtdKqRzZ1h9ufqvZfs0m Kq8u49l7rpXB1XXc+b511yMpc5AZUHkCoH4sw6rV8iwZCRsFbk+MKaJM50t7u9giHabTJ4tzAol yd38RViOcwrL2O7PyZQeassKlIad2brOJw4zPdC0B1xd/gMqXirvdo2U28UNF+3vbNJCIFaEGzk GxaKr8yl0W8cU7CO/Vz80HNulw8iQemSXZsblmd/ZA== X-Google-Smtp-Source: AGHT+IFQ4r1AXfpw9C38huRwPQ16qXlrxyRomhPdMSrZcBidpNlyWxlrLrfygbWQLgdu3EOZvUHlq2wYzhjA X-Received: by 2002:a17:903:19c6:b0:216:3bd6:fc24 with SMTP id d9443c01a7336-21f17e26d10mr71274915ad.21.1738774810231; Wed, 05 Feb 2025 09:00:10 -0800 (PST) Received: from postal.iol.unh.edu (postal.iol.unh.edu. [2606:4100:3880:1234::84]) by smtp-relay.gmail.com with ESMTPS id 41be03b00d2f7-acebe383b16sm808194a12.11.2025.02.05.09.00.10 (version=TLS1_2 cipher=ECDHE-ECDSA-AES128-GCM-SHA256 bits=128/128); Wed, 05 Feb 2025 09:00:10 -0800 (PST) X-Relaying-Domain: iol.unh.edu Date: Wed, 05 Feb 2025 09:00:10 -0800 (PST) Message-ID: <67a3991a.630a0220.38f09f.895aSMTPIN_ADDED_MISSING@mx.google.com> Received: from [172.21.0.9] (unknown [172.18.0.240]) by postal.iol.unh.edu (Postfix) with ESMTP id AB7456052471; Wed, 5 Feb 2025 12:00:09 -0500 (EST) Subject: |SUCCESS| [GIT MASTER] c66daa12e76d7b4912cfb7109a761856a7a873ab From: dpdklab@iol.unh.edu To: Test Report Cc: dpdk-test-reports@iol.unh.edu, Xueming Li , Christian Ehrhardt , Kevin Traynor , Luca Boccassi Content-Type: text/plain X-BeenThere: test-report@dpdk.org X-Mailman-Version: 2.1.29 Precedence: list List-Id: automatic DPDK test reports List-Unsubscribe: , List-Archive: List-Post: List-Help: List-Subscribe: , Errors-To: test-report-bounces@dpdk.org _Testing PASS_ Branch: tags/v23.11 c66daa12e76d7b4912cfb7109a761856a7a873ab --> testing pass Test environment and result as below: +---------------------+--------------------+------------------+-------------------+-------------------+----------------------+-------------------------+ | Environment | dpdk_meson_compile | dpdk_compile_ovs | dpdk_compile_spdk | dpdk_msvc_compile | dpdk_mingw64_compile | dpdk_llvm_clang_compile | +=====================+====================+==================+===================+===================+======================+=========================+ | CentOS Stream 9 | PASS | PASS | PASS | SKIPPED | SKIPPED | SKIPPED | +---------------------+--------------------+------------------+-------------------+-------------------+----------------------+-------------------------+ | Fedora 40 | PASS | PASS | PASS | SKIPPED | SKIPPED | SKIPPED | +---------------------+--------------------+------------------+-------------------+-------------------+----------------------+-------------------------+ | Fedora 41 | PASS | PASS | PASS | SKIPPED | SKIPPED | SKIPPED | +---------------------+--------------------+------------------+-------------------+-------------------+----------------------+-------------------------+ | Fedora 41 (Clang) | PASS | PASS | PASS | SKIPPED | SKIPPED | SKIPPED | +---------------------+--------------------+------------------+-------------------+-------------------+----------------------+-------------------------+ | RHEL8 | PASS | PASS | SKIPPED | SKIPPED | SKIPPED | SKIPPED | +---------------------+--------------------+------------------+-------------------+-------------------+----------------------+-------------------------+ | Fedora 40 (Clang) | PASS | PASS | PASS | SKIPPED | SKIPPED | SKIPPED | +---------------------+--------------------+------------------+-------------------+-------------------+----------------------+-------------------------+ | Alpine | PASS | PASS | SKIPPED | SKIPPED | SKIPPED | SKIPPED | +---------------------+--------------------+------------------+-------------------+-------------------+----------------------+-------------------------+ | openSUSE Leap 15 | PASS | SKIPPED | SKIPPED | SKIPPED | SKIPPED | SKIPPED | +---------------------+--------------------+------------------+-------------------+-------------------+----------------------+-------------------------+ | Debian Bullseye | PASS | PASS | PASS | SKIPPED | SKIPPED | SKIPPED | +---------------------+--------------------+------------------+-------------------+-------------------+----------------------+-------------------------+ | Debian 12 | PASS | PASS | PASS | SKIPPED | SKIPPED | SKIPPED | +---------------------+--------------------+------------------+-------------------+-------------------+----------------------+-------------------------+ | Ubuntu 20.04 | PASS | SKIPPED | SKIPPED | SKIPPED | SKIPPED | SKIPPED | +---------------------+--------------------+------------------+-------------------+-------------------+----------------------+-------------------------+ | Ubuntu 22.04 | PASS | PASS | PASS | SKIPPED | SKIPPED | SKIPPED | +---------------------+--------------------+------------------+-------------------+-------------------+----------------------+-------------------------+ | RHEL9 | PASS | PASS | SKIPPED | SKIPPED | SKIPPED | SKIPPED | +---------------------+--------------------+------------------+-------------------+-------------------+----------------------+-------------------------+ | Ubuntu 24.04 | PASS | PASS | PASS | SKIPPED | SKIPPED | SKIPPED | +---------------------+--------------------+------------------+-------------------+-------------------+----------------------+-------------------------+ | FreeBSD 13.4 | PASS | SKIPPED | SKIPPED | SKIPPED | SKIPPED | SKIPPED | +---------------------+--------------------+------------------+-------------------+-------------------+----------------------+-------------------------+ | FreeBSD 14.2 | PASS | SKIPPED | SKIPPED | SKIPPED | SKIPPED | SKIPPED | +---------------------+--------------------+------------------+-------------------+-------------------+----------------------+-------------------------+ | Windows Server 2022 | SKIPPED | SKIPPED | SKIPPED | PASS | PASS | PASS | +---------------------+--------------------+------------------+-------------------+-------------------+----------------------+-------------------------+ CentOS Stream 9 Kernel: Depends on container host Compiler: gcc 11.5.0 20240719 (Red Hat 11.5.0-2) Fedora 40 Kernel: Depends on container host Compiler: gcc 14.2.1 20240912 (Red Hat 14.2.1-3) Fedora 41 Kernel: Depends on container host Compiler: gcc 14.2.1 20240912 (Red Hat 14.2.1-3) Fedora 41 (Clang) Kernel: Depends on container host Compiler: clang 19.1.5 (Fedora 19.1.5-1.fc41) RHEL8 Kernel: Depends on container host Compiler: gcc 8.5.0 20210514 (Red Hat 8.5.0-22) Fedora 40 (Clang) Kernel: Depends on container host Compiler: clang 18.1.8 (Fedora 18.1.8-1.fc40) Alpine Kernel: Depends on container host Compiler: gcc (Alpine 14.2.0) 14.2.0 openSUSE Leap 15 Kernel: Depends on container host Compiler: gcc (SUSE Linux) 7.5.0 Debian Bullseye Kernel: Depends on container host Compiler: gcc (Debian 10.2.1-6) 10.2.1 20210110 Debian 12 Kernel: Depends on container host Compiler: gcc (Debian 12.2.0-14) 12.2.0 Ubuntu 20.04 Kernel: Depends on container host Compiler: gcc (Ubuntu 9.4.0-1ubuntu1~20.04.2) 9.4.0 Ubuntu 22.04 Kernel: Depends on container host Compiler: gcc (Ubuntu 11.4.0-1ubuntu1~22.04) 11.4.0 RHEL9 Kernel: Depends on container host Compiler: gcc 11.5.0 20240719 (Red Hat 11.5.0-2) Ubuntu 24.04 Kernel: Depends on container host Compiler: gcc (Ubuntu 13.3.0-6ubuntu2~24.04) 13.3.0 FreeBSD 13.4 Kernel: 13.4-RELEASE-p1 Compiler: clang 18.1.6 FreeBSD 14.2 Kernel: 14.2-RELEASE Compiler: clang 18.1.6 Windows Server 2022 Kernel: 10.0.20348.2031 Compiler: clang 15.0.7, gcc 14.1.0 (MinGW), and MSVC VS 19.39.33521 To view detailed results, visit: https://lab.dpdk.org/results/dashboard/tarballs/32419/ UNH-IOL DPDK Community Lab To manage your email subscriptions, visit: https://lab.dpdk.org/results/dashboard/preferences/subscriptions/