From mboxrd@z Thu Jan 1 00:00:00 1970 Return-Path: Received: from mails.dpdk.org (mails.dpdk.org [217.70.189.124]) by inbox.dpdk.org (Postfix) with ESMTP id 46C80461A0 for ; Wed, 5 Feb 2025 18:07:29 +0100 (CET) Received: from mails.dpdk.org (localhost [127.0.0.1]) by mails.dpdk.org (Postfix) with ESMTP id 37BD04064C; Wed, 5 Feb 2025 18:07:29 +0100 (CET) Received: from mail-pl1-f225.google.com (mail-pl1-f225.google.com [209.85.214.225]) by mails.dpdk.org (Postfix) with ESMTP id A8CB640261 for ; Wed, 5 Feb 2025 18:07:27 +0100 (CET) Received: by mail-pl1-f225.google.com with SMTP id d9443c01a7336-21f2339dcfdso11168065ad.1 for ; Wed, 05 Feb 2025 09:07:27 -0800 (PST) DKIM-Signature: v=1; a=rsa-sha256; c=relaxed/relaxed; d=iol.unh.edu; s=unh-iol; t=1738775247; x=1739380047; darn=dpdk.org; h=cc:to:from:subject:message-id:date:from:to:cc:subject:date :message-id:reply-to; bh=nE4NcR1iPTdorwajhVij5bGpvim1cHrg89AUdGjAu0U=; b=CG8nDc2cBVVhVnJC79vigK+m7ppR6LPeYN41QYaH+MqhFyR8WsNg1xuH93wn+sOHFQ /i+ZOFSS70fnb6Dbbtai3qXVD39Hk8UPCkhFQDMJDKZ+Tmzp+FFSAGDVNggvd4siTSk7 0OhP1DXhkeQc/plEfwcLTRaX+LCbOAFor5Ai0= X-Google-DKIM-Signature: v=1; a=rsa-sha256; c=relaxed/relaxed; d=1e100.net; s=20230601; t=1738775247; x=1739380047; h=cc:to:from:subject:message-id:date:x-gm-message-state:from:to:cc :subject:date:message-id:reply-to; bh=nE4NcR1iPTdorwajhVij5bGpvim1cHrg89AUdGjAu0U=; b=jguCsFidlPDztJmAMkvFRZZOeSTJkp4xGMwqp8tlselpstp5N0wCepkXj5Wze/k2GT HzwiDMLAiI4tk2mVJAfh2iuFuIdGRwaFFUwbZ2LY3394NM+XGr9AYLcuFUtp6Qdhvaey dW7M7U5iC17v1T1E6Uwdz4dmQeVyYEBvSL3Cnztgq4oDLExUx7jtaDWtAX00rcw5ngQd +9vgkXIDK5AKE6Bkjyd2W9LM5eL2MUrUB03YraIPQj8Oed19ctWZQ1IvyzS4ObfbwNOJ wGzGk7ziFrqmNumKwEVgwz2h0q7SffyvtnS6rpilnt6Qx0UPXYXISoTixtBMIffTbqEp piLQ== X-Gm-Message-State: AOJu0Yz0N60/B0946II5IhWQg6G3QTPAiamk0Us1WrSLiEtb+06K4myB //vDEk6hsj4YlDKGZXVVWg2UzUvATwc1xccOtB0LJZKqwusuzm5CME3YyoMgMwXHX//75Knm0I6 /OXcQqij470Dku3SXa4b7TD0MUxRE39FZSsXrp/wx X-Gm-Gg: ASbGncs9cUTIbg9g4n0EzUt5e8JAHwhch87gSUlcyO4RuUc5mMIYyZaAiyX1ZK/jxWy ycMjGMNt78td24FtXopOxMmEkv30Oko7iVlwZCrHYEpaHYwGUyrBm6zWl5HxqWmFHBMSoxTip87 g4Ib/8FssRuth60/FK6sLDLJBMWMm65oSS1j63m+6C9wpYnT+xY1v8zhfqR+vXwZGhgbd82Vkct OicJPQpGTPLQegFWEyu3p2zkx8dwrSgSJetn1lL7rerCXKHLT4KCGIx+zW32PBovKCIUy77dObf gOmMbsh2JfKUidBPz3Gkwqr1YCjVng== X-Google-Smtp-Source: AGHT+IFBKCVmGoaqjhQpfb6Vnaxt3WY7PvjLUQ/UWyhypaMozkyHl8t8KuJT7nTl6Ac2MN1HUVdkwU7scswU X-Received: by 2002:a17:903:440f:b0:21e:fe55:d3a5 with SMTP id d9443c01a7336-21f2f20cba6mr747835ad.21.1738775246815; Wed, 05 Feb 2025 09:07:26 -0800 (PST) Received: from postal.iol.unh.edu (postal.iol.unh.edu. [132.177.123.84]) by smtp-relay.gmail.com with ESMTPS id 41be03b00d2f7-acebe383b16sm808900a12.11.2025.02.05.09.07.26 (version=TLS1_2 cipher=ECDHE-ECDSA-AES128-GCM-SHA256 bits=128/128); Wed, 05 Feb 2025 09:07:26 -0800 (PST) X-Relaying-Domain: iol.unh.edu Date: Wed, 05 Feb 2025 09:07:26 -0800 (PST) Message-ID: <67a39ace.630a0220.38f09f.89feSMTPIN_ADDED_MISSING@mx.google.com> Received: from [172.21.0.8] (unknown [172.18.0.240]) by postal.iol.unh.edu (Postfix) with ESMTP id DD5906052472; Wed, 5 Feb 2025 12:07:25 -0500 (EST) Subject: |SUCCESS| [GIT MASTER] abf3b7b7b361f8aa8d75ae00d449b588a0cdcda3 From: dpdklab@iol.unh.edu To: Test Report Cc: dpdk-test-reports@iol.unh.edu, Bruce Richardson Content-Type: text/plain X-BeenThere: test-report@dpdk.org X-Mailman-Version: 2.1.29 Precedence: list List-Id: automatic DPDK test reports List-Unsubscribe: , List-Archive: List-Post: List-Help: List-Subscribe: , Errors-To: test-report-bounces@dpdk.org _Testing PASS_ Branch: dpdk-next-net-intel abf3b7b7b361f8aa8d75ae00d449b588a0cdcda3 --> testing pass Test environment and result as below: +---------------------+-------------------+--------------------+----------------------+------------------+-------------------+-------------------------+ | Environment | dpdk_msvc_compile | dpdk_meson_compile | dpdk_mingw64_compile | dpdk_compile_ovs | dpdk_compile_spdk | dpdk_llvm_clang_compile | +=====================+===================+====================+======================+==================+===================+=========================+ | Windows Server 2022 | PASS | SKIPPED | PASS | SKIPPED | SKIPPED | PASS | +---------------------+-------------------+--------------------+----------------------+------------------+-------------------+-------------------------+ | FreeBSD 13.4 | SKIPPED | PASS | SKIPPED | SKIPPED | SKIPPED | SKIPPED | +---------------------+-------------------+--------------------+----------------------+------------------+-------------------+-------------------------+ | FreeBSD 14.2 | SKIPPED | PASS | SKIPPED | SKIPPED | SKIPPED | SKIPPED | +---------------------+-------------------+--------------------+----------------------+------------------+-------------------+-------------------------+ | CentOS Stream 9 | SKIPPED | PASS | SKIPPED | PASS | PASS | SKIPPED | +---------------------+-------------------+--------------------+----------------------+------------------+-------------------+-------------------------+ | Debian Bullseye | SKIPPED | PASS | SKIPPED | PASS | PASS | SKIPPED | +---------------------+-------------------+--------------------+----------------------+------------------+-------------------+-------------------------+ | Debian 12 | SKIPPED | PASS | SKIPPED | PASS | PASS | SKIPPED | +---------------------+-------------------+--------------------+----------------------+------------------+-------------------+-------------------------+ | Fedora 40 (Clang) | SKIPPED | PASS | SKIPPED | PASS | PASS | SKIPPED | +---------------------+-------------------+--------------------+----------------------+------------------+-------------------+-------------------------+ | Fedora 40 | SKIPPED | PASS | SKIPPED | PASS | PASS | SKIPPED | +---------------------+-------------------+--------------------+----------------------+------------------+-------------------+-------------------------+ | Fedora 41 (Clang) | SKIPPED | PASS | SKIPPED | PASS | PASS | SKIPPED | +---------------------+-------------------+--------------------+----------------------+------------------+-------------------+-------------------------+ | Fedora 41 | SKIPPED | PASS | SKIPPED | PASS | PASS | SKIPPED | +---------------------+-------------------+--------------------+----------------------+------------------+-------------------+-------------------------+ | openSUSE Leap 15 | SKIPPED | PASS | SKIPPED | SKIPPED | SKIPPED | SKIPPED | +---------------------+-------------------+--------------------+----------------------+------------------+-------------------+-------------------------+ | RHEL8 | SKIPPED | PASS | SKIPPED | PASS | SKIPPED | SKIPPED | +---------------------+-------------------+--------------------+----------------------+------------------+-------------------+-------------------------+ | RHEL9 | SKIPPED | PASS | SKIPPED | PASS | SKIPPED | SKIPPED | +---------------------+-------------------+--------------------+----------------------+------------------+-------------------+-------------------------+ | Ubuntu 20.04 | SKIPPED | PASS | SKIPPED | SKIPPED | SKIPPED | SKIPPED | +---------------------+-------------------+--------------------+----------------------+------------------+-------------------+-------------------------+ | Ubuntu 22.04 | SKIPPED | PASS | SKIPPED | PASS | PASS | SKIPPED | +---------------------+-------------------+--------------------+----------------------+------------------+-------------------+-------------------------+ | Ubuntu 24.04 | SKIPPED | PASS | SKIPPED | PASS | PASS | SKIPPED | +---------------------+-------------------+--------------------+----------------------+------------------+-------------------+-------------------------+ | Alpine | SKIPPED | PASS | SKIPPED | PASS | SKIPPED | SKIPPED | +---------------------+-------------------+--------------------+----------------------+------------------+-------------------+-------------------------+ Windows Server 2022 Kernel: 10.0.20348.2031 Compiler: clang 15.0.7, gcc 14.1.0 (MinGW), and MSVC VS 19.39.33521 FreeBSD 13.4 Kernel: 13.4-RELEASE-p1 Compiler: clang 18.1.6 FreeBSD 14.2 Kernel: 14.2-RELEASE Compiler: clang 18.1.6 CentOS Stream 9 Kernel: Depends on container host Compiler: gcc 11.5.0 20240719 (Red Hat 11.5.0-2) Debian Bullseye Kernel: Depends on container host Compiler: gcc (Debian 10.2.1-6) 10.2.1 20210110 Debian 12 Kernel: Depends on container host Compiler: gcc (Debian 12.2.0-14) 12.2.0 Fedora 40 (Clang) Kernel: Depends on container host Compiler: clang 18.1.8 (Fedora 18.1.8-1.fc40) Fedora 40 Kernel: Depends on container host Compiler: gcc 14.2.1 20240912 (Red Hat 14.2.1-3) Fedora 41 (Clang) Kernel: Depends on container host Compiler: clang 19.1.5 (Fedora 19.1.5-1.fc41) Fedora 41 Kernel: Depends on container host Compiler: gcc 14.2.1 20240912 (Red Hat 14.2.1-3) openSUSE Leap 15 Kernel: Depends on container host Compiler: gcc (SUSE Linux) 7.5.0 RHEL8 Kernel: Depends on container host Compiler: gcc 8.5.0 20210514 (Red Hat 8.5.0-22) RHEL9 Kernel: Depends on container host Compiler: gcc 11.5.0 20240719 (Red Hat 11.5.0-2) Ubuntu 20.04 Kernel: Depends on container host Compiler: gcc (Ubuntu 9.4.0-1ubuntu1~20.04.2) 9.4.0 Ubuntu 22.04 Kernel: Depends on container host Compiler: gcc (Ubuntu 11.4.0-1ubuntu1~22.04) 11.4.0 Ubuntu 24.04 Kernel: Depends on container host Compiler: gcc (Ubuntu 13.3.0-6ubuntu2~24.04) 13.3.0 Alpine Kernel: Depends on container host Compiler: gcc (Alpine 14.2.0) 14.2.0 To view detailed results, visit: https://lab.dpdk.org/results/dashboard/tarballs/32405/ UNH-IOL DPDK Community Lab To manage your email subscriptions, visit: https://lab.dpdk.org/results/dashboard/preferences/subscriptions/