From mboxrd@z Thu Jan  1 00:00:00 1970
Return-Path: <test-report-bounces@dpdk.org>
Received: from mails.dpdk.org (mails.dpdk.org [217.70.189.124])
	by inbox.dpdk.org (Postfix) with ESMTP id 5198D461A0
	for <public@inbox.dpdk.org>; Wed,  5 Feb 2025 18:07:42 +0100 (CET)
Received: from mails.dpdk.org (localhost [127.0.0.1])
	by mails.dpdk.org (Postfix) with ESMTP id 4B49540270;
	Wed,  5 Feb 2025 18:07:42 +0100 (CET)
Received: from mail-yb1-f226.google.com (mail-yb1-f226.google.com
 [209.85.219.226])
 by mails.dpdk.org (Postfix) with ESMTP id F1A5040261
 for <test-report@dpdk.org>; Wed,  5 Feb 2025 18:07:32 +0100 (CET)
Received: by mail-yb1-f226.google.com with SMTP id
 3f1490d57ef6-e46ebe19489so5610377276.2
 for <test-report@dpdk.org>; Wed, 05 Feb 2025 09:07:32 -0800 (PST)
DKIM-Signature: v=1; a=rsa-sha256; c=relaxed/relaxed;
 d=iol.unh.edu; s=unh-iol; t=1738775252; x=1739380052; darn=dpdk.org;
 h=references:in-reply-to:cc:to:from:subject:message-id:date:from:to
 :cc:subject:date:message-id:reply-to;
 bh=o0CA/OMafEkFgCBLCFzTvj3zfbJQC7r0RK6ojd1bcbA=;
 b=RV89SAnjpVgO44jyol08vG762+0t3Xlss+Ctas05Ty/zleHGm2wERK2L/JT1Q9ekQ1
 n3nmhtqllWUbLk83RsTu0q7dUEkraHpY82f3bXe1dbEvn2kwS+blzSeJTojZzeyxAGCd
 4svW0HDS4bQgAhqBVegGaDST6VICt511fVZmg=
X-Google-DKIM-Signature: v=1; a=rsa-sha256; c=relaxed/relaxed;
 d=1e100.net; s=20230601; t=1738775252; x=1739380052;
 h=references:in-reply-to:cc:to:from:subject:message-id:date
 :x-gm-message-state:from:to:cc:subject:date:message-id:reply-to;
 bh=o0CA/OMafEkFgCBLCFzTvj3zfbJQC7r0RK6ojd1bcbA=;
 b=wrsbXxIC9y2/rsDI38AV2dh2QYPsfHvZrImzuYotikHYTImit/jE24NuYtdp0DWCNh
 sr0oOCWtr57rX/H7fJuSS5d3oDVs8jNhoji/tOfNB3nUL8st8PtJxkEeHQ0aAgVd8Dd6
 5Xt01ILsMAi67ug41Br/APEEG6GTqFdik29gC4BnLedY5ax1ICaFVpS3GJm4h7MXMoLI
 4WTEo2mNIyPJwDTWWpuWLHCG5tkUj3MO9R45VbLnN8Brl8KbX8tWZtiGpsaBxgpWoDDL
 qHMqAbuF1tZCQgcT4IJPxpfyJoZoIxOJeFQtL2Xm39OSCd7pp6rWfwxjy/SlQHFnbyCi
 H2/A==
X-Gm-Message-State: AOJu0YyL3LnxVBKGTL0BwAIhHeWs7RxZbnqH+6u+ZDKaLMyL4X+a/klh
 7vk4LX2fx/gLm3eeDSYR7v8nICPrx06RUeKuViDaGiN61/XIOdkp3vGX15SIi10ycsO83m28Egf
 j4auWYc0OxSoh6bBRw5UjpnptWDYvw/LNmvbCfyEs
X-Gm-Gg: ASbGncuZGas1N4aXUqZQuV523YHKUJjlb1cOcEVJ4UvTEAMj08EgGhKtpGHmkIvwDf/
 udeNSRwbvAqlp4Q7oQBAlqODqz1Podkt26ayhjCMdMYXqUvmoZOIutYg3dGfHNqmZSKM6/hRdIq
 rZM7v4H72ShO8/xSqQoufcaVRZVhAaVvYSzGrOmUv7M09Vc38vw7NVUkemoClgwzfvQhsiSJpVV
 q2ETyHWfapEVHc3jJnBt8WLOpXwafEkCU6pz4Q8BRMBORQQxEcWys0PokHvAgO7cDeHo2IYIOHd
 uRJUgwrJHv26Yf7+Vq0iNZltgmmhnQ==
X-Google-Smtp-Source: AGHT+IH+W1GZfGUg/wKLbXpwcQwu/14TSiqvaQM+j4smcxWt1wRiOMAcFGUoAxVlxNBGwjbS0bBgnXJ669Xq
X-Received: by 2002:a05:6902:26c8:b0:e5b:323b:a1a4 with SMTP id
 3f1490d57ef6-e5b323ba4dfmr1023716276.41.1738775252270; 
 Wed, 05 Feb 2025 09:07:32 -0800 (PST)
Received: from postal.iol.unh.edu (postal.iol.unh.edu. [132.177.123.84])
 by smtp-relay.gmail.com with ESMTPS id
 3f1490d57ef6-e5b17a7132dsm223110276.30.2025.02.05.09.07.32
 (version=TLS1_2 cipher=ECDHE-ECDSA-AES128-GCM-SHA256 bits=128/128);
 Wed, 05 Feb 2025 09:07:32 -0800 (PST)
X-Relaying-Domain: iol.unh.edu
Date: Wed, 05 Feb 2025 09:07:32 -0800 (PST)
Message-ID: <67a39ad4.250a0220.21fb0b.b540SMTPIN_ADDED_MISSING@mx.google.com>
Received: from [172.21.0.7] (unknown [172.18.0.240])
 by postal.iol.unh.edu (Postfix) with ESMTP id E388A6052471;
 Wed,  5 Feb 2025 12:07:31 -0500 (EST)
Subject: |SUCCESS| pw150756-150757 [PATCH] [v5,2/2] net/af_xdp: Refactor af_x
From: dpdklab@iol.unh.edu
To: Test Report <test-report@dpdk.org>
Cc: dpdk-test-reports@iol.unh.edu
In-Reply-To: <20250131183439.909831-3-ariel.otilibili@6wind.com>
References: <20250131183439.909831-3-ariel.otilibili@6wind.com>
Content-Type: text/plain
X-BeenThere: test-report@dpdk.org
X-Mailman-Version: 2.1.29
Precedence: list
List-Id: automatic DPDK test reports <test-report.dpdk.org>
List-Unsubscribe: <https://mails.dpdk.org/options/test-report>,
 <mailto:test-report-request@dpdk.org?subject=unsubscribe>
List-Archive: <http://mails.dpdk.org/archives/test-report/>
List-Post: <mailto:test-report@dpdk.org>
List-Help: <mailto:test-report-request@dpdk.org?subject=help>
List-Subscribe: <https://mails.dpdk.org/listinfo/test-report>,
 <mailto:test-report-request@dpdk.org?subject=subscribe>
Errors-To: test-report-bounces@dpdk.org

Test-Label: iol-compile-amd64-testing
Test-Status: SUCCESS
http://dpdk.org/patch/150757

_Testing PASS_

Submitter: Ariel Otilibili <ariel.otilibili@6wind.com>
Date: Friday, January 31 2025 18:34:39 
DPDK git baseline: Repo:dpdk
  Branch: master
  CommitID:4a377fd5d560cfdece42b0d87b31c87efb7938d2

150756-150757 --> testing pass

Test environment and result as below:

+---------------------+--------------------+------------------+-------------------+-------------------+----------------------+-------------------------+
|     Environment     | dpdk_meson_compile | dpdk_compile_ovs | dpdk_compile_spdk | dpdk_msvc_compile | dpdk_mingw64_compile | dpdk_llvm_clang_compile |
+=====================+====================+==================+===================+===================+======================+=========================+
| CentOS Stream 9     | PASS               | PASS             | PASS              | SKIPPED           | SKIPPED              | SKIPPED                 |
+---------------------+--------------------+------------------+-------------------+-------------------+----------------------+-------------------------+
| Debian 12           | PASS               | PASS             | PASS              | SKIPPED           | SKIPPED              | SKIPPED                 |
+---------------------+--------------------+------------------+-------------------+-------------------+----------------------+-------------------------+
| Fedora 40           | PASS               | PASS             | PASS              | SKIPPED           | SKIPPED              | SKIPPED                 |
+---------------------+--------------------+------------------+-------------------+-------------------+----------------------+-------------------------+
| Fedora 41 (Clang)   | PASS               | PASS             | PASS              | SKIPPED           | SKIPPED              | SKIPPED                 |
+---------------------+--------------------+------------------+-------------------+-------------------+----------------------+-------------------------+
| Fedora 40 (Clang)   | PASS               | PASS             | PASS              | SKIPPED           | SKIPPED              | SKIPPED                 |
+---------------------+--------------------+------------------+-------------------+-------------------+----------------------+-------------------------+
| Fedora 41           | PASS               | PASS             | PASS              | SKIPPED           | SKIPPED              | SKIPPED                 |
+---------------------+--------------------+------------------+-------------------+-------------------+----------------------+-------------------------+
| RHEL8               | PASS               | PASS             | SKIPPED           | SKIPPED           | SKIPPED              | SKIPPED                 |
+---------------------+--------------------+------------------+-------------------+-------------------+----------------------+-------------------------+
| openSUSE Leap 15    | PASS               | SKIPPED          | SKIPPED           | SKIPPED           | SKIPPED              | SKIPPED                 |
+---------------------+--------------------+------------------+-------------------+-------------------+----------------------+-------------------------+
| RHEL9               | PASS               | PASS             | SKIPPED           | SKIPPED           | SKIPPED              | SKIPPED                 |
+---------------------+--------------------+------------------+-------------------+-------------------+----------------------+-------------------------+
| Ubuntu 20.04        | PASS               | SKIPPED          | SKIPPED           | SKIPPED           | SKIPPED              | SKIPPED                 |
+---------------------+--------------------+------------------+-------------------+-------------------+----------------------+-------------------------+
| Ubuntu 22.04        | PASS               | PASS             | PASS              | SKIPPED           | SKIPPED              | SKIPPED                 |
+---------------------+--------------------+------------------+-------------------+-------------------+----------------------+-------------------------+
| Ubuntu 24.04        | PASS               | PASS             | PASS              | SKIPPED           | SKIPPED              | SKIPPED                 |
+---------------------+--------------------+------------------+-------------------+-------------------+----------------------+-------------------------+
| Alpine              | PASS               | PASS             | SKIPPED           | SKIPPED           | SKIPPED              | SKIPPED                 |
+---------------------+--------------------+------------------+-------------------+-------------------+----------------------+-------------------------+
| FreeBSD 13.4        | PASS               | SKIPPED          | SKIPPED           | SKIPPED           | SKIPPED              | SKIPPED                 |
+---------------------+--------------------+------------------+-------------------+-------------------+----------------------+-------------------------+
| FreeBSD 14.2        | PASS               | SKIPPED          | SKIPPED           | SKIPPED           | SKIPPED              | SKIPPED                 |
+---------------------+--------------------+------------------+-------------------+-------------------+----------------------+-------------------------+
| Debian Bullseye     | PASS               | PASS             | PASS              | SKIPPED           | SKIPPED              | SKIPPED                 |
+---------------------+--------------------+------------------+-------------------+-------------------+----------------------+-------------------------+
| Windows Server 2022 | SKIPPED            | SKIPPED          | SKIPPED           | PASS              | PASS                 | PASS                    |
+---------------------+--------------------+------------------+-------------------+-------------------+----------------------+-------------------------+


CentOS Stream 9
	Kernel: Depends on container host
	Compiler: gcc 11.5.0 20240719 (Red Hat 11.5.0-2)

Debian 12
	Kernel: Depends on container host
	Compiler: gcc (Debian 12.2.0-14) 12.2.0

Fedora 40
	Kernel: Depends on container host
	Compiler: gcc 14.2.1 20240912 (Red Hat 14.2.1-3)

Fedora 41 (Clang)
	Kernel: Depends on container host
	Compiler: clang 19.1.5 (Fedora 19.1.5-1.fc41)

Fedora 40 (Clang)
	Kernel: Depends on container host
	Compiler: clang 18.1.8 (Fedora 18.1.8-1.fc40)

Fedora 41
	Kernel: Depends on container host
	Compiler: gcc 14.2.1 20240912 (Red Hat 14.2.1-3)

RHEL8
	Kernel: Depends on container host
	Compiler: gcc 8.5.0 20210514 (Red Hat 8.5.0-22)

openSUSE Leap 15
	Kernel: Depends on container host
	Compiler: gcc (SUSE Linux) 7.5.0

RHEL9
	Kernel: Depends on container host
	Compiler: gcc 11.5.0 20240719 (Red Hat 11.5.0-2)

Ubuntu 20.04
	Kernel: Depends on container host
	Compiler: gcc (Ubuntu 9.4.0-1ubuntu1~20.04.2) 9.4.0

Ubuntu 22.04
	Kernel: Depends on container host
	Compiler: gcc (Ubuntu 11.4.0-1ubuntu1~22.04) 11.4.0

Ubuntu 24.04
	Kernel: Depends on container host
	Compiler: gcc (Ubuntu 13.3.0-6ubuntu2~24.04) 13.3.0

Alpine
	Kernel: Depends on container host
	Compiler: gcc (Alpine 14.2.0) 14.2.0

FreeBSD 13.4
	Kernel: 13.4-RELEASE-p1
	Compiler: clang 18.1.6

FreeBSD 14.2
	Kernel: 14.2-RELEASE
	Compiler: clang 18.1.6

Debian Bullseye
	Kernel: Depends on container host
	Compiler: gcc (Debian 10.2.1-6) 10.2.1 20210110

Windows Server 2022
	Kernel: 10.0.20348.2031
	Compiler: clang 15.0.7, gcc 14.1.0 (MinGW), and MSVC VS 19.39.33521

To view detailed results, visit:
https://lab.dpdk.org/results/dashboard/patchsets/32473/

UNH-IOL DPDK Community Lab

To manage your email subscriptions, visit: 
https://lab.dpdk.org/results/dashboard/preferences/subscriptions/