From mboxrd@z Thu Jan 1 00:00:00 1970 Return-Path: Received: from mails.dpdk.org (mails.dpdk.org [217.70.189.124]) by inbox.dpdk.org (Postfix) with ESMTP id A61B4461A0 for ; Wed, 5 Feb 2025 18:10:33 +0100 (CET) Received: from mails.dpdk.org (localhost [127.0.0.1]) by mails.dpdk.org (Postfix) with ESMTP id A2E5640270; Wed, 5 Feb 2025 18:10:33 +0100 (CET) Received: from mail-oa1-f98.google.com (mail-oa1-f98.google.com [209.85.160.98]) by mails.dpdk.org (Postfix) with ESMTP id 110A540261 for ; Wed, 5 Feb 2025 18:10:32 +0100 (CET) Received: by mail-oa1-f98.google.com with SMTP id 586e51a60fabf-2b808d187f5so490811fac.3 for ; Wed, 05 Feb 2025 09:10:32 -0800 (PST) DKIM-Signature: v=1; a=rsa-sha256; c=relaxed/relaxed; d=iol.unh.edu; s=unh-iol; t=1738775431; x=1739380231; darn=dpdk.org; h=references:in-reply-to:cc:to:from:subject:message-id:date:from:to :cc:subject:date:message-id:reply-to; bh=S/KP2f7d05wmAaWaHKCblz9fa0/eahRQO4I+VoVO3go=; b=IWB4YlXe9zPhOw+5akJFbodRwX8bbbGAlv+yKi9BU8k7LS0nseDpLc2SPUeWviUQu/ nIedg48TG+WnNILo3t01qm3s+hyujiUrBykrShYDWMja6MkmnmqZl4mVcHcNm4RY2tF1 YgAI/sSUvdYe27H4ZmDTw+agyJPwUZzGC2ty0= X-Google-DKIM-Signature: v=1; a=rsa-sha256; c=relaxed/relaxed; d=1e100.net; s=20230601; t=1738775431; x=1739380231; h=references:in-reply-to:cc:to:from:subject:message-id:date :x-gm-message-state:from:to:cc:subject:date:message-id:reply-to; bh=S/KP2f7d05wmAaWaHKCblz9fa0/eahRQO4I+VoVO3go=; b=NufPZl4mXJ+xrR9zt4MtHc3dHDJHIQ5eHE9964Ixl4KZcFAOSMF2y+nx7kxKhz+PN+ LdI5e3qct4PaJ2u68v89zTqPkZaJNZKDZg5YEUMC0Lzy+dPJtfSpAFY+IAjG9gb/DmHk y7Ed1t0taz/AS7gPMbBBXTs8hcwg+9Cn5lGbwEvXgHuyb4sH2pNZxbO7LkXbDz9+D27q OpOiD6KI+vP8kRriH/5Ltlcf+wOh1z6Vl19Bbpqv/JNrWxBLuSmAjf6a6YU0AlyJQhjQ xkYjTBsT6v7Marqs5Qywzlq/5gjLEmLliQGkxw+pqusOHxBAcCkPuAfQI050HeqRrsfR xCiA== X-Gm-Message-State: AOJu0YygOp1PtikrgKk+9tYqDXvvMOtZcKBnFAp4bcx2+mdsw7f+tatk oOcUB1heANy9OxQzvh7Ko9YurBqr4ncQltp4jVhL9Q1JKyeDIULbSK2ZSIt2aw2zRIcwvP76Geu vmD3DRqV7CQm7CFYNFjQExAsw3jmmpMorGKy9hfXB X-Gm-Gg: ASbGncseY+fu7TdETYozJT8/au5vJsln5E3vHIEwrwPgrPuhAnygaQ5FI//Zd0/udHI AvtK91EjFU9z4nmjehE9/XEU2BHFBjQK8VM9DH4/jJ7ftR04xtarwifM9qZemRUjuhxZ440CO0O Pn+9kBURkwf1N4LnfqYaST1islVZxtlSATYcZhgkedzkcevIs9R+lUzO1dku/0niTrUeT26YDap wNERfEjLOZbx3t6uGJx+Hec01fr1T9w6HaWSLXv7hfZr2gepmfoMI4L6OkI9bvW8/YVAmDKc8XN GydF9ZoOPnUmoltwylZ2pqpkIhqAvg== X-Google-Smtp-Source: AGHT+IFE5cOOheiVPTye+BuJEG9wzgfgZl5i5NM57QsThDYJXH/DRPB8NOBEAAUlJwAAyu9L8+MeCzX6etil X-Received: by 2002:a05:6871:6012:b0:29f:e9db:1715 with SMTP id 586e51a60fabf-2b804f72d96mr2269696fac.16.1738775431239; Wed, 05 Feb 2025 09:10:31 -0800 (PST) Received: from postal.iol.unh.edu (postal.iol.unh.edu. [132.177.123.84]) by smtp-relay.gmail.com with ESMTPS id 586e51a60fabf-2b35611619csm978584fac.3.2025.02.05.09.10.31 (version=TLS1_2 cipher=ECDHE-ECDSA-AES128-GCM-SHA256 bits=128/128); Wed, 05 Feb 2025 09:10:31 -0800 (PST) X-Relaying-Domain: iol.unh.edu Date: Wed, 05 Feb 2025 09:10:31 -0800 (PST) Message-ID: <67a39b87.050a0220.37a7ca.dd4eSMTPIN_ADDED_MISSING@mx.google.com> Received: from [172.17.0.5] (unknown [172.18.0.217]) by postal.iol.unh.edu (Postfix) with ESMTP id D86026052471; Wed, 5 Feb 2025 12:10:30 -0500 (EST) Subject: |SUCCESS| pw150648 [PATCH] net/ice: fix segmentation fault Rx functi From: dpdklab@iol.unh.edu To: Test Report Cc: dpdk-test-reports@iol.unh.edu In-Reply-To: <20250130192617.2744705-1-vladimir.medvedkin@intel.com> References: <20250130192617.2744705-1-vladimir.medvedkin@intel.com> Content-Type: text/plain X-BeenThere: test-report@dpdk.org X-Mailman-Version: 2.1.29 Precedence: list List-Id: automatic DPDK test reports List-Unsubscribe: , List-Archive: List-Post: List-Help: List-Subscribe: , Errors-To: test-report-bounces@dpdk.org Test-Label: iol-compile-amd64-testing Test-Status: SUCCESS http://dpdk.org/patch/150648 _Testing PASS_ Submitter: Medvedkin, Vladimir Date: Thursday, January 30 2025 19:26:17 DPDK git baseline: Repo:dpdk Branch: master CommitID:8c565bbebb8f72decbc4af6a69cb76f07bffc472 150648 --> testing pass Test environment and result as below: +---------------------+-------------------+--------------------+----------------------+------------------+-------------------+-------------------------+ | Environment | dpdk_msvc_compile | dpdk_meson_compile | dpdk_mingw64_compile | dpdk_compile_ovs | dpdk_compile_spdk | dpdk_llvm_clang_compile | +=====================+===================+====================+======================+==================+===================+=========================+ | Windows Server 2022 | PASS | SKIPPED | PASS | SKIPPED | SKIPPED | PASS | +---------------------+-------------------+--------------------+----------------------+------------------+-------------------+-------------------------+ | FreeBSD 13.4 | SKIPPED | PASS | SKIPPED | SKIPPED | SKIPPED | SKIPPED | +---------------------+-------------------+--------------------+----------------------+------------------+-------------------+-------------------------+ | FreeBSD 14.2 | SKIPPED | PASS | SKIPPED | SKIPPED | SKIPPED | SKIPPED | +---------------------+-------------------+--------------------+----------------------+------------------+-------------------+-------------------------+ | CentOS Stream 9 | SKIPPED | PASS | SKIPPED | PASS | PASS | SKIPPED | +---------------------+-------------------+--------------------+----------------------+------------------+-------------------+-------------------------+ | Debian Bullseye | SKIPPED | PASS | SKIPPED | PASS | PASS | SKIPPED | +---------------------+-------------------+--------------------+----------------------+------------------+-------------------+-------------------------+ | Debian 12 | SKIPPED | PASS | SKIPPED | PASS | PASS | SKIPPED | +---------------------+-------------------+--------------------+----------------------+------------------+-------------------+-------------------------+ | Fedora 40 (Clang) | SKIPPED | PASS | SKIPPED | PASS | PASS | SKIPPED | +---------------------+-------------------+--------------------+----------------------+------------------+-------------------+-------------------------+ | Fedora 40 | SKIPPED | PASS | SKIPPED | PASS | PASS | SKIPPED | +---------------------+-------------------+--------------------+----------------------+------------------+-------------------+-------------------------+ | Fedora 41 (Clang) | SKIPPED | PASS | SKIPPED | PASS | PASS | SKIPPED | +---------------------+-------------------+--------------------+----------------------+------------------+-------------------+-------------------------+ | Fedora 41 | SKIPPED | PASS | SKIPPED | PASS | PASS | SKIPPED | +---------------------+-------------------+--------------------+----------------------+------------------+-------------------+-------------------------+ | openSUSE Leap 15 | SKIPPED | PASS | SKIPPED | SKIPPED | SKIPPED | SKIPPED | +---------------------+-------------------+--------------------+----------------------+------------------+-------------------+-------------------------+ | RHEL8 | SKIPPED | PASS | SKIPPED | PASS | SKIPPED | SKIPPED | +---------------------+-------------------+--------------------+----------------------+------------------+-------------------+-------------------------+ | RHEL9 | SKIPPED | PASS | SKIPPED | PASS | SKIPPED | SKIPPED | +---------------------+-------------------+--------------------+----------------------+------------------+-------------------+-------------------------+ | Ubuntu 20.04 | SKIPPED | PASS | SKIPPED | SKIPPED | SKIPPED | SKIPPED | +---------------------+-------------------+--------------------+----------------------+------------------+-------------------+-------------------------+ | Ubuntu 22.04 | SKIPPED | PASS | SKIPPED | PASS | PASS | SKIPPED | +---------------------+-------------------+--------------------+----------------------+------------------+-------------------+-------------------------+ | Ubuntu 24.04 | SKIPPED | PASS | SKIPPED | PASS | PASS | SKIPPED | +---------------------+-------------------+--------------------+----------------------+------------------+-------------------+-------------------------+ | Alpine | SKIPPED | PASS | SKIPPED | PASS | SKIPPED | SKIPPED | +---------------------+-------------------+--------------------+----------------------+------------------+-------------------+-------------------------+ Windows Server 2022 Kernel: 10.0.20348.2031 Compiler: clang 15.0.7, gcc 14.1.0 (MinGW), and MSVC VS 19.39.33521 FreeBSD 13.4 Kernel: 13.4-RELEASE-p1 Compiler: clang 18.1.6 FreeBSD 14.2 Kernel: 14.2-RELEASE Compiler: clang 18.1.6 CentOS Stream 9 Kernel: Depends on container host Compiler: gcc 11.5.0 20240719 (Red Hat 11.5.0-2) Debian Bullseye Kernel: Depends on container host Compiler: gcc (Debian 10.2.1-6) 10.2.1 20210110 Debian 12 Kernel: Depends on container host Compiler: gcc (Debian 12.2.0-14) 12.2.0 Fedora 40 (Clang) Kernel: Depends on container host Compiler: clang 18.1.8 (Fedora 18.1.8-1.fc40) Fedora 40 Kernel: Depends on container host Compiler: gcc 14.2.1 20240912 (Red Hat 14.2.1-3) Fedora 41 (Clang) Kernel: Depends on container host Compiler: clang 19.1.5 (Fedora 19.1.5-1.fc41) Fedora 41 Kernel: Depends on container host Compiler: gcc 14.2.1 20240912 (Red Hat 14.2.1-3) openSUSE Leap 15 Kernel: Depends on container host Compiler: gcc (SUSE Linux) 7.5.0 RHEL8 Kernel: Depends on container host Compiler: gcc 8.5.0 20210514 (Red Hat 8.5.0-22) RHEL9 Kernel: Depends on container host Compiler: gcc 11.5.0 20240719 (Red Hat 11.5.0-2) Ubuntu 20.04 Kernel: Depends on container host Compiler: gcc (Ubuntu 9.4.0-1ubuntu1~20.04.2) 9.4.0 Ubuntu 22.04 Kernel: Depends on container host Compiler: gcc (Ubuntu 11.4.0-1ubuntu1~22.04) 11.4.0 Ubuntu 24.04 Kernel: Depends on container host Compiler: gcc (Ubuntu 13.3.0-6ubuntu2~24.04) 13.3.0 Alpine Kernel: Depends on container host Compiler: gcc (Alpine 14.2.0) 14.2.0 To view detailed results, visit: https://lab.dpdk.org/results/dashboard/patchsets/32465/ UNH-IOL DPDK Community Lab To manage your email subscriptions, visit: https://lab.dpdk.org/results/dashboard/preferences/subscriptions/