From mboxrd@z Thu Jan 1 00:00:00 1970 Return-Path: Received: from mails.dpdk.org (mails.dpdk.org [217.70.189.124]) by inbox.dpdk.org (Postfix) with ESMTP id B98F1461A0 for ; Wed, 5 Feb 2025 18:10:40 +0100 (CET) Received: from mails.dpdk.org (localhost [127.0.0.1]) by mails.dpdk.org (Postfix) with ESMTP id B509940270; Wed, 5 Feb 2025 18:10:40 +0100 (CET) Received: from mail-io1-f97.google.com (mail-io1-f97.google.com [209.85.166.97]) by mails.dpdk.org (Postfix) with ESMTP id 224DC40261 for ; Wed, 5 Feb 2025 18:10:39 +0100 (CET) Received: by mail-io1-f97.google.com with SMTP id ca18e2360f4ac-854a682d2b6so2986739f.0 for ; Wed, 05 Feb 2025 09:10:39 -0800 (PST) DKIM-Signature: v=1; a=rsa-sha256; c=relaxed/relaxed; d=iol.unh.edu; s=unh-iol; t=1738775438; x=1739380238; darn=dpdk.org; h=references:in-reply-to:cc:to:from:subject:message-id:date:from:to :cc:subject:date:message-id:reply-to; bh=IFekH0vSRxWBlmB6zjf2wXy4adAwXozq5MAMS1pY20Q=; b=MFouxzYEoIaTuAi5jAqmepeXFGSUiyUkMKgXkasLAwBIkznZ0AGKy8QOJKoMd81plN 5oOVqSR+QjfFi9MlLaFYHfjMbVZAjhO8aDvpZiL3bzOHhUgNeKm6/zG/Cvk/Tq8pbVMM SkoiYoWzScQj+omze71+zBthmQS4QwalOV4Us= X-Google-DKIM-Signature: v=1; a=rsa-sha256; c=relaxed/relaxed; d=1e100.net; s=20230601; t=1738775438; x=1739380238; h=references:in-reply-to:cc:to:from:subject:message-id:date :x-gm-message-state:from:to:cc:subject:date:message-id:reply-to; bh=IFekH0vSRxWBlmB6zjf2wXy4adAwXozq5MAMS1pY20Q=; b=r0Flmo3w6wMaGedsu+g6+Wi1RHG/HepeNVZpaStwK6BRUjYgFjRY44Ovbx+YwKpHu9 sGOmzai7ygXLn/UyOsk+QBKCFuobKXY6K2hLkixwOAoBMAFzHH4SdRX8bEI7Eg0qeqwC uWkH9NLt3xgxwt9pEuP54O2X2e1S4IiaKMtHB+OgnR49D374sVL2asBKaF938uZnvffA zU5jtQvEu/J8gFErhpjhq7HPHnbtP2rF1HDaZ80Cals/kBx6NRSs9x2u0GX8Mwwe5o9+ jUfj1iBckm9xn5mf566o3OETaooMYAU1IZJHxwwheUHag2qfZAZZe0YWOTdNHDyMvUTC VxYg== X-Gm-Message-State: AOJu0YwmAVtcwIjFWdDixdv5EWBlLusEl6LJkJmNE7HH+kvxavmT7qzO V+exF7lohPH5T9ik/eZXeIuz7GKnAwM3Km4EkmgEHAo+4a/OUiBlCtdBXYAFjCrzKnQmGI09CO/ 0s+/oEmdv9NJlV4upvHsYoN2fJnnyndpl8uE81f0PrDuxaWwAiCnS44OM X-Gm-Gg: ASbGnctu+WRr4aha67WH1bbhjfKlZ9oKysufN37M7KaNdL7ModAy2IkCUTWF0ndKwL3 UdnlxPj9RjoFuhvK1wM/CI1BdYryFtx9Dnywg+UGAJ8A03qSA0YTEaMW9b4rN3JI8G1dHN8uJZa 64HZQcc3dnM4UX2X2082Nippm6rFnFw6wioHix3UXIfLJZ7iBx/7H/2jM2GDl9JE2MwSp9NUo9X z9yhUH4bz8RF2GamXN+AbTk8ULtL4tnzqWLV/jcd5lH9iuw7gjCZ51oIH9uMq/aMAUPgPt9FjDB fQqMFjnYIkp3pq+92qz7zxYa4Df2/A7lISjaOnZa0w== X-Google-Smtp-Source: AGHT+IFuTpR3UeM/ttL8qHGXTb2H0T5eXtUSNbHB/LIo00bz/ahPU8ugGfxwBsby+TLx2k1rtmaTT9JeY5e+ X-Received: by 2002:a05:6e02:1545:b0:3d0:405d:e94f with SMTP id e9e14a558f8ab-3d04f917886mr33570215ab.17.1738775438427; Wed, 05 Feb 2025 09:10:38 -0800 (PST) Received: from postal.iol.unh.edu (postal.iol.unh.edu. [2606:4100:3880:1234::84]) by smtp-relay.gmail.com with ESMTPS id 8926c6da1cb9f-4ec746c0059sm820223173.60.2025.02.05.09.10.38 (version=TLS1_2 cipher=ECDHE-ECDSA-AES128-GCM-SHA256 bits=128/128); Wed, 05 Feb 2025 09:10:38 -0800 (PST) X-Relaying-Domain: iol.unh.edu Date: Wed, 05 Feb 2025 09:10:38 -0800 (PST) Message-ID: <67a39b8e.050a0220.1f70df.60ecSMTPIN_ADDED_MISSING@mx.google.com> Received: from [172.17.0.6] (unknown [172.18.0.214]) by postal.iol.unh.edu (Postfix) with ESMTP id 0A52D6052472; Wed, 5 Feb 2025 12:10:38 -0500 (EST) Subject: |SUCCESS| pw150638-150640 [PATCH] [v2,3/3] trace: fix undefined beha From: dpdklab@iol.unh.edu To: Test Report Cc: dpdk-test-reports@iol.unh.edu In-Reply-To: <20250130145849.82003-3-david.marchand@redhat.com> References: <20250130145849.82003-3-david.marchand@redhat.com> Content-Type: text/plain X-BeenThere: test-report@dpdk.org X-Mailman-Version: 2.1.29 Precedence: list List-Id: automatic DPDK test reports List-Unsubscribe: , List-Archive: List-Post: List-Help: List-Subscribe: , Errors-To: test-report-bounces@dpdk.org Test-Label: iol-compile-amd64-testing Test-Status: SUCCESS http://dpdk.org/patch/150640 _Testing PASS_ Submitter: David Marchand Date: Thursday, January 30 2025 14:58:49 DPDK git baseline: Repo:dpdk Branch: master CommitID:9ab5a5f30c4be9f12ddaf50aec3435986bc5a495 150638-150640 --> testing pass Test environment and result as below: +---------------------+--------------------+------------------+-------------------+-------------------+----------------------+-------------------------+ | Environment | dpdk_meson_compile | dpdk_compile_ovs | dpdk_compile_spdk | dpdk_msvc_compile | dpdk_mingw64_compile | dpdk_llvm_clang_compile | +=====================+====================+==================+===================+===================+======================+=========================+ | CentOS Stream 9 | PASS | PASS | PASS | SKIPPED | SKIPPED | SKIPPED | +---------------------+--------------------+------------------+-------------------+-------------------+----------------------+-------------------------+ | Debian 12 | PASS | PASS | PASS | SKIPPED | SKIPPED | SKIPPED | +---------------------+--------------------+------------------+-------------------+-------------------+----------------------+-------------------------+ | Debian Bullseye | PASS | PASS | PASS | SKIPPED | SKIPPED | SKIPPED | +---------------------+--------------------+------------------+-------------------+-------------------+----------------------+-------------------------+ | Fedora 41 (Clang) | PASS | PASS | PASS | SKIPPED | SKIPPED | SKIPPED | +---------------------+--------------------+------------------+-------------------+-------------------+----------------------+-------------------------+ | Fedora 40 | PASS | PASS | PASS | SKIPPED | SKIPPED | SKIPPED | +---------------------+--------------------+------------------+-------------------+-------------------+----------------------+-------------------------+ | Fedora 40 (Clang) | PASS | PASS | PASS | SKIPPED | SKIPPED | SKIPPED | +---------------------+--------------------+------------------+-------------------+-------------------+----------------------+-------------------------+ | Fedora 41 | PASS | PASS | PASS | SKIPPED | SKIPPED | SKIPPED | +---------------------+--------------------+------------------+-------------------+-------------------+----------------------+-------------------------+ | Ubuntu 24.04 | PASS | PASS | PASS | SKIPPED | SKIPPED | SKIPPED | +---------------------+--------------------+------------------+-------------------+-------------------+----------------------+-------------------------+ | RHEL8 | PASS | PASS | SKIPPED | SKIPPED | SKIPPED | SKIPPED | +---------------------+--------------------+------------------+-------------------+-------------------+----------------------+-------------------------+ | openSUSE Leap 15 | PASS | SKIPPED | SKIPPED | SKIPPED | SKIPPED | SKIPPED | +---------------------+--------------------+------------------+-------------------+-------------------+----------------------+-------------------------+ | Ubuntu 20.04 | PASS | SKIPPED | SKIPPED | SKIPPED | SKIPPED | SKIPPED | +---------------------+--------------------+------------------+-------------------+-------------------+----------------------+-------------------------+ | Ubuntu 22.04 | PASS | PASS | PASS | SKIPPED | SKIPPED | SKIPPED | +---------------------+--------------------+------------------+-------------------+-------------------+----------------------+-------------------------+ | RHEL9 | PASS | PASS | SKIPPED | SKIPPED | SKIPPED | SKIPPED | +---------------------+--------------------+------------------+-------------------+-------------------+----------------------+-------------------------+ | Alpine | PASS | PASS | SKIPPED | SKIPPED | SKIPPED | SKIPPED | +---------------------+--------------------+------------------+-------------------+-------------------+----------------------+-------------------------+ | FreeBSD 13.4 | PASS | SKIPPED | SKIPPED | SKIPPED | SKIPPED | SKIPPED | +---------------------+--------------------+------------------+-------------------+-------------------+----------------------+-------------------------+ | FreeBSD 14.2 | PASS | SKIPPED | SKIPPED | SKIPPED | SKIPPED | SKIPPED | +---------------------+--------------------+------------------+-------------------+-------------------+----------------------+-------------------------+ | Windows Server 2022 | SKIPPED | SKIPPED | SKIPPED | PASS | PASS | PASS | +---------------------+--------------------+------------------+-------------------+-------------------+----------------------+-------------------------+ CentOS Stream 9 Kernel: Depends on container host Compiler: gcc 11.5.0 20240719 (Red Hat 11.5.0-2) Debian 12 Kernel: Depends on container host Compiler: gcc (Debian 12.2.0-14) 12.2.0 Debian Bullseye Kernel: Depends on container host Compiler: gcc (Debian 10.2.1-6) 10.2.1 20210110 Fedora 41 (Clang) Kernel: Depends on container host Compiler: clang 19.1.5 (Fedora 19.1.5-1.fc41) Fedora 40 Kernel: Depends on container host Compiler: gcc 14.2.1 20240912 (Red Hat 14.2.1-3) Fedora 40 (Clang) Kernel: Depends on container host Compiler: clang 18.1.8 (Fedora 18.1.8-1.fc40) Fedora 41 Kernel: Depends on container host Compiler: gcc 14.2.1 20240912 (Red Hat 14.2.1-3) Ubuntu 24.04 Kernel: Depends on container host Compiler: gcc (Ubuntu 13.3.0-6ubuntu2~24.04) 13.3.0 RHEL8 Kernel: Depends on container host Compiler: gcc 8.5.0 20210514 (Red Hat 8.5.0-22) openSUSE Leap 15 Kernel: Depends on container host Compiler: gcc (SUSE Linux) 7.5.0 Ubuntu 20.04 Kernel: Depends on container host Compiler: gcc (Ubuntu 9.4.0-1ubuntu1~20.04.2) 9.4.0 Ubuntu 22.04 Kernel: Depends on container host Compiler: gcc (Ubuntu 11.4.0-1ubuntu1~22.04) 11.4.0 RHEL9 Kernel: Depends on container host Compiler: gcc 11.5.0 20240719 (Red Hat 11.5.0-2) Alpine Kernel: Depends on container host Compiler: gcc (Alpine 14.2.0) 14.2.0 FreeBSD 13.4 Kernel: 13.4-RELEASE-p1 Compiler: clang 18.1.6 FreeBSD 14.2 Kernel: 14.2-RELEASE Compiler: clang 18.1.6 Windows Server 2022 Kernel: 10.0.20348.2031 Compiler: clang 15.0.7, gcc 14.1.0 (MinGW), and MSVC VS 19.39.33521 To view detailed results, visit: https://lab.dpdk.org/results/dashboard/patchsets/32460/ UNH-IOL DPDK Community Lab To manage your email subscriptions, visit: https://lab.dpdk.org/results/dashboard/preferences/subscriptions/