From mboxrd@z Thu Jan 1 00:00:00 1970 Return-Path: Received: from mails.dpdk.org (mails.dpdk.org [217.70.189.124]) by inbox.dpdk.org (Postfix) with ESMTP id D482B461A0 for ; Wed, 5 Feb 2025 18:10:40 +0100 (CET) Received: from mails.dpdk.org (localhost [127.0.0.1]) by mails.dpdk.org (Postfix) with ESMTP id C6E2D40647; Wed, 5 Feb 2025 18:10:40 +0100 (CET) Received: from mail-io1-f100.google.com (mail-io1-f100.google.com [209.85.166.100]) by mails.dpdk.org (Postfix) with ESMTP id 402D440270 for ; Wed, 5 Feb 2025 18:10:39 +0100 (CET) Received: by mail-io1-f100.google.com with SMTP id ca18e2360f4ac-844e6d1283aso33709639f.1 for ; Wed, 05 Feb 2025 09:10:39 -0800 (PST) DKIM-Signature: v=1; a=rsa-sha256; c=relaxed/relaxed; d=iol.unh.edu; s=unh-iol; t=1738775438; x=1739380238; darn=dpdk.org; h=cc:to:from:subject:message-id:date:from:to:cc:subject:date :message-id:reply-to; bh=7ufxkNkywJNndXjEWtnAHWUpPLAUnOW8QjAwlJYvTik=; b=RWEct8lFnZTypBLNEiWbKMs9kYXizC8fNyvyGf8oV2jKnjQKvRgx+W86IWL0x5M8tC S6/PDgfd0Q8rP6CnhbsE3JycE4Q8glQGdWl3JzDeB2N+fEtSgYsOO6p7Pgh6ah6885eJ +J9pbLtC1TClOv3KSKeqwkoLmQvm3zilZ7tb8= X-Google-DKIM-Signature: v=1; a=rsa-sha256; c=relaxed/relaxed; d=1e100.net; s=20230601; t=1738775438; x=1739380238; h=cc:to:from:subject:message-id:date:x-gm-message-state:from:to:cc :subject:date:message-id:reply-to; bh=7ufxkNkywJNndXjEWtnAHWUpPLAUnOW8QjAwlJYvTik=; b=H8KlSNu8uB5iKxaDMAkPjM6a76mVCVxt5YKKGbWaijvbkF8p3xcaTW4/e0ePFclHxY o+c/pW7tPNymEaqb3eGJa6mjU16arWpD3x2hXo155X8pAhhWT36tieL77JsQEtqQe7zX LR2EYJy5Ug730iRzhKk5DfLjczpDH7w3IlKR8ThXY35lkasJE0xMIQSR/DIgid5VmvBz U9YvagMkyHhBhLQdUz5Npjlr/JH3y9QwYO7wddC06d3PeTprdqQ75Dbp3Gza8mSR7ycr jjmAPPWuDAIFKzIkQXDlgMRs+Vm5t+KSBVZ3EELs1Jk4ZPNRcfFUSnqUyVl+Kb6QXWbL qQ1g== X-Gm-Message-State: AOJu0YweXMQOO9R6uKFtIMyj4vDf0v10o9mPj37iP18h/0/Jdorgobv1 Yt6NNIxse2wsd88V6Gi5b/Oz8YpOWhwo6xoKHNwWoY0YczRVwhP/aZ3d7FL232T3zVOzKs+zL3Z h5oqO0I98jNcmMeUNlVUX4O96DJEfAG3we0+5Shb8 X-Gm-Gg: ASbGncu9Gb/7QXQIMkrD04vMYTCA7O0K8cS4E++4IGz910IklQtB11YOeLsXosRwsiq AHlEaF/WrEwIvLU1Q+Vyb6Z6KXvUBKIhYF1rBAOOeMjYKSxuQtpJoVxEU5wNMITweKToUjTbj3I /+tvzSFHFVf53KDKv9zuYMwu63F+KUSZWiLaMR1R4RkddI3mw5Qx9FcpRKGIIb50lCcRWSaFwc6 JBoFW42gjqNZE9h01LuuMMaY93D/CNQ7f6/zbG7SNX/TzAUmLfHMyQqjxealkNPhZzcYfn7Gb8z TjgN9HlpB1nkuYtQVsSyz17H7sp8lg== X-Google-Smtp-Source: AGHT+IFCHbK3l/r/+4wAzc3OqGNMMbNoAb5ZYuLZcjL1+l7ppP33IK0xrzGQ/KnPSIXSQPOGIRPBNx/xcRLV X-Received: by 2002:a05:6602:4743:b0:84c:d479:e5a6 with SMTP id ca18e2360f4ac-854f39aa979mr12592139f.1.1738775438620; Wed, 05 Feb 2025 09:10:38 -0800 (PST) Received: from postal.iol.unh.edu (postal.iol.unh.edu. [132.177.123.84]) by smtp-relay.gmail.com with ESMTPS id ca18e2360f4ac-854a15d2563sm82602139f.10.2025.02.05.09.10.38 (version=TLS1_2 cipher=ECDHE-ECDSA-AES128-GCM-SHA256 bits=128/128); Wed, 05 Feb 2025 09:10:38 -0800 (PST) X-Relaying-Domain: iol.unh.edu Date: Wed, 05 Feb 2025 09:10:38 -0800 (PST) Message-ID: <67a39b8e.050a0220.b494f.7a36SMTPIN_ADDED_MISSING@mx.google.com> Received: from [172.21.0.15] (unknown [172.18.0.240]) by postal.iol.unh.edu (Postfix) with ESMTP id F21DC6052471; Wed, 5 Feb 2025 12:10:37 -0500 (EST) Subject: |SUCCESS| [GIT MASTER] 9eb60580d155f5e3a36927dbb1e59ef9623231ce From: dpdklab@iol.unh.edu To: Test Report Cc: dpdk-test-reports@iol.unh.edu, Bruce Richardson Content-Type: text/plain X-BeenThere: test-report@dpdk.org X-Mailman-Version: 2.1.29 Precedence: list List-Id: automatic DPDK test reports List-Unsubscribe: , List-Archive: List-Post: List-Help: List-Subscribe: , Errors-To: test-report-bounces@dpdk.org _Testing PASS_ Branch: dpdk-next-net-intel 9eb60580d155f5e3a36927dbb1e59ef9623231ce --> testing pass Test environment and result as below: +---------------------+--------------------+------------------+-------------------+-------------------+----------------------+-------------------------+ | Environment | dpdk_meson_compile | dpdk_compile_ovs | dpdk_compile_spdk | dpdk_msvc_compile | dpdk_mingw64_compile | dpdk_llvm_clang_compile | +=====================+====================+==================+===================+===================+======================+=========================+ | Debian Bullseye | PASS | PASS | PASS | SKIPPED | SKIPPED | SKIPPED | +---------------------+--------------------+------------------+-------------------+-------------------+----------------------+-------------------------+ | CentOS Stream 9 | PASS | PASS | PASS | SKIPPED | SKIPPED | SKIPPED | +---------------------+--------------------+------------------+-------------------+-------------------+----------------------+-------------------------+ | Debian 12 | PASS | PASS | PASS | SKIPPED | SKIPPED | SKIPPED | +---------------------+--------------------+------------------+-------------------+-------------------+----------------------+-------------------------+ | Fedora 40 (Clang) | PASS | PASS | PASS | SKIPPED | SKIPPED | SKIPPED | +---------------------+--------------------+------------------+-------------------+-------------------+----------------------+-------------------------+ | Fedora 40 | PASS | PASS | PASS | SKIPPED | SKIPPED | SKIPPED | +---------------------+--------------------+------------------+-------------------+-------------------+----------------------+-------------------------+ | Fedora 41 (Clang) | PASS | PASS | PASS | SKIPPED | SKIPPED | SKIPPED | +---------------------+--------------------+------------------+-------------------+-------------------+----------------------+-------------------------+ | Fedora 41 | PASS | PASS | PASS | SKIPPED | SKIPPED | SKIPPED | +---------------------+--------------------+------------------+-------------------+-------------------+----------------------+-------------------------+ | openSUSE Leap 15 | PASS | SKIPPED | SKIPPED | SKIPPED | SKIPPED | SKIPPED | +---------------------+--------------------+------------------+-------------------+-------------------+----------------------+-------------------------+ | RHEL8 | PASS | PASS | SKIPPED | SKIPPED | SKIPPED | SKIPPED | +---------------------+--------------------+------------------+-------------------+-------------------+----------------------+-------------------------+ | RHEL9 | PASS | PASS | SKIPPED | SKIPPED | SKIPPED | SKIPPED | +---------------------+--------------------+------------------+-------------------+-------------------+----------------------+-------------------------+ | Ubuntu 20.04 | PASS | SKIPPED | SKIPPED | SKIPPED | SKIPPED | SKIPPED | +---------------------+--------------------+------------------+-------------------+-------------------+----------------------+-------------------------+ | Ubuntu 22.04 | PASS | PASS | PASS | SKIPPED | SKIPPED | SKIPPED | +---------------------+--------------------+------------------+-------------------+-------------------+----------------------+-------------------------+ | Ubuntu 24.04 | PASS | PASS | PASS | SKIPPED | SKIPPED | SKIPPED | +---------------------+--------------------+------------------+-------------------+-------------------+----------------------+-------------------------+ | Alpine | PASS | PASS | SKIPPED | SKIPPED | SKIPPED | SKIPPED | +---------------------+--------------------+------------------+-------------------+-------------------+----------------------+-------------------------+ | FreeBSD 13.4 | PASS | SKIPPED | SKIPPED | SKIPPED | SKIPPED | SKIPPED | +---------------------+--------------------+------------------+-------------------+-------------------+----------------------+-------------------------+ | FreeBSD 14.2 | PASS | SKIPPED | SKIPPED | SKIPPED | SKIPPED | SKIPPED | +---------------------+--------------------+------------------+-------------------+-------------------+----------------------+-------------------------+ | Windows Server 2022 | SKIPPED | SKIPPED | SKIPPED | PASS | PASS | PASS | +---------------------+--------------------+------------------+-------------------+-------------------+----------------------+-------------------------+ Debian Bullseye Kernel: Depends on container host Compiler: gcc (Debian 10.2.1-6) 10.2.1 20210110 CentOS Stream 9 Kernel: Depends on container host Compiler: gcc 11.5.0 20240719 (Red Hat 11.5.0-2) Debian 12 Kernel: Depends on container host Compiler: gcc (Debian 12.2.0-14) 12.2.0 Fedora 40 (Clang) Kernel: Depends on container host Compiler: clang 18.1.8 (Fedora 18.1.8-1.fc40) Fedora 40 Kernel: Depends on container host Compiler: gcc 14.2.1 20240912 (Red Hat 14.2.1-3) Fedora 41 (Clang) Kernel: Depends on container host Compiler: clang 19.1.5 (Fedora 19.1.5-1.fc41) Fedora 41 Kernel: Depends on container host Compiler: gcc 14.2.1 20240912 (Red Hat 14.2.1-3) openSUSE Leap 15 Kernel: Depends on container host Compiler: gcc (SUSE Linux) 7.5.0 RHEL8 Kernel: Depends on container host Compiler: gcc 8.5.0 20210514 (Red Hat 8.5.0-22) RHEL9 Kernel: Depends on container host Compiler: gcc 11.5.0 20240719 (Red Hat 11.5.0-2) Ubuntu 20.04 Kernel: Depends on container host Compiler: gcc (Ubuntu 9.4.0-1ubuntu1~20.04.2) 9.4.0 Ubuntu 22.04 Kernel: Depends on container host Compiler: gcc (Ubuntu 11.4.0-1ubuntu1~22.04) 11.4.0 Ubuntu 24.04 Kernel: Depends on container host Compiler: gcc (Ubuntu 13.3.0-6ubuntu2~24.04) 13.3.0 Alpine Kernel: Depends on container host Compiler: gcc (Alpine 14.2.0) 14.2.0 FreeBSD 13.4 Kernel: 13.4-RELEASE-p1 Compiler: clang 18.1.6 FreeBSD 14.2 Kernel: 14.2-RELEASE Compiler: clang 18.1.6 Windows Server 2022 Kernel: 10.0.20348.2031 Compiler: clang 15.0.7, gcc 14.1.0 (MinGW), and MSVC VS 19.39.33521 To view detailed results, visit: https://lab.dpdk.org/results/dashboard/tarballs/32391/ UNH-IOL DPDK Community Lab To manage your email subscriptions, visit: https://lab.dpdk.org/results/dashboard/preferences/subscriptions/