From mboxrd@z Thu Jan 1 00:00:00 1970 Return-Path: Received: from mails.dpdk.org (mails.dpdk.org [217.70.189.124]) by inbox.dpdk.org (Postfix) with ESMTP id D8577461A0 for ; Wed, 5 Feb 2025 18:10:43 +0100 (CET) Received: from mails.dpdk.org (localhost [127.0.0.1]) by mails.dpdk.org (Postfix) with ESMTP id D51FB40270; Wed, 5 Feb 2025 18:10:43 +0100 (CET) Received: from mail-il1-f225.google.com (mail-il1-f225.google.com [209.85.166.225]) by mails.dpdk.org (Postfix) with ESMTP id 1F29C40261 for ; Wed, 5 Feb 2025 18:10:42 +0100 (CET) Received: by mail-il1-f225.google.com with SMTP id e9e14a558f8ab-3d04932a36cso13498065ab.1 for ; Wed, 05 Feb 2025 09:10:42 -0800 (PST) DKIM-Signature: v=1; a=rsa-sha256; c=relaxed/relaxed; d=iol.unh.edu; s=unh-iol; t=1738775441; x=1739380241; darn=dpdk.org; h=references:in-reply-to:cc:to:from:subject:message-id:date:from:to :cc:subject:date:message-id:reply-to; bh=O68XNwPWPabgKsb3MDhU3bGMvybU5L17Zhhk/bO5MgI=; b=DCenefOcUTaqK4NUxaUwDwrdxT6uMaokzdEZlqDFe3bz6y2w1aH8rNn/SxkWeotPQk e12jogWU+Y2Q9+blJ147N+0LuKUzswo2V/p65prGqHRaN8MBOi3/9bXc4yu3r/Ccw21m G/Sbtr/40zyHv1GdB6lyXhZuAStDGaU0xh0Ag= X-Google-DKIM-Signature: v=1; a=rsa-sha256; c=relaxed/relaxed; d=1e100.net; s=20230601; t=1738775441; x=1739380241; h=references:in-reply-to:cc:to:from:subject:message-id:date :x-gm-message-state:from:to:cc:subject:date:message-id:reply-to; bh=O68XNwPWPabgKsb3MDhU3bGMvybU5L17Zhhk/bO5MgI=; b=dbR1lJoByAw6icOkLVA7YSqZFwyFO1bTzYCwn5KEnfEv90SVzv6TZMu6UPwyE7grgw A75tJar+HMrqwLMvXiyWBQ+P2xI7M4cjsLJO78lOh/0dW2532fCAfej5DfHnljoOsrWp aVQVa1DvvhTo7FDjvsl7N5oyy1xkmIYHOAgW2tTnuCLW2z3SXRhI6f1cjym2cJogmHW3 XySgigbUAj6eSNAYnGHHN44RRBYG1dGe7K6oIPFHMVk+BpzePumWEZeVCppRgwjbfZkl xv/ORJTMNW24HQ5PRq+3f7QefuPdpc1iTuIlA95XtZw4F8w0ZFtiBjMf/gRSpaI6zMmm DdYg== X-Gm-Message-State: AOJu0YzptcnRTQG9nWJ0sWA7SIYrHNTd8NAy1ed2MEvgxM6EEKL7kMaL UKx6y+VyP72+kRB9qGR9UOOOt+KMZBI/USmgM72cmtYOhYYhY98w6fSHAOAHtVmMCOws3TJSFvQ R85UqGfrpFmWUPaD6mNFI4CZr1dFgelumSZcvncCa X-Gm-Gg: ASbGncuv4sISmivmjXxpjvaOu8f+Vz0EFReJpBm+rDt3j7ySNcL8V9XhxFBFvgy8Qju QvjuuOOdRzQ5+0K73m0Mn55chHiDwF9+CC2f3yjEKOrz6lK1oFFIlFqbyFxgb/GFNaFtnUs47iO NXSILI//7XD63xOangUKX97XlWKzWfI65IGDRfEHkJzJW17V/Rm5R53lVamYsM3ZYEyarGmbJag MVNv8Z+6iGgsWFZffGeesBc6d5Lys9XDV5wwkwcikJf+0Pb0ZFFRaQv13alXKr2KBDiyHjnwSRe aONDn2VCPffVIZHEkEreh5UqgwqerQ== X-Google-Smtp-Source: AGHT+IFCel+5tXLXaMWeX31MWInEpibbxBZqENQ6NA3KXonjvtMlCP2hj60/9KuBSaYJHfRfYkFI9JxK7Hlw X-Received: by 2002:a05:6e02:3b83:b0:3cf:bb6e:3065 with SMTP id e9e14a558f8ab-3d04f2c29d1mr43647855ab.0.1738775441442; Wed, 05 Feb 2025 09:10:41 -0800 (PST) Received: from postal.iol.unh.edu (postal.iol.unh.edu. [132.177.123.84]) by smtp-relay.gmail.com with ESMTPS id e9e14a558f8ab-3d0258d3984sm6835175ab.68.2025.02.05.09.10.41 (version=TLS1_2 cipher=ECDHE-ECDSA-AES128-GCM-SHA256 bits=128/128); Wed, 05 Feb 2025 09:10:41 -0800 (PST) X-Relaying-Domain: iol.unh.edu Date: Wed, 05 Feb 2025 09:10:41 -0800 (PST) Message-ID: <67a39b91.920a0220.15846c.f1c2SMTPIN_ADDED_MISSING@mx.google.com> Received: from [172.17.0.3] (unknown [172.18.0.215]) by postal.iol.unh.edu (Postfix) with ESMTP id A76616052471; Wed, 5 Feb 2025 12:10:40 -0500 (EST) Subject: |SUCCESS| pw150593 [PATCH] [v4] bus: fix inconsistent representation From: dpdklab@iol.unh.edu To: Test Report Cc: dpdk-test-reports@iol.unh.edu In-Reply-To: <20250129085416.226718-1-shperetz@nvidia.com> References: <20250129085416.226718-1-shperetz@nvidia.com> Content-Type: text/plain X-BeenThere: test-report@dpdk.org X-Mailman-Version: 2.1.29 Precedence: list List-Id: automatic DPDK test reports List-Unsubscribe: , List-Archive: List-Post: List-Help: List-Subscribe: , Errors-To: test-report-bounces@dpdk.org Test-Label: iol-compile-amd64-testing Test-Status: SUCCESS http://dpdk.org/patch/150593 _Testing PASS_ Submitter: Shani Peretz Date: Wednesday, January 29 2025 08:54:16 DPDK git baseline: Repo:dpdk Branch: master CommitID:3cd695c34528571c378c5f6be7ff81d3cca9a84c 150593 --> testing pass Test environment and result as below: +---------------------+--------------------+------------------+-------------------+-------------------+----------------------+ | Environment | dpdk_meson_compile | dpdk_compile_ovs | dpdk_compile_spdk | dpdk_msvc_compile | dpdk_mingw64_compile | +=====================+====================+==================+===================+===================+======================+ | CentOS Stream 9 | PASS | PASS | PASS | SKIPPED | SKIPPED | +---------------------+--------------------+------------------+-------------------+-------------------+----------------------+ | Debian 12 | PASS | PASS | PASS | SKIPPED | SKIPPED | +---------------------+--------------------+------------------+-------------------+-------------------+----------------------+ | Debian Bullseye | PASS | PASS | PASS | SKIPPED | SKIPPED | +---------------------+--------------------+------------------+-------------------+-------------------+----------------------+ | Fedora 40 (Clang) | PASS | PASS | PASS | SKIPPED | SKIPPED | +---------------------+--------------------+------------------+-------------------+-------------------+----------------------+ | Fedora 40 | PASS | PASS | PASS | SKIPPED | SKIPPED | +---------------------+--------------------+------------------+-------------------+-------------------+----------------------+ | Fedora 41 (Clang) | PASS | PASS | PASS | SKIPPED | SKIPPED | +---------------------+--------------------+------------------+-------------------+-------------------+----------------------+ | RHEL9 | PASS | PASS | SKIPPED | SKIPPED | SKIPPED | +---------------------+--------------------+------------------+-------------------+-------------------+----------------------+ | openSUSE Leap 15 | PASS | SKIPPED | SKIPPED | SKIPPED | SKIPPED | +---------------------+--------------------+------------------+-------------------+-------------------+----------------------+ | RHEL8 | PASS | PASS | SKIPPED | SKIPPED | SKIPPED | +---------------------+--------------------+------------------+-------------------+-------------------+----------------------+ | Ubuntu 20.04 | PASS | SKIPPED | SKIPPED | SKIPPED | SKIPPED | +---------------------+--------------------+------------------+-------------------+-------------------+----------------------+ | Ubuntu 22.04 | PASS | PASS | PASS | SKIPPED | SKIPPED | +---------------------+--------------------+------------------+-------------------+-------------------+----------------------+ | Ubuntu 24.04 | PASS | PASS | PASS | SKIPPED | SKIPPED | +---------------------+--------------------+------------------+-------------------+-------------------+----------------------+ | Alpine | PASS | PASS | SKIPPED | SKIPPED | SKIPPED | +---------------------+--------------------+------------------+-------------------+-------------------+----------------------+ | FreeBSD 13.4 | PASS | SKIPPED | SKIPPED | SKIPPED | SKIPPED | +---------------------+--------------------+------------------+-------------------+-------------------+----------------------+ | FreeBSD 14.2 | PASS | SKIPPED | SKIPPED | SKIPPED | SKIPPED | +---------------------+--------------------+------------------+-------------------+-------------------+----------------------+ | Fedora 41 | PASS | PASS | PASS | SKIPPED | SKIPPED | +---------------------+--------------------+------------------+-------------------+-------------------+----------------------+ | Windows Server 2022 | SKIPPED | SKIPPED | SKIPPED | PASS | PASS | +---------------------+--------------------+------------------+-------------------+-------------------+----------------------+ CentOS Stream 9 Kernel: Depends on container host Compiler: gcc 11.5.0 20240719 (Red Hat 11.5.0-2) Debian 12 Kernel: Depends on container host Compiler: gcc (Debian 12.2.0-14) 12.2.0 Debian Bullseye Kernel: Depends on container host Compiler: gcc (Debian 10.2.1-6) 10.2.1 20210110 Fedora 40 (Clang) Kernel: Depends on container host Compiler: clang 18.1.8 (Fedora 18.1.8-1.fc40) Fedora 40 Kernel: Depends on container host Compiler: gcc 14.2.1 20240912 (Red Hat 14.2.1-3) Fedora 41 (Clang) Kernel: Depends on container host Compiler: clang 19.1.5 (Fedora 19.1.5-1.fc41) RHEL9 Kernel: Depends on container host Compiler: gcc 11.5.0 20240719 (Red Hat 11.5.0-2) openSUSE Leap 15 Kernel: Depends on container host Compiler: gcc (SUSE Linux) 7.5.0 RHEL8 Kernel: Depends on container host Compiler: gcc 8.5.0 20210514 (Red Hat 8.5.0-22) Ubuntu 20.04 Kernel: Depends on container host Compiler: gcc (Ubuntu 9.4.0-1ubuntu1~20.04.2) 9.4.0 Ubuntu 22.04 Kernel: Depends on container host Compiler: gcc (Ubuntu 11.4.0-1ubuntu1~22.04) 11.4.0 Ubuntu 24.04 Kernel: Depends on container host Compiler: gcc (Ubuntu 13.3.0-6ubuntu2~24.04) 13.3.0 Alpine Kernel: Depends on container host Compiler: gcc (Alpine 14.2.0) 14.2.0 FreeBSD 13.4 Kernel: 13.4-RELEASE-p1 Compiler: clang 18.1.6 FreeBSD 14.2 Kernel: 14.2-RELEASE Compiler: clang 18.1.6 Fedora 41 Kernel: Depends on container host Compiler: gcc 14.2.1 20240912 (Red Hat 14.2.1-3) Windows Server 2022 Kernel: 10.0.20348.2031 Compiler: clang 15.0.7, gcc 14.1.0 (MinGW), and MSVC VS 19.39.33521 To view detailed results, visit: https://lab.dpdk.org/results/dashboard/patchsets/32448/ UNH-IOL DPDK Community Lab To manage your email subscriptions, visit: https://lab.dpdk.org/results/dashboard/preferences/subscriptions/