From mboxrd@z Thu Jan 1 00:00:00 1970 Return-Path: Received: from mails.dpdk.org (mails.dpdk.org [217.70.189.124]) by inbox.dpdk.org (Postfix) with ESMTP id E8237461A0 for ; Wed, 5 Feb 2025 18:10:46 +0100 (CET) Received: from mails.dpdk.org (localhost [127.0.0.1]) by mails.dpdk.org (Postfix) with ESMTP id DFE14402EE; Wed, 5 Feb 2025 18:10:46 +0100 (CET) Received: from mail-pl1-f225.google.com (mail-pl1-f225.google.com [209.85.214.225]) by mails.dpdk.org (Postfix) with ESMTP id 4CB1340261 for ; Wed, 5 Feb 2025 18:10:45 +0100 (CET) Received: by mail-pl1-f225.google.com with SMTP id d9443c01a7336-218c8aca5f1so1457075ad.0 for ; Wed, 05 Feb 2025 09:10:45 -0800 (PST) DKIM-Signature: v=1; a=rsa-sha256; c=relaxed/relaxed; d=iol.unh.edu; s=unh-iol; t=1738775444; x=1739380244; darn=dpdk.org; h=cc:to:from:subject:message-id:date:from:to:cc:subject:date :message-id:reply-to; bh=hXLWLpKb2Vm0WpuZxIFSMkFCaHeP+e3uxtP9+A0jRUA=; b=J4fCX6mw60eFo1y3n3bCYIRJnEGEm1o5yl33to6I3WRMgK8uiLd29pDVx/Es7WlI2m umJZoR0ir6h4runHFpSyY+FQNVeGZjWYQBXyeLA6oTNNdPz+Vzs6iMTpMnstZPJ3TZND Yn1UF/axBwqNIwupBfk0cQcYOzGo2uf+5wgeg= X-Google-DKIM-Signature: v=1; a=rsa-sha256; c=relaxed/relaxed; d=1e100.net; s=20230601; t=1738775444; x=1739380244; h=cc:to:from:subject:message-id:date:x-gm-message-state:from:to:cc :subject:date:message-id:reply-to; bh=hXLWLpKb2Vm0WpuZxIFSMkFCaHeP+e3uxtP9+A0jRUA=; b=Ex1zaiUJyjRZt8O02kqmUx+u6kxu376MCwH4NNG2yNh7cljgarQUWaNZZ0C0MXoXS5 GAbeMAJDCxTRJ3RCdL2cjuWVS1O/Njc74S0PnvFdG9uCJgqTLnJcfaXQnKNdx3HhnGL1 lLPL/oNvjl4U4ltrT1pt0qRyYpXqqJi+V2hQjmsot6cFAtDizqhIo93XPjixE4tMC/Pv 94AsE4h3DGltAcjUZ9w668h8tBRKPxcOaqykAefgbOGrhgkz6tFiWLl0aXEGYgag5WzC mk8CAe3178PZ+j166ufoVp67x3nsu7Xdh7z+6Jwh3T7Cy+MgGuodGbhXyxXsNc5ZSCZg 7fWg== X-Gm-Message-State: AOJu0YwSBb7/zjYdG9JlPBZBnIVqnN3OG2JpyyQM5WlFTYYKhTzj9vkl IcklFtRNI27YM0UBudEQWm29SzkuIvsvu8w/vWsm+cgssf+degAlrHkYdKZrLpgbnqjtx7Zu2Sa ZkRos+4BjGRwSPwSE/aCtAqLoe1E4iux4MvYfXPlMkhFJULuq X-Gm-Gg: ASbGncuwVjHWfmkiIK3k2iiKNrRyvms2/uSzw7GSQYtSGKxR4/7gy0QDpA2vD8NCF8d zgExpPMbP+UR+4aR0yPVqmaFC8m1SIXsa2YlxEduXU4jbSwJYxzuQ42Uf6iJFKwnuz7UotfJnPj rCVZnp3sWx+Wry1TVFJkbMWhzvI5YKvX4QMYlJB6kgs/kcm9TVKFX7Djy2f2y32/jmm29rBsv0A vCKWIjy/unHq+t7jNI9UQZPJRx1iPq45ONHD0/I6iho1uK7HICf6i2RC1lLWu12nx6MgeTaNCbh 8EyYgzsfFK6ufo3DXj3Y4D/hi4vCq7lINBAH3WhCPQ== X-Google-Smtp-Source: AGHT+IGoRLdet3O15x0XVE3l5crm89ECH5tlSr+iLHVmdQsPVKrLVugJdTLohWXQgmyfBDonRhvGucOCCmwh X-Received: by 2002:a17:903:2282:b0:216:48f4:4f20 with SMTP id d9443c01a7336-21f17df9013mr60278705ad.16.1738775444423; Wed, 05 Feb 2025 09:10:44 -0800 (PST) Received: from postal.iol.unh.edu (postal.iol.unh.edu. [2606:4100:3880:1234::84]) by smtp-relay.gmail.com with ESMTPS id d9443c01a7336-21de321aa4csm6875015ad.9.2025.02.05.09.10.44 (version=TLS1_2 cipher=ECDHE-ECDSA-AES128-GCM-SHA256 bits=128/128); Wed, 05 Feb 2025 09:10:44 -0800 (PST) X-Relaying-Domain: iol.unh.edu Date: Wed, 05 Feb 2025 09:10:44 -0800 (PST) Message-ID: <67a39b94.170a0220.24074f.f375SMTPIN_ADDED_MISSING@mx.google.com> Received: from [172.17.0.4] (unknown [172.18.0.214]) by postal.iol.unh.edu (Postfix) with ESMTP id 9C3716052471; Wed, 5 Feb 2025 12:10:43 -0500 (EST) Subject: |SUCCESS| [GIT MASTER] c66daa12e76d7b4912cfb7109a761856a7a873ab From: dpdklab@iol.unh.edu To: Test Report Cc: dpdk-test-reports@iol.unh.edu, Xueming Li , Christian Ehrhardt , Kevin Traynor , Luca Boccassi Content-Type: text/plain X-BeenThere: test-report@dpdk.org X-Mailman-Version: 2.1.29 Precedence: list List-Id: automatic DPDK test reports List-Unsubscribe: , List-Archive: List-Post: List-Help: List-Subscribe: , Errors-To: test-report-bounces@dpdk.org _Testing PASS_ Branch: tags/v23.11 c66daa12e76d7b4912cfb7109a761856a7a873ab --> testing pass Test environment and result as below: +---------------------+--------------------+-------------------+----------------------+------------------+-------------------+-------------------------+ | Environment | dpdk_meson_compile | dpdk_msvc_compile | dpdk_mingw64_compile | dpdk_compile_ovs | dpdk_compile_spdk | dpdk_llvm_clang_compile | +=====================+====================+===================+======================+==================+===================+=========================+ | FreeBSD 13.4 | PASS | SKIPPED | SKIPPED | SKIPPED | SKIPPED | SKIPPED | +---------------------+--------------------+-------------------+----------------------+------------------+-------------------+-------------------------+ | FreeBSD 14.2 | PASS | SKIPPED | SKIPPED | SKIPPED | SKIPPED | SKIPPED | +---------------------+--------------------+-------------------+----------------------+------------------+-------------------+-------------------------+ | CentOS Stream 9 | PASS | SKIPPED | SKIPPED | PASS | PASS | SKIPPED | +---------------------+--------------------+-------------------+----------------------+------------------+-------------------+-------------------------+ | Debian Bullseye | PASS | SKIPPED | SKIPPED | PASS | PASS | SKIPPED | +---------------------+--------------------+-------------------+----------------------+------------------+-------------------+-------------------------+ | Debian 12 | PASS | SKIPPED | SKIPPED | PASS | PASS | SKIPPED | +---------------------+--------------------+-------------------+----------------------+------------------+-------------------+-------------------------+ | Fedora 40 (Clang) | PASS | SKIPPED | SKIPPED | PASS | PASS | SKIPPED | +---------------------+--------------------+-------------------+----------------------+------------------+-------------------+-------------------------+ | Fedora 40 | PASS | SKIPPED | SKIPPED | PASS | PASS | SKIPPED | +---------------------+--------------------+-------------------+----------------------+------------------+-------------------+-------------------------+ | Fedora 41 (Clang) | PASS | SKIPPED | SKIPPED | PASS | PASS | SKIPPED | +---------------------+--------------------+-------------------+----------------------+------------------+-------------------+-------------------------+ | Fedora 41 | PASS | SKIPPED | SKIPPED | PASS | PASS | SKIPPED | +---------------------+--------------------+-------------------+----------------------+------------------+-------------------+-------------------------+ | openSUSE Leap 15 | PASS | SKIPPED | SKIPPED | SKIPPED | SKIPPED | SKIPPED | +---------------------+--------------------+-------------------+----------------------+------------------+-------------------+-------------------------+ | RHEL8 | PASS | SKIPPED | SKIPPED | PASS | SKIPPED | SKIPPED | +---------------------+--------------------+-------------------+----------------------+------------------+-------------------+-------------------------+ | RHEL9 | PASS | SKIPPED | SKIPPED | PASS | SKIPPED | SKIPPED | +---------------------+--------------------+-------------------+----------------------+------------------+-------------------+-------------------------+ | Ubuntu 20.04 | PASS | SKIPPED | SKIPPED | SKIPPED | SKIPPED | SKIPPED | +---------------------+--------------------+-------------------+----------------------+------------------+-------------------+-------------------------+ | Ubuntu 22.04 | PASS | SKIPPED | SKIPPED | PASS | PASS | SKIPPED | +---------------------+--------------------+-------------------+----------------------+------------------+-------------------+-------------------------+ | Ubuntu 24.04 | PASS | SKIPPED | SKIPPED | PASS | PASS | SKIPPED | +---------------------+--------------------+-------------------+----------------------+------------------+-------------------+-------------------------+ | Alpine | PASS | SKIPPED | SKIPPED | PASS | SKIPPED | SKIPPED | +---------------------+--------------------+-------------------+----------------------+------------------+-------------------+-------------------------+ | Windows Server 2022 | SKIPPED | PASS | PASS | SKIPPED | SKIPPED | PASS | +---------------------+--------------------+-------------------+----------------------+------------------+-------------------+-------------------------+ FreeBSD 13.4 Kernel: 13.4-RELEASE-p1 Compiler: clang 18.1.6 FreeBSD 14.2 Kernel: 14.2-RELEASE Compiler: clang 18.1.6 CentOS Stream 9 Kernel: Depends on container host Compiler: gcc 11.5.0 20240719 (Red Hat 11.5.0-2) Debian Bullseye Kernel: Depends on container host Compiler: gcc (Debian 10.2.1-6) 10.2.1 20210110 Debian 12 Kernel: Depends on container host Compiler: gcc (Debian 12.2.0-14) 12.2.0 Fedora 40 (Clang) Kernel: Depends on container host Compiler: clang 18.1.8 (Fedora 18.1.8-1.fc40) Fedora 40 Kernel: Depends on container host Compiler: gcc 14.2.1 20240912 (Red Hat 14.2.1-3) Fedora 41 (Clang) Kernel: Depends on container host Compiler: clang 19.1.5 (Fedora 19.1.5-1.fc41) Fedora 41 Kernel: Depends on container host Compiler: gcc 14.2.1 20240912 (Red Hat 14.2.1-3) openSUSE Leap 15 Kernel: Depends on container host Compiler: gcc (SUSE Linux) 7.5.0 RHEL8 Kernel: Depends on container host Compiler: gcc 8.5.0 20210514 (Red Hat 8.5.0-22) RHEL9 Kernel: Depends on container host Compiler: gcc 11.5.0 20240719 (Red Hat 11.5.0-2) Ubuntu 20.04 Kernel: Depends on container host Compiler: gcc (Ubuntu 9.4.0-1ubuntu1~20.04.2) 9.4.0 Ubuntu 22.04 Kernel: Depends on container host Compiler: gcc (Ubuntu 11.4.0-1ubuntu1~22.04) 11.4.0 Ubuntu 24.04 Kernel: Depends on container host Compiler: gcc (Ubuntu 13.3.0-6ubuntu2~24.04) 13.3.0 Alpine Kernel: Depends on container host Compiler: gcc (Alpine 14.2.0) 14.2.0 Windows Server 2022 Kernel: 10.0.20348.2031 Compiler: clang 15.0.7, gcc 14.1.0 (MinGW), and MSVC VS 19.39.33521 To view detailed results, visit: https://lab.dpdk.org/results/dashboard/tarballs/32400/ UNH-IOL DPDK Community Lab To manage your email subscriptions, visit: https://lab.dpdk.org/results/dashboard/preferences/subscriptions/