From mboxrd@z Thu Jan  1 00:00:00 1970
Return-Path: <test-report-bounces@dpdk.org>
Received: from mails.dpdk.org (mails.dpdk.org [217.70.189.124])
	by inbox.dpdk.org (Postfix) with ESMTP id 362F2461A0
	for <public@inbox.dpdk.org>; Wed,  5 Feb 2025 18:11:01 +0100 (CET)
Received: from mails.dpdk.org (localhost [127.0.0.1])
	by mails.dpdk.org (Postfix) with ESMTP id 31D7140270;
	Wed,  5 Feb 2025 18:11:01 +0100 (CET)
Received: from mail-yb1-f226.google.com (mail-yb1-f226.google.com
 [209.85.219.226])
 by mails.dpdk.org (Postfix) with ESMTP id E430E40261
 for <test-report@dpdk.org>; Wed,  5 Feb 2025 18:10:59 +0100 (CET)
Received: by mail-yb1-f226.google.com with SMTP id
 3f1490d57ef6-e5b107c4346so2479637276.2
 for <test-report@dpdk.org>; Wed, 05 Feb 2025 09:10:59 -0800 (PST)
DKIM-Signature: v=1; a=rsa-sha256; c=relaxed/relaxed;
 d=iol.unh.edu; s=unh-iol; t=1738775459; x=1739380259; darn=dpdk.org;
 h=references:in-reply-to:cc:to:from:subject:message-id:date:from:to
 :cc:subject:date:message-id:reply-to;
 bh=h81KI6RCtbkZCKq+/EhczpmLN8njFaUKXY7oyxenbcI=;
 b=FjRtBC1YcaXRlLCzzk4FQYXVU9W+tEpFlSzrjYuyHBlN4s5RjVHa2v2p9QADHFIOoP
 YS+pmez5uD7QBiFyhjCJ5SG2ngxBO/0vM1LSSMrnSouc6QhHLg0Uz9HdfGlXULQOWcHA
 b0IspEuIW8GPDQDnDlEMy9qhEOj65XV8vY7HQ=
X-Google-DKIM-Signature: v=1; a=rsa-sha256; c=relaxed/relaxed;
 d=1e100.net; s=20230601; t=1738775459; x=1739380259;
 h=references:in-reply-to:cc:to:from:subject:message-id:date
 :x-gm-message-state:from:to:cc:subject:date:message-id:reply-to;
 bh=h81KI6RCtbkZCKq+/EhczpmLN8njFaUKXY7oyxenbcI=;
 b=NADcuXt5gT0u9mTR8fkNXNa6RG4UD5Go67IDcyns7o9eGiqNp4zezIo7v36BGiZtgW
 iBX3LPZRdPoLfeX7PxQCh2vTgWT17lwavdg4Zx5L8iiGUUp+Eoktwv+37fGEeubWN9ZI
 /AiXhalFRx74F042ApU+FfuIaAIbJl/K1aPD/C3Mfdmynx131VbeYB32+fzA1k+yPZV7
 0FZeMyFAuqkbQGlyWw5JswiLdvx6+tvpTSsO9s6rUQudc7faWU+13/SSRckDVCzeAtcG
 s8bXNo5M4cGL3gcbocKycOMgd23aviLa6XpG5j5N3+vIOqn+RiHIylnGP1UONXFhxrP+
 +Zhw==
X-Gm-Message-State: AOJu0Yxntt1qLWRvGEnvD0QNG5RuEj6qWvOtHwpENuZXIe/6R8W4pwyY
 F4HCcJ6+B8NHOsVc1LLHJdqT5aJNjvVyAdZrNo8Ky93ozDUeK9tifohLovO2zLdJLtcSapOz8jk
 gbebskYxrKN0TNuya7tT7cCEO2K01UIeNMLzjauGtNWB0FXwUBUe+Sm/3
X-Gm-Gg: ASbGncvw2Umr+6YU8Q+VVjqD57/5b/wdHpZd8YJ6srkXQVGvdQV1rlexW5+RqWCihMI
 NXnhagdFrBNnF8SbjA0541GH0GZPWB52GYf/AZ7whlcYkkVYA9WydVOzF8PeQHdOTvxXSy90cYc
 Pj29oE6KqRJ04TEf42Cub8eWkzUoA6dzEluF2ewDQ1xgNw+nkSFH1BrN2vFIyri+1VDt5XjqvX8
 iy7YlY5sKuyW4P/u4J3Bfx8Kpk7Tycq28bYnNgueg2rCkUxFUvm5UCwtoT6R7h2DipessOP+Ft5
 waL7cEtK9t/ZqPzSK4sEJvL/XXxpFgKxdt+SOFJS5w==
X-Google-Smtp-Source: AGHT+IHBnAmUClhPTGDr4du3aNpEvG/Clg+AB9tneD6RpgIwQ0AhENeFHCZKczkEUEuWEctTeCn5yG63r/6m
X-Received: by 2002:a05:690c:4292:b0:6f9:957b:e14b with SMTP id
 00721157ae682-6f9957be3f0mr9657117b3.16.1738775459317; 
 Wed, 05 Feb 2025 09:10:59 -0800 (PST)
Received: from postal.iol.unh.edu (postal.iol.unh.edu.
 [2606:4100:3880:1234::84]) by smtp-relay.gmail.com with ESMTPS id
 00721157ae682-6f976d4a26asm2036007b3.54.2025.02.05.09.10.59
 (version=TLS1_2 cipher=ECDHE-ECDSA-AES128-GCM-SHA256 bits=128/128);
 Wed, 05 Feb 2025 09:10:59 -0800 (PST)
X-Relaying-Domain: iol.unh.edu
Date: Wed, 05 Feb 2025 09:10:59 -0800 (PST)
Message-ID: <67a39ba3.050a0220.79e98.95adSMTPIN_ADDED_MISSING@mx.google.com>
Received: from [172.17.0.3] (unknown [172.18.0.57])
 by postal.iol.unh.edu (Postfix) with ESMTP id B7F6A6052471;
 Wed,  5 Feb 2025 12:10:58 -0500 (EST)
Subject: |SUCCESS| pw150591-150592 [PATCH] [v3,2/2] net/af_xdp: Refactor af_x
From: dpdklab@iol.unh.edu
To: Test Report <test-report@dpdk.org>
Cc: dpdk-test-reports@iol.unh.edu
In-Reply-To: <20250128231152.249497-3-ariel.otilibili@6wind.com>
References: <20250128231152.249497-3-ariel.otilibili@6wind.com>
Content-Type: text/plain
X-BeenThere: test-report@dpdk.org
X-Mailman-Version: 2.1.29
Precedence: list
List-Id: automatic DPDK test reports <test-report.dpdk.org>
List-Unsubscribe: <https://mails.dpdk.org/options/test-report>,
 <mailto:test-report-request@dpdk.org?subject=unsubscribe>
List-Archive: <http://mails.dpdk.org/archives/test-report/>
List-Post: <mailto:test-report@dpdk.org>
List-Help: <mailto:test-report-request@dpdk.org?subject=help>
List-Subscribe: <https://mails.dpdk.org/listinfo/test-report>,
 <mailto:test-report-request@dpdk.org?subject=subscribe>
Errors-To: test-report-bounces@dpdk.org

Test-Label: iol-compile-amd64-testing
Test-Status: SUCCESS
http://dpdk.org/patch/150592

_Testing PASS_

Submitter: Ariel Otilibili <ariel.otilibili@6wind.com>
Date: Tuesday, January 28 2025 23:11:52 
DPDK git baseline: Repo:dpdk
  Branch: master
  CommitID:7e08e8fc439f37f9b0dfbfbba9d1877cd8546fde

150591-150592 --> testing pass

Test environment and result as below:

+---------------------+--------------------+------------------+-------------------+-------------------+----------------------+-------------------------+
|     Environment     | dpdk_meson_compile | dpdk_compile_ovs | dpdk_compile_spdk | dpdk_msvc_compile | dpdk_mingw64_compile | dpdk_llvm_clang_compile |
+=====================+====================+==================+===================+===================+======================+=========================+
| CentOS Stream 9     | PASS               | PASS             | PASS              | SKIPPED           | SKIPPED              | SKIPPED                 |
+---------------------+--------------------+------------------+-------------------+-------------------+----------------------+-------------------------+
| Debian Bullseye     | PASS               | PASS             | PASS              | SKIPPED           | SKIPPED              | SKIPPED                 |
+---------------------+--------------------+------------------+-------------------+-------------------+----------------------+-------------------------+
| Fedora 40 (Clang)   | PASS               | PASS             | PASS              | SKIPPED           | SKIPPED              | SKIPPED                 |
+---------------------+--------------------+------------------+-------------------+-------------------+----------------------+-------------------------+
| Debian 12           | PASS               | PASS             | PASS              | SKIPPED           | SKIPPED              | SKIPPED                 |
+---------------------+--------------------+------------------+-------------------+-------------------+----------------------+-------------------------+
| openSUSE Leap 15    | PASS               | SKIPPED          | SKIPPED           | SKIPPED           | SKIPPED              | SKIPPED                 |
+---------------------+--------------------+------------------+-------------------+-------------------+----------------------+-------------------------+
| Fedora 41 (Clang)   | PASS               | PASS             | PASS              | SKIPPED           | SKIPPED              | SKIPPED                 |
+---------------------+--------------------+------------------+-------------------+-------------------+----------------------+-------------------------+
| Fedora 40           | PASS               | PASS             | PASS              | SKIPPED           | SKIPPED              | SKIPPED                 |
+---------------------+--------------------+------------------+-------------------+-------------------+----------------------+-------------------------+
| Fedora 41           | PASS               | PASS             | PASS              | SKIPPED           | SKIPPED              | SKIPPED                 |
+---------------------+--------------------+------------------+-------------------+-------------------+----------------------+-------------------------+
| RHEL9               | PASS               | PASS             | SKIPPED           | SKIPPED           | SKIPPED              | SKIPPED                 |
+---------------------+--------------------+------------------+-------------------+-------------------+----------------------+-------------------------+
| Ubuntu 20.04        | PASS               | SKIPPED          | SKIPPED           | SKIPPED           | SKIPPED              | SKIPPED                 |
+---------------------+--------------------+------------------+-------------------+-------------------+----------------------+-------------------------+
| Ubuntu 22.04        | PASS               | PASS             | PASS              | SKIPPED           | SKIPPED              | SKIPPED                 |
+---------------------+--------------------+------------------+-------------------+-------------------+----------------------+-------------------------+
| Ubuntu 24.04        | PASS               | PASS             | PASS              | SKIPPED           | SKIPPED              | SKIPPED                 |
+---------------------+--------------------+------------------+-------------------+-------------------+----------------------+-------------------------+
| Alpine              | PASS               | PASS             | SKIPPED           | SKIPPED           | SKIPPED              | SKIPPED                 |
+---------------------+--------------------+------------------+-------------------+-------------------+----------------------+-------------------------+
| FreeBSD 13.4        | PASS               | SKIPPED          | SKIPPED           | SKIPPED           | SKIPPED              | SKIPPED                 |
+---------------------+--------------------+------------------+-------------------+-------------------+----------------------+-------------------------+
| FreeBSD 14.2        | PASS               | SKIPPED          | SKIPPED           | SKIPPED           | SKIPPED              | SKIPPED                 |
+---------------------+--------------------+------------------+-------------------+-------------------+----------------------+-------------------------+
| RHEL8               | PASS               | PASS             | SKIPPED           | SKIPPED           | SKIPPED              | SKIPPED                 |
+---------------------+--------------------+------------------+-------------------+-------------------+----------------------+-------------------------+
| Windows Server 2022 | SKIPPED            | SKIPPED          | SKIPPED           | PASS              | PASS                 | PASS                    |
+---------------------+--------------------+------------------+-------------------+-------------------+----------------------+-------------------------+


CentOS Stream 9
	Kernel: Depends on container host
	Compiler: gcc 11.5.0 20240719 (Red Hat 11.5.0-2)

Debian Bullseye
	Kernel: Depends on container host
	Compiler: gcc (Debian 10.2.1-6) 10.2.1 20210110

Fedora 40 (Clang)
	Kernel: Depends on container host
	Compiler: clang 18.1.8 (Fedora 18.1.8-1.fc40)

Debian 12
	Kernel: Depends on container host
	Compiler: gcc (Debian 12.2.0-14) 12.2.0

openSUSE Leap 15
	Kernel: Depends on container host
	Compiler: gcc (SUSE Linux) 7.5.0

Fedora 41 (Clang)
	Kernel: Depends on container host
	Compiler: clang 19.1.5 (Fedora 19.1.5-1.fc41)

Fedora 40
	Kernel: Depends on container host
	Compiler: gcc 14.2.1 20240912 (Red Hat 14.2.1-3)

Fedora 41
	Kernel: Depends on container host
	Compiler: gcc 14.2.1 20240912 (Red Hat 14.2.1-3)

RHEL9
	Kernel: Depends on container host
	Compiler: gcc 11.5.0 20240719 (Red Hat 11.5.0-2)

Ubuntu 20.04
	Kernel: Depends on container host
	Compiler: gcc (Ubuntu 9.4.0-1ubuntu1~20.04.2) 9.4.0

Ubuntu 22.04
	Kernel: Depends on container host
	Compiler: gcc (Ubuntu 11.4.0-1ubuntu1~22.04) 11.4.0

Ubuntu 24.04
	Kernel: Depends on container host
	Compiler: gcc (Ubuntu 13.3.0-6ubuntu2~24.04) 13.3.0

Alpine
	Kernel: Depends on container host
	Compiler: gcc (Alpine 14.2.0) 14.2.0

FreeBSD 13.4
	Kernel: 13.4-RELEASE-p1
	Compiler: clang 18.1.6

FreeBSD 14.2
	Kernel: 14.2-RELEASE
	Compiler: clang 18.1.6

RHEL8
	Kernel: Depends on container host
	Compiler: gcc 8.5.0 20210514 (Red Hat 8.5.0-22)

Windows Server 2022
	Kernel: 10.0.20348.2031
	Compiler: clang 15.0.7, gcc 14.1.0 (MinGW), and MSVC VS 19.39.33521

To view detailed results, visit:
https://lab.dpdk.org/results/dashboard/patchsets/32447/

UNH-IOL DPDK Community Lab

To manage your email subscriptions, visit: 
https://lab.dpdk.org/results/dashboard/preferences/subscriptions/