From mboxrd@z Thu Jan 1 00:00:00 1970 Return-Path: Received: from mails.dpdk.org (mails.dpdk.org [217.70.189.124]) by inbox.dpdk.org (Postfix) with ESMTP id 429D1461A0 for ; Wed, 5 Feb 2025 18:11:07 +0100 (CET) Received: from mails.dpdk.org (localhost [127.0.0.1]) by mails.dpdk.org (Postfix) with ESMTP id 3D58E40270; Wed, 5 Feb 2025 18:11:07 +0100 (CET) Received: from mail-il1-f225.google.com (mail-il1-f225.google.com [209.85.166.225]) by mails.dpdk.org (Postfix) with ESMTP id 2C41C40261 for ; Wed, 5 Feb 2025 18:11:06 +0100 (CET) Received: by mail-il1-f225.google.com with SMTP id e9e14a558f8ab-3d053d2e39dso2539145ab.1 for ; Wed, 05 Feb 2025 09:11:06 -0800 (PST) DKIM-Signature: v=1; a=rsa-sha256; c=relaxed/relaxed; d=iol.unh.edu; s=unh-iol; t=1738775465; x=1739380265; darn=dpdk.org; h=references:in-reply-to:cc:to:from:subject:message-id:date:from:to :cc:subject:date:message-id:reply-to; bh=YyCAEF40qU2WUC3jjAuggMoxrKYWNvTpTkVU8LsT5/c=; b=OHsiHSPIEf66Sytm3sxtwWFFRWCZLCt1ni9hKypB5OO25juLUZD2hJBpc7t+jG4F4U yY51xam6m30un+8h8gY4tBGEqnizHfUD0LfpL98TB5lkg+MINyJgDDY2Y6qiYB6AHsTL dja4A3rN3mWZvt+/3DtAfHkw0vG+yXjyLXvdo= X-Google-DKIM-Signature: v=1; a=rsa-sha256; c=relaxed/relaxed; d=1e100.net; s=20230601; t=1738775465; x=1739380265; h=references:in-reply-to:cc:to:from:subject:message-id:date :x-gm-message-state:from:to:cc:subject:date:message-id:reply-to; bh=YyCAEF40qU2WUC3jjAuggMoxrKYWNvTpTkVU8LsT5/c=; b=SR9IRys0dxBZkaOi5G2mYxo4LHthVjiMPA7EAiXpHnKstPa/SuEIcvrpLzDNc+PoJ5 X8ZFRtWtSUWDg3blwMvaSSt1rs4EDmyKKnBI/G/y+w21GL3FYP/thif6VNZR4zAOBC/h WFOD3d+NdwuTOvVPPj98aAXvry2Zp5opAznhPrUaWwFOGumT3/T5dcfS9ODXmjersqwW tYg7was5FQmS/DKxPe70W/puXKyO2lVbQgl9s95nnXB0U1wuXXGqNObizAWk3+ZQcWPs SAWS7xHBrQPRWGk0OnPJKQ+lUP+AtDtc1yCuaNTwzzQYPZpV1X2wYP1evAiKA5JZ+Tnt vZQg== X-Gm-Message-State: AOJu0Yw0pMEU49MhjeZuODG6Wa4ftJPO0mh2JfnbU1X8+WsnxIngYydj OgzJEpxTshrhx1pQrOM7qI9ajEi0BmBDEqSJmwXbKOFQgiWLsP/eliPyco5DRZJ7dARRAT5divy uJTw3gftAZ5ArE9ZMwpdH7GiC2nP0sPJlcszZAvX7 X-Gm-Gg: ASbGnctEEw/KL951iQNmhcFoelobM2jricsiZsjOgPLBxCQb1faLMaV4/4/30q9CMU0 61mwgwpjq18Rfze/l26EvF/kH1g4VDokcBY9Wl1L6IdZ3WyzWlfT8s5C8CdlhhLx9PMQbwiDv4h /GDOTP6AaFAAGSFCP3bWa/mwvJqyLrDxQblFp9iifM0kYqx1oW5iYugCFEQhPzeMjqwkRc+5aya Mzv31umN9vsroLOIkBWXtxiKRnriXUsubE0D7qjdHKFeyktWLXkYs7wjrKgJxlS+hO1oE4qlZj+ CCw/NyLBk9yoMrCyRnaQUvloI7Nc0A== X-Google-Smtp-Source: AGHT+IHmX7pG9sPPYQjLs1YTTkM1x30yqYYx5/JkECdTrZ/6HG/1NA5VsitmzQawPBQdeep7nDz5m48zk+Nw X-Received: by 2002:a05:6e02:1522:b0:3d0:4b3d:75ba with SMTP id e9e14a558f8ab-3d04f404a40mr30178535ab.4.1738775465561; Wed, 05 Feb 2025 09:11:05 -0800 (PST) Received: from postal.iol.unh.edu (postal.iol.unh.edu. [132.177.123.84]) by smtp-relay.gmail.com with ESMTPS id e9e14a558f8ab-3d056295e3esm651295ab.20.2025.02.05.09.11.05 (version=TLS1_2 cipher=ECDHE-ECDSA-AES128-GCM-SHA256 bits=128/128); Wed, 05 Feb 2025 09:11:05 -0800 (PST) X-Relaying-Domain: iol.unh.edu Date: Wed, 05 Feb 2025 09:11:05 -0800 (PST) Message-ID: <67a39ba9.050a0220.256184.2d78SMTPIN_ADDED_MISSING@mx.google.com> Received: from [172.17.0.5] (unknown [172.18.0.57]) by postal.iol.unh.edu (Postfix) with ESMTP id D00686052471; Wed, 5 Feb 2025 12:11:04 -0500 (EST) Subject: |SUCCESS| pw150645 [PATCH] net/ice: fix how ice driver handles flows From: dpdklab@iol.unh.edu To: Test Report Cc: dpdk-test-reports@iol.unh.edu In-Reply-To: <20250130155011.2658800-1-vladimir.medvedkin@intel.com> References: <20250130155011.2658800-1-vladimir.medvedkin@intel.com> Content-Type: text/plain X-BeenThere: test-report@dpdk.org X-Mailman-Version: 2.1.29 Precedence: list List-Id: automatic DPDK test reports List-Unsubscribe: , List-Archive: List-Post: List-Help: List-Subscribe: , Errors-To: test-report-bounces@dpdk.org Test-Label: iol-compile-amd64-testing Test-Status: SUCCESS http://dpdk.org/patch/150645 _Testing PASS_ Submitter: Medvedkin, Vladimir Date: Thursday, January 30 2025 15:50:11 DPDK git baseline: Repo:dpdk Branch: master CommitID:212bfb5c4cbd1a2dc3a12f6f52f0b0299a67ff98 150645 --> testing pass Test environment and result as below: +---------------------+--------------------+-------------------+----------------------+------------------+-------------------+-------------------------+ | Environment | dpdk_meson_compile | dpdk_msvc_compile | dpdk_mingw64_compile | dpdk_compile_ovs | dpdk_compile_spdk | dpdk_llvm_clang_compile | +=====================+====================+===================+======================+==================+===================+=========================+ | FreeBSD 13.4 | PASS | SKIPPED | SKIPPED | SKIPPED | SKIPPED | SKIPPED | +---------------------+--------------------+-------------------+----------------------+------------------+-------------------+-------------------------+ | FreeBSD 14.2 | PASS | SKIPPED | SKIPPED | SKIPPED | SKIPPED | SKIPPED | +---------------------+--------------------+-------------------+----------------------+------------------+-------------------+-------------------------+ | CentOS Stream 9 | PASS | SKIPPED | SKIPPED | PASS | PASS | SKIPPED | +---------------------+--------------------+-------------------+----------------------+------------------+-------------------+-------------------------+ | Debian Bullseye | PASS | SKIPPED | SKIPPED | PASS | PASS | SKIPPED | +---------------------+--------------------+-------------------+----------------------+------------------+-------------------+-------------------------+ | Fedora 40 (Clang) | PASS | SKIPPED | SKIPPED | PASS | PASS | SKIPPED | +---------------------+--------------------+-------------------+----------------------+------------------+-------------------+-------------------------+ | Fedora 40 | PASS | SKIPPED | SKIPPED | PASS | PASS | SKIPPED | +---------------------+--------------------+-------------------+----------------------+------------------+-------------------+-------------------------+ | Fedora 41 (Clang) | PASS | SKIPPED | SKIPPED | PASS | PASS | SKIPPED | +---------------------+--------------------+-------------------+----------------------+------------------+-------------------+-------------------------+ | Fedora 41 | PASS | SKIPPED | SKIPPED | PASS | PASS | SKIPPED | +---------------------+--------------------+-------------------+----------------------+------------------+-------------------+-------------------------+ | openSUSE Leap 15 | PASS | SKIPPED | SKIPPED | SKIPPED | SKIPPED | SKIPPED | +---------------------+--------------------+-------------------+----------------------+------------------+-------------------+-------------------------+ | Debian 12 | PASS | SKIPPED | SKIPPED | PASS | PASS | SKIPPED | +---------------------+--------------------+-------------------+----------------------+------------------+-------------------+-------------------------+ | RHEL8 | PASS | SKIPPED | SKIPPED | PASS | SKIPPED | SKIPPED | +---------------------+--------------------+-------------------+----------------------+------------------+-------------------+-------------------------+ | RHEL9 | PASS | SKIPPED | SKIPPED | PASS | SKIPPED | SKIPPED | +---------------------+--------------------+-------------------+----------------------+------------------+-------------------+-------------------------+ | Ubuntu 20.04 | PASS | SKIPPED | SKIPPED | SKIPPED | SKIPPED | SKIPPED | +---------------------+--------------------+-------------------+----------------------+------------------+-------------------+-------------------------+ | Ubuntu 22.04 | PASS | SKIPPED | SKIPPED | PASS | PASS | SKIPPED | +---------------------+--------------------+-------------------+----------------------+------------------+-------------------+-------------------------+ | Ubuntu 24.04 | PASS | SKIPPED | SKIPPED | PASS | PASS | SKIPPED | +---------------------+--------------------+-------------------+----------------------+------------------+-------------------+-------------------------+ | Alpine | PASS | SKIPPED | SKIPPED | PASS | SKIPPED | SKIPPED | +---------------------+--------------------+-------------------+----------------------+------------------+-------------------+-------------------------+ | Windows Server 2022 | SKIPPED | PASS | PASS | SKIPPED | SKIPPED | PASS | +---------------------+--------------------+-------------------+----------------------+------------------+-------------------+-------------------------+ FreeBSD 13.4 Kernel: 13.4-RELEASE-p1 Compiler: clang 18.1.6 FreeBSD 14.2 Kernel: 14.2-RELEASE Compiler: clang 18.1.6 CentOS Stream 9 Kernel: Depends on container host Compiler: gcc 11.5.0 20240719 (Red Hat 11.5.0-2) Debian Bullseye Kernel: Depends on container host Compiler: gcc (Debian 10.2.1-6) 10.2.1 20210110 Fedora 40 (Clang) Kernel: Depends on container host Compiler: clang 18.1.8 (Fedora 18.1.8-1.fc40) Fedora 40 Kernel: Depends on container host Compiler: gcc 14.2.1 20240912 (Red Hat 14.2.1-3) Fedora 41 (Clang) Kernel: Depends on container host Compiler: clang 19.1.5 (Fedora 19.1.5-1.fc41) Fedora 41 Kernel: Depends on container host Compiler: gcc 14.2.1 20240912 (Red Hat 14.2.1-3) openSUSE Leap 15 Kernel: Depends on container host Compiler: gcc (SUSE Linux) 7.5.0 Debian 12 Kernel: Depends on container host Compiler: gcc (Debian 12.2.0-14) 12.2.0 RHEL8 Kernel: Depends on container host Compiler: gcc 8.5.0 20210514 (Red Hat 8.5.0-22) RHEL9 Kernel: Depends on container host Compiler: gcc 11.5.0 20240719 (Red Hat 11.5.0-2) Ubuntu 20.04 Kernel: Depends on container host Compiler: gcc (Ubuntu 9.4.0-1ubuntu1~20.04.2) 9.4.0 Ubuntu 22.04 Kernel: Depends on container host Compiler: gcc (Ubuntu 11.4.0-1ubuntu1~22.04) 11.4.0 Ubuntu 24.04 Kernel: Depends on container host Compiler: gcc (Ubuntu 13.3.0-6ubuntu2~24.04) 13.3.0 Alpine Kernel: Depends on container host Compiler: gcc (Alpine 14.2.0) 14.2.0 Windows Server 2022 Kernel: 10.0.20348.2031 Compiler: clang 15.0.7, gcc 14.1.0 (MinGW), and MSVC VS 19.39.33521 To view detailed results, visit: https://lab.dpdk.org/results/dashboard/patchsets/32462/ UNH-IOL DPDK Community Lab To manage your email subscriptions, visit: https://lab.dpdk.org/results/dashboard/preferences/subscriptions/