From mboxrd@z Thu Jan 1 00:00:00 1970 Return-Path: Received: from mails.dpdk.org (mails.dpdk.org [217.70.189.124]) by inbox.dpdk.org (Postfix) with ESMTP id 56158461A0 for ; Wed, 5 Feb 2025 18:11:24 +0100 (CET) Received: from mails.dpdk.org (localhost [127.0.0.1]) by mails.dpdk.org (Postfix) with ESMTP id 523B440270; Wed, 5 Feb 2025 18:11:24 +0100 (CET) Received: from mail-ot1-f98.google.com (mail-ot1-f98.google.com [209.85.210.98]) by mails.dpdk.org (Postfix) with ESMTP id 2697340261 for ; Wed, 5 Feb 2025 18:11:23 +0100 (CET) Received: by mail-ot1-f98.google.com with SMTP id 46e09a7af769-723442fd88aso10714a34.3 for ; Wed, 05 Feb 2025 09:11:23 -0800 (PST) DKIM-Signature: v=1; a=rsa-sha256; c=relaxed/relaxed; d=iol.unh.edu; s=unh-iol; t=1738775482; x=1739380282; darn=dpdk.org; h=cc:to:from:subject:message-id:date:from:to:cc:subject:date :message-id:reply-to; bh=Pvy3mSE45QWzYi2BHrvnGr85/EETubYBM/hHi1RaGJw=; b=EpVsPzJx9tkSOt8kXFTTWhXrwwaqBpZhF1ZWB8N2b6RS6ltpAf/oGUZhZbyrn5Aj3s aZtY0EOaNz57UrDqZJ2G0gZ56Tb7BZl4WKRMPDcekWzLhCCgGL3KMLfCfCbAhXCeko14 jU0a+XZrxfW0o71h8QO4CapThfv8vkn5RmdXU= X-Google-DKIM-Signature: v=1; a=rsa-sha256; c=relaxed/relaxed; d=1e100.net; s=20230601; t=1738775482; x=1739380282; h=cc:to:from:subject:message-id:date:x-gm-message-state:from:to:cc :subject:date:message-id:reply-to; bh=Pvy3mSE45QWzYi2BHrvnGr85/EETubYBM/hHi1RaGJw=; b=xTDLyIgvhEtiJEB648Oa2GtBjekDy0L/V0ZEedUaXMWD9dAdWudzms0A/SE+IoVO8z e4NKF8LTFt6ZWm1qEJWWhzmtWTXZgoOVMi2XAvnJL6EOjN7dDXT4s6ymR3K6F19roc/0 YRyK2sFgcjw81JDm+J/1ksrGM9cf0wB0FxkRXKHB9yNrx921wzngzkhDO+T+crBENCmu L30uyADhBCKSoORDEvYc1NvWZnX7ZmVpKvxi88UKNQu6f2XEfaIZdDqOmuCatzfY/bf7 MUDlAPiscDmuNwcLvUKbnuN3rciJs2nY3AKrHsYgWlqGSgrGRURVxvb/o1mx++2Q8yyF 5uyg== X-Gm-Message-State: AOJu0YwqVSmC7sn3qBEbr4qPuLx3dmh0VMfiPIZaYTM4fTDuFTpgulwY OY37YPQJkFgMJWsyuTU4djIj6xjugc82eDTDUUlKdtdLHa1JVPrePtUxDmRYM1qMOhVf+AfOcR3 5A7HDGk0aptrIlBBjIn4JojLkRIxs7/ZjXa37dSBN X-Gm-Gg: ASbGncvGmK9ru4rgxqvrxx4rZD3GK6Tap8fxvCmMbub1WirTwVzsd4XNZ3wjB9SkSyn XfwnmMCv8m4F42+iCgPwpGABxkPXrjK3XZeULjbfA4wNv93MWn9eJcKy83mur40PXT70iujm7st m/uJjVhGRJr9/asv0Tgz77a6lUQZ6iLIxElfK4RvpEIETFvnxTkFBrGQcQgVy7CeC2FwGBnRchJ l1CtC8xjMafeTrI4/tnkmOET2IzjaE1u2UHxFvSmmFSYY0ssyYO/e+1royQ2vyv97SGH/oTKaew 6sxMo2ad8QPQ+scIsFFkKOOTUMv86g== X-Google-Smtp-Source: AGHT+IGVQvyVKct0aRGT0q50kD0hFqsl8UkRFXQLKKGNK4jg+HcxWQljOE0YpXaPzeBXiS/yJu7Kq7xhYfKW X-Received: by 2002:a05:6830:488b:b0:717:fe94:4089 with SMTP id 46e09a7af769-726a427e951mr2547753a34.19.1738775482419; Wed, 05 Feb 2025 09:11:22 -0800 (PST) Received: from postal.iol.unh.edu (postal.iol.unh.edu. [132.177.123.84]) by smtp-relay.gmail.com with ESMTPS id 46e09a7af769-7266188fd7fsm477999a34.10.2025.02.05.09.11.22 (version=TLS1_2 cipher=ECDHE-ECDSA-AES128-GCM-SHA256 bits=128/128); Wed, 05 Feb 2025 09:11:22 -0800 (PST) X-Relaying-Domain: iol.unh.edu Date: Wed, 05 Feb 2025 09:11:22 -0800 (PST) Message-ID: <67a39bba.050a0220.3acdd0.7d26SMTPIN_ADDED_MISSING@mx.google.com> Received: from [172.21.0.19] (unknown [172.18.0.240]) by postal.iol.unh.edu (Postfix) with ESMTP id A40D96052471; Wed, 5 Feb 2025 12:11:21 -0500 (EST) Subject: |SUCCESS| [GIT MASTER] 9eb60580d155f5e3a36927dbb1e59ef9623231ce From: dpdklab@iol.unh.edu To: Test Report Cc: dpdk-test-reports@iol.unh.edu Content-Type: text/plain X-BeenThere: test-report@dpdk.org X-Mailman-Version: 2.1.29 Precedence: list List-Id: automatic DPDK test reports List-Unsubscribe: , List-Archive: List-Post: List-Help: List-Subscribe: , Errors-To: test-report-bounces@dpdk.org _Testing PASS_ Branch: dpdk 9eb60580d155f5e3a36927dbb1e59ef9623231ce --> testing pass Test environment and result as below: +---------------------+--------------------+------------------+-------------------+-------------------+----------------------+-------------------------+ | Environment | dpdk_meson_compile | dpdk_compile_ovs | dpdk_compile_spdk | dpdk_msvc_compile | dpdk_mingw64_compile | dpdk_llvm_clang_compile | +=====================+====================+==================+===================+===================+======================+=========================+ | Debian 12 | PASS | PASS | PASS | SKIPPED | SKIPPED | SKIPPED | +---------------------+--------------------+------------------+-------------------+-------------------+----------------------+-------------------------+ | CentOS Stream 9 | PASS | PASS | PASS | SKIPPED | SKIPPED | SKIPPED | +---------------------+--------------------+------------------+-------------------+-------------------+----------------------+-------------------------+ | Debian Bullseye | PASS | PASS | PASS | SKIPPED | SKIPPED | SKIPPED | +---------------------+--------------------+------------------+-------------------+-------------------+----------------------+-------------------------+ | Fedora 40 | PASS | PASS | PASS | SKIPPED | SKIPPED | SKIPPED | +---------------------+--------------------+------------------+-------------------+-------------------+----------------------+-------------------------+ | Fedora 40 (Clang) | PASS | PASS | PASS | SKIPPED | SKIPPED | SKIPPED | +---------------------+--------------------+------------------+-------------------+-------------------+----------------------+-------------------------+ | Fedora 41 (Clang) | PASS | PASS | PASS | SKIPPED | SKIPPED | SKIPPED | +---------------------+--------------------+------------------+-------------------+-------------------+----------------------+-------------------------+ | Fedora 41 | PASS | PASS | PASS | SKIPPED | SKIPPED | SKIPPED | +---------------------+--------------------+------------------+-------------------+-------------------+----------------------+-------------------------+ | Ubuntu 20.04 | PASS | SKIPPED | SKIPPED | SKIPPED | SKIPPED | SKIPPED | +---------------------+--------------------+------------------+-------------------+-------------------+----------------------+-------------------------+ | RHEL9 | PASS | PASS | SKIPPED | SKIPPED | SKIPPED | SKIPPED | +---------------------+--------------------+------------------+-------------------+-------------------+----------------------+-------------------------+ | Ubuntu 22.04 | PASS | PASS | PASS | SKIPPED | SKIPPED | SKIPPED | +---------------------+--------------------+------------------+-------------------+-------------------+----------------------+-------------------------+ | openSUSE Leap 15 | PASS | SKIPPED | SKIPPED | SKIPPED | SKIPPED | SKIPPED | +---------------------+--------------------+------------------+-------------------+-------------------+----------------------+-------------------------+ | Ubuntu 24.04 | PASS | PASS | PASS | SKIPPED | SKIPPED | SKIPPED | +---------------------+--------------------+------------------+-------------------+-------------------+----------------------+-------------------------+ | Alpine | PASS | PASS | SKIPPED | SKIPPED | SKIPPED | SKIPPED | +---------------------+--------------------+------------------+-------------------+-------------------+----------------------+-------------------------+ | Arch Linux | PASS | PASS | SKIPPED | SKIPPED | SKIPPED | SKIPPED | +---------------------+--------------------+------------------+-------------------+-------------------+----------------------+-------------------------+ | FreeBSD 13.4 | PASS | SKIPPED | SKIPPED | SKIPPED | SKIPPED | SKIPPED | +---------------------+--------------------+------------------+-------------------+-------------------+----------------------+-------------------------+ | FreeBSD 14.2 | PASS | SKIPPED | SKIPPED | SKIPPED | SKIPPED | SKIPPED | +---------------------+--------------------+------------------+-------------------+-------------------+----------------------+-------------------------+ | RHEL8 | PASS | PASS | SKIPPED | SKIPPED | SKIPPED | SKIPPED | +---------------------+--------------------+------------------+-------------------+-------------------+----------------------+-------------------------+ | Windows Server 2022 | SKIPPED | SKIPPED | SKIPPED | PASS | PASS | PASS | +---------------------+--------------------+------------------+-------------------+-------------------+----------------------+-------------------------+ Debian 12 Kernel: Depends on container host Compiler: gcc (Debian 12.2.0-14) 12.2.0 CentOS Stream 9 Kernel: Depends on container host Compiler: gcc 11.5.0 20240719 (Red Hat 11.5.0-2) Debian Bullseye Kernel: Depends on container host Compiler: gcc (Debian 10.2.1-6) 10.2.1 20210110 Fedora 40 Kernel: Depends on container host Compiler: gcc 14.2.1 20240912 (Red Hat 14.2.1-3) Fedora 40 (Clang) Kernel: Depends on container host Compiler: clang 18.1.8 (Fedora 18.1.8-1.fc40) Fedora 41 (Clang) Kernel: Depends on container host Compiler: clang 19.1.5 (Fedora 19.1.5-1.fc41) Fedora 41 Kernel: Depends on container host Compiler: gcc 14.2.1 20240912 (Red Hat 14.2.1-3) Ubuntu 20.04 Kernel: Depends on container host Compiler: gcc (Ubuntu 9.4.0-1ubuntu1~20.04.2) 9.4.0 RHEL9 Kernel: Depends on container host Compiler: gcc 11.5.0 20240719 (Red Hat 11.5.0-2) Ubuntu 22.04 Kernel: Depends on container host Compiler: gcc (Ubuntu 11.4.0-1ubuntu1~22.04) 11.4.0 openSUSE Leap 15 Kernel: Depends on container host Compiler: gcc (SUSE Linux) 7.5.0 Ubuntu 24.04 Kernel: Depends on container host Compiler: gcc (Ubuntu 13.3.0-6ubuntu2~24.04) 13.3.0 Alpine Kernel: Depends on container host Compiler: gcc (Alpine 14.2.0) 14.2.0 Arch Linux Kernel: Depends on container host Compiler: gcc 14.2.1 20240910 FreeBSD 13.4 Kernel: 13.4-RELEASE-p1 Compiler: clang 18.1.6 FreeBSD 14.2 Kernel: 14.2-RELEASE Compiler: clang 18.1.6 RHEL8 Kernel: Depends on container host Compiler: gcc 8.5.0 20210514 (Red Hat 8.5.0-22) Windows Server 2022 Kernel: 10.0.20348.2031 Compiler: clang 15.0.7, gcc 14.1.0 (MinGW), and MSVC VS 19.39.33521 To view detailed results, visit: https://lab.dpdk.org/results/dashboard/tarballs/32386/ UNH-IOL DPDK Community Lab To manage your email subscriptions, visit: https://lab.dpdk.org/results/dashboard/preferences/subscriptions/