From mboxrd@z Thu Jan 1 00:00:00 1970 Return-Path: Received: from mails.dpdk.org (mails.dpdk.org [217.70.189.124]) by inbox.dpdk.org (Postfix) with ESMTP id 6A279461A0 for ; Wed, 5 Feb 2025 18:11:40 +0100 (CET) Received: from mails.dpdk.org (localhost [127.0.0.1]) by mails.dpdk.org (Postfix) with ESMTP id 6715A40270; Wed, 5 Feb 2025 18:11:40 +0100 (CET) Received: from mail-qt1-f228.google.com (mail-qt1-f228.google.com [209.85.160.228]) by mails.dpdk.org (Postfix) with ESMTP id CE45E40261 for ; Wed, 5 Feb 2025 18:11:38 +0100 (CET) Received: by mail-qt1-f228.google.com with SMTP id d75a77b69052e-467a37a2a53so398301cf.2 for ; Wed, 05 Feb 2025 09:11:38 -0800 (PST) DKIM-Signature: v=1; a=rsa-sha256; c=relaxed/relaxed; d=iol.unh.edu; s=unh-iol; t=1738775498; x=1739380298; darn=dpdk.org; h=cc:to:from:subject:message-id:date:from:to:cc:subject:date :message-id:reply-to; bh=f6VmffsQDCgmMUh4iKZCBDJWWBj+U0vMUd8YJXbMPzQ=; b=YFTuMraAtUTYbGBu/2x3onB3DTPv8VJ/jFWkVO8D4T620U1HRsP6fuBS6LPDA1Qvuj APtEgeP5n8us6EM94h5zVLKowQPRGSnZUNuxua5ZUsr80pzTUJl/bX4sT95BgJVXIvho JCyooduiJnKSebiWlgRL+NAwC/ufNKlDPdt70= X-Google-DKIM-Signature: v=1; a=rsa-sha256; c=relaxed/relaxed; d=1e100.net; s=20230601; t=1738775498; x=1739380298; h=cc:to:from:subject:message-id:date:x-gm-message-state:from:to:cc :subject:date:message-id:reply-to; bh=f6VmffsQDCgmMUh4iKZCBDJWWBj+U0vMUd8YJXbMPzQ=; b=wV44cXx3J53SzbhH7U8YwwUn/RKfaWJQjJueV0+92a03CUZD1/9jjjx+zKFdOzybJo XMye2JY0x3Lk8fRMVN7CVUSE8vRg1+4c0kIctObCEP9r+Y/UCFdAKUZaDV8reJGGknRF ovYFEZ3b3lPkEZpR65NFNniFCmUsMd/mI54+pwBGGCRaFvnwMFUh8Oxq4TmpSEMKdC9/ oZ0ztlkpzMa6goHWITVGKOYko4qZdZltQ9V8X5I1ZA0Xiw44eHHHBLJDU+/juynnQ3Rz LO2n7zNGt+VVz0DcuaeMFJnaj9f+unaEp+1AY4zl/movN9ALRJGNsz8tvfQO106J4nB7 m7Hg== X-Gm-Message-State: AOJu0Yymp5neRTQ/1cB5j+6h6zNinEogDtFDp59e1ulA46P4FnkdPrz4 M+wN52euC8LyH+pa3JaTpk4lsnu1+kXJSnC9z3StEfSWNQJGgVJXDNbcbFvvoYbqYI6MiGpmM2T MUepBSlpZqeiSNidHurEHBXP1f40kRmSBUhK7+5aWKfN8b6KGm8FiW3bB X-Gm-Gg: ASbGncu3wSaRoNWetYDVvSLhkYHcQDIReTfKn5FbOC5ItonYrT3twHyNn9PS+6wrQ6D kyaatwvde2dfSBr6cwE7b4n1oz281lStpsj8wpWgiqyin+lt9gTMzO8LrM3nG1QXMDtrOcRJFZo H2u5B/N3BsV9FdMOsxIeEHiYGMfyM+ufPGde5iigvelq/a2JPrVMOwTFN/xfO8OEkkx+jbJwhCv k+/Rtetm/mNS7zlKJxTmdhZuclN8djOUZ4CovQtYUOj2hq9YlmPFEMykMTbGFr3GRJbpHEV2PYx Y1/L2dZkDsPOcMhLePbZSTowuzvL7W0m17rMQypXsA== X-Google-Smtp-Source: AGHT+IH+LFJYCPu4emkuW9HS6PZ4IQ1Sr9C5YixSCWw/qM5r+M9Ko7Phq+dThKXnNbhBSNr/LzwxB7ov8FDT X-Received: by 2002:ad4:5ec9:0:b0:6d8:7ed4:3367 with SMTP id 6a1803df08f44-6e42fbbb6c6mr44024166d6.19.1738775498259; Wed, 05 Feb 2025 09:11:38 -0800 (PST) Received: from postal.iol.unh.edu (postal.iol.unh.edu. [2606:4100:3880:1234::84]) by smtp-relay.gmail.com with ESMTPS id 6a1803df08f44-6e25482f026sm10073166d6.32.2025.02.05.09.11.38 (version=TLS1_2 cipher=ECDHE-ECDSA-AES128-GCM-SHA256 bits=128/128); Wed, 05 Feb 2025 09:11:38 -0800 (PST) X-Relaying-Domain: iol.unh.edu Date: Wed, 05 Feb 2025 09:11:38 -0800 (PST) Message-ID: <67a39bca.d40a0220.346147.e100SMTPIN_ADDED_MISSING@mx.google.com> Received: from [172.21.0.6] (unknown [172.18.0.240]) by postal.iol.unh.edu (Postfix) with ESMTP id BCDA26052471; Wed, 5 Feb 2025 12:11:37 -0500 (EST) Subject: |SUCCESS| [GIT MASTER] 531a6a62957001333a1cb5c37d43c37a837e2349 From: dpdklab@iol.unh.edu To: Test Report Cc: dpdk-test-reports@iol.unh.edu, Bruce Richardson Content-Type: text/plain X-BeenThere: test-report@dpdk.org X-Mailman-Version: 2.1.29 Precedence: list List-Id: automatic DPDK test reports List-Unsubscribe: , List-Archive: List-Post: List-Help: List-Subscribe: , Errors-To: test-report-bounces@dpdk.org _Testing PASS_ Branch: dpdk-next-net-intel 531a6a62957001333a1cb5c37d43c37a837e2349 --> testing pass Test environment and result as below: +---------------------+--------------------+------------------+-------------------+-------------------+----------------------+-------------------------+ | Environment | dpdk_meson_compile | dpdk_compile_ovs | dpdk_compile_spdk | dpdk_msvc_compile | dpdk_mingw64_compile | dpdk_llvm_clang_compile | +=====================+====================+==================+===================+===================+======================+=========================+ | Debian Bullseye | PASS | PASS | PASS | SKIPPED | SKIPPED | SKIPPED | +---------------------+--------------------+------------------+-------------------+-------------------+----------------------+-------------------------+ | openSUSE Leap 15 | PASS | SKIPPED | SKIPPED | SKIPPED | SKIPPED | SKIPPED | +---------------------+--------------------+------------------+-------------------+-------------------+----------------------+-------------------------+ | Fedora 40 | PASS | PASS | PASS | SKIPPED | SKIPPED | SKIPPED | +---------------------+--------------------+------------------+-------------------+-------------------+----------------------+-------------------------+ | Debian 12 | PASS | PASS | PASS | SKIPPED | SKIPPED | SKIPPED | +---------------------+--------------------+------------------+-------------------+-------------------+----------------------+-------------------------+ | Fedora 40 (Clang) | PASS | PASS | PASS | SKIPPED | SKIPPED | SKIPPED | +---------------------+--------------------+------------------+-------------------+-------------------+----------------------+-------------------------+ | Fedora 41 | PASS | PASS | PASS | SKIPPED | SKIPPED | SKIPPED | +---------------------+--------------------+------------------+-------------------+-------------------+----------------------+-------------------------+ | Fedora 41 (Clang) | PASS | PASS | PASS | SKIPPED | SKIPPED | SKIPPED | +---------------------+--------------------+------------------+-------------------+-------------------+----------------------+-------------------------+ | Ubuntu 24.04 | PASS | PASS | PASS | SKIPPED | SKIPPED | SKIPPED | +---------------------+--------------------+------------------+-------------------+-------------------+----------------------+-------------------------+ | Ubuntu 20.04 | PASS | SKIPPED | SKIPPED | SKIPPED | SKIPPED | SKIPPED | +---------------------+--------------------+------------------+-------------------+-------------------+----------------------+-------------------------+ | RHEL8 | PASS | PASS | SKIPPED | SKIPPED | SKIPPED | SKIPPED | +---------------------+--------------------+------------------+-------------------+-------------------+----------------------+-------------------------+ | RHEL9 | PASS | PASS | SKIPPED | SKIPPED | SKIPPED | SKIPPED | +---------------------+--------------------+------------------+-------------------+-------------------+----------------------+-------------------------+ | Ubuntu 22.04 | PASS | PASS | PASS | SKIPPED | SKIPPED | SKIPPED | +---------------------+--------------------+------------------+-------------------+-------------------+----------------------+-------------------------+ | Alpine | PASS | PASS | SKIPPED | SKIPPED | SKIPPED | SKIPPED | +---------------------+--------------------+------------------+-------------------+-------------------+----------------------+-------------------------+ | FreeBSD 13.4 | PASS | SKIPPED | SKIPPED | SKIPPED | SKIPPED | SKIPPED | +---------------------+--------------------+------------------+-------------------+-------------------+----------------------+-------------------------+ | FreeBSD 14.2 | PASS | SKIPPED | SKIPPED | SKIPPED | SKIPPED | SKIPPED | +---------------------+--------------------+------------------+-------------------+-------------------+----------------------+-------------------------+ | Windows Server 2022 | SKIPPED | SKIPPED | SKIPPED | PASS | PASS | PASS | +---------------------+--------------------+------------------+-------------------+-------------------+----------------------+-------------------------+ Debian Bullseye Kernel: Depends on container host Compiler: gcc (Debian 10.2.1-6) 10.2.1 20210110 openSUSE Leap 15 Kernel: Depends on container host Compiler: gcc (SUSE Linux) 7.5.0 Fedora 40 Kernel: Depends on container host Compiler: gcc 14.2.1 20240912 (Red Hat 14.2.1-3) Debian 12 Kernel: Depends on container host Compiler: gcc (Debian 12.2.0-14) 12.2.0 Fedora 40 (Clang) Kernel: Depends on container host Compiler: clang 18.1.8 (Fedora 18.1.8-1.fc40) Fedora 41 Kernel: Depends on container host Compiler: gcc 14.2.1 20240912 (Red Hat 14.2.1-3) Fedora 41 (Clang) Kernel: Depends on container host Compiler: clang 19.1.5 (Fedora 19.1.5-1.fc41) Ubuntu 24.04 Kernel: Depends on container host Compiler: gcc (Ubuntu 13.3.0-6ubuntu2~24.04) 13.3.0 Ubuntu 20.04 Kernel: Depends on container host Compiler: gcc (Ubuntu 9.4.0-1ubuntu1~20.04.2) 9.4.0 RHEL8 Kernel: Depends on container host Compiler: gcc 8.5.0 20210514 (Red Hat 8.5.0-22) RHEL9 Kernel: Depends on container host Compiler: gcc 11.5.0 20240719 (Red Hat 11.5.0-2) Ubuntu 22.04 Kernel: Depends on container host Compiler: gcc (Ubuntu 11.4.0-1ubuntu1~22.04) 11.4.0 Alpine Kernel: Depends on container host Compiler: gcc (Alpine 14.2.0) 14.2.0 FreeBSD 13.4 Kernel: 13.4-RELEASE-p1 Compiler: clang 18.1.6 FreeBSD 14.2 Kernel: 14.2-RELEASE Compiler: clang 18.1.6 Windows Server 2022 Kernel: 10.0.20348.2031 Compiler: clang 15.0.7, gcc 14.1.0 (MinGW), and MSVC VS 19.39.33521 To view detailed results, visit: https://lab.dpdk.org/results/dashboard/tarballs/32369/ UNH-IOL DPDK Community Lab To manage your email subscriptions, visit: https://lab.dpdk.org/results/dashboard/preferences/subscriptions/