From mboxrd@z Thu Jan 1 00:00:00 1970 Return-Path: Received: from mails.dpdk.org (mails.dpdk.org [217.70.189.124]) by inbox.dpdk.org (Postfix) with ESMTP id 8F00B461A0 for ; Wed, 5 Feb 2025 18:11:58 +0100 (CET) Received: from mails.dpdk.org (localhost [127.0.0.1]) by mails.dpdk.org (Postfix) with ESMTP id 8BC7640270; Wed, 5 Feb 2025 18:11:58 +0100 (CET) Received: from mail-io1-f98.google.com (mail-io1-f98.google.com [209.85.166.98]) by mails.dpdk.org (Postfix) with ESMTP id 18E4940261 for ; Wed, 5 Feb 2025 18:11:57 +0100 (CET) Received: by mail-io1-f98.google.com with SMTP id ca18e2360f4ac-844ee43460aso3020139f.1 for ; Wed, 05 Feb 2025 09:11:57 -0800 (PST) DKIM-Signature: v=1; a=rsa-sha256; c=relaxed/relaxed; d=iol.unh.edu; s=unh-iol; t=1738775516; x=1739380316; darn=dpdk.org; h=cc:to:from:subject:message-id:date:from:to:cc:subject:date :message-id:reply-to; bh=vIOTuFOjz/YUCJmZi7wPQExntRNQKrP31ijQNw3Gw9Y=; b=SLrpdwQgRyp0ExjDQ7RKlA/hwRrpRrZQzH3wJrlIIVDG7fvvRnv1CxmPTeJCqCSh8a 9V1/BQ/nauOiSkAL6B5cPxHvrCeWbdYi04SS7hJ2DkgaV2eqJ5b5hcpNxkmKwtldBriL aQx7HlEqlhFZb+0AqIomnrtLkuj4ZhiJh0+Cs= X-Google-DKIM-Signature: v=1; a=rsa-sha256; c=relaxed/relaxed; d=1e100.net; s=20230601; t=1738775516; x=1739380316; h=cc:to:from:subject:message-id:date:x-gm-message-state:from:to:cc :subject:date:message-id:reply-to; bh=vIOTuFOjz/YUCJmZi7wPQExntRNQKrP31ijQNw3Gw9Y=; b=fvr+yMSQAoenRXOxn9gfgJ5EFNWL/JhKqoVCiknZ2GM+3x59q2RdrYBWdUG2Oy9Iwc 4bbFTwyvcsqJGq27Y/P741LOeDdO3v/Fp4GGSTr58UdTtKdfdu7+D6fSRj+VDQ+R0JGQ 5V9czdj32+jNQK+pEHisv5RhlUadY1qsQzvNpDboXKf9Jb1eTNCtfmts2I9udaGKiKNX 0C86nF6PY0AXmQ/ClpXxyaM3oORKHRh1Am9dxg8dNufgT5ApVp6aw7yBtnq6xNg+VlSi Ke528oyivIViUYax7E1wWevEJ+3xWFIM2mCI2zt9hW/LO0AFdjqadSL5ZnZGCet2il1P l9uQ== X-Gm-Message-State: AOJu0YxnyT5RASZW9jM6nIqHodPdAL+BuwS/zxLQI7F28fDFbXIuf3PD AASfSOWpYxyN6oCe1UZFML4oui/yRoaKF/iWhUFCAWfcppTAhWknPsBGozPPx53f0/tKVx2JHeC Ij2XJ2L8jmD6gUJAE4V6zCMWTtG5z485N X-Gm-Gg: ASbGncsihzdqKY/ZTxCPjnSZ3VV85867ZGPY8ksZgW/lcJfQZo70o1AxbtWwBsnqCcR OypykKWI+3HDuWZArEIcs4RfQCar7ve0F2HVrmEg4Qr9QB7LsTKVN1rw55D7oQu/P3bGgSoLhCv 18w1oNZOfko4Seu0gUhhSGD9DaO6t5N6yqziAjdymOxycfynzMgBhqrQnb7pgd6E/cJP3p0ae8j Zs8Tl++Fr9FaYBqeYAsxGG/XSgbr2MJfHKYv1S3oRayYXE/za1x26EHYgi+fxDqrXNfuH4JRDGD vzhPcdcahI6IyL/xRnZIOmpX7airvA== X-Google-Smtp-Source: AGHT+IEsE86UMW9OGT8yXzkBNSIGBSjp6mbcb7i9VFnu63+2ixWUD9S4I/CsYkOLm5MNQFY6VRHEwtZcYqVY X-Received: by 2002:a05:6602:4183:b0:83a:b74c:800e with SMTP id ca18e2360f4ac-854ea53154amr404353339f.12.1738775516444; Wed, 05 Feb 2025 09:11:56 -0800 (PST) Received: from postal.iol.unh.edu (postal.iol.unh.edu. [132.177.123.84]) by smtp-relay.gmail.com with ESMTPS id ca18e2360f4ac-854a15d28ffsm81435339f.9.2025.02.05.09.11.56 (version=TLS1_2 cipher=ECDHE-ECDSA-AES128-GCM-SHA256 bits=128/128); Wed, 05 Feb 2025 09:11:56 -0800 (PST) X-Relaying-Domain: iol.unh.edu Date: Wed, 05 Feb 2025 09:11:56 -0800 (PST) Message-ID: <67a39bdc.050a0220.20140c.6a76SMTPIN_ADDED_MISSING@mx.google.com> Received: from [172.17.0.3] (unknown [172.18.0.214]) by postal.iol.unh.edu (Postfix) with ESMTP id B92836052471; Wed, 5 Feb 2025 12:11:55 -0500 (EST) Subject: |SUCCESS| [GIT MASTER] f2eea2f37a82bb73fb01d56350708f7d70e21379 From: dpdklab@iol.unh.edu To: Test Report Cc: dpdk-test-reports@iol.unh.edu, Xueming Li , Christian Ehrhardt , Kevin Traynor , Luca Boccassi Content-Type: text/plain X-BeenThere: test-report@dpdk.org X-Mailman-Version: 2.1.29 Precedence: list List-Id: automatic DPDK test reports List-Unsubscribe: , List-Archive: List-Post: List-Help: List-Subscribe: , Errors-To: test-report-bounces@dpdk.org _Testing PASS_ Branch: tags/v24.11 f2eea2f37a82bb73fb01d56350708f7d70e21379 --> testing pass Test environment and result as below: +---------------------+--------------------+------------------+-------------------+-------------------+----------------------+-------------------------+ | Environment | dpdk_meson_compile | dpdk_compile_ovs | dpdk_compile_spdk | dpdk_msvc_compile | dpdk_mingw64_compile | dpdk_llvm_clang_compile | +=====================+====================+==================+===================+===================+======================+=========================+ | Debian 12 | PASS | PASS | PASS | SKIPPED | SKIPPED | SKIPPED | +---------------------+--------------------+------------------+-------------------+-------------------+----------------------+-------------------------+ | Fedora 40 | PASS | PASS | PASS | SKIPPED | SKIPPED | SKIPPED | +---------------------+--------------------+------------------+-------------------+-------------------+----------------------+-------------------------+ | Fedora 40 (Clang) | PASS | PASS | PASS | SKIPPED | SKIPPED | SKIPPED | +---------------------+--------------------+------------------+-------------------+-------------------+----------------------+-------------------------+ | Debian Bullseye | PASS | PASS | PASS | SKIPPED | SKIPPED | SKIPPED | +---------------------+--------------------+------------------+-------------------+-------------------+----------------------+-------------------------+ | Fedora 41 (Clang) | PASS | PASS | PASS | SKIPPED | SKIPPED | SKIPPED | +---------------------+--------------------+------------------+-------------------+-------------------+----------------------+-------------------------+ | RHEL8 | PASS | PASS | SKIPPED | SKIPPED | SKIPPED | SKIPPED | +---------------------+--------------------+------------------+-------------------+-------------------+----------------------+-------------------------+ | Ubuntu 20.04 | PASS | SKIPPED | SKIPPED | SKIPPED | SKIPPED | SKIPPED | +---------------------+--------------------+------------------+-------------------+-------------------+----------------------+-------------------------+ | Fedora 41 | PASS | PASS | PASS | SKIPPED | SKIPPED | SKIPPED | +---------------------+--------------------+------------------+-------------------+-------------------+----------------------+-------------------------+ | openSUSE Leap 15 | PASS | SKIPPED | SKIPPED | SKIPPED | SKIPPED | SKIPPED | +---------------------+--------------------+------------------+-------------------+-------------------+----------------------+-------------------------+ | RHEL9 | PASS | PASS | SKIPPED | SKIPPED | SKIPPED | SKIPPED | +---------------------+--------------------+------------------+-------------------+-------------------+----------------------+-------------------------+ | Alpine | PASS | PASS | SKIPPED | SKIPPED | SKIPPED | SKIPPED | +---------------------+--------------------+------------------+-------------------+-------------------+----------------------+-------------------------+ | Ubuntu 24.04 | PASS | PASS | PASS | SKIPPED | SKIPPED | SKIPPED | +---------------------+--------------------+------------------+-------------------+-------------------+----------------------+-------------------------+ | FreeBSD 13.4 | PASS | SKIPPED | SKIPPED | SKIPPED | SKIPPED | SKIPPED | +---------------------+--------------------+------------------+-------------------+-------------------+----------------------+-------------------------+ | FreeBSD 14.2 | PASS | SKIPPED | SKIPPED | SKIPPED | SKIPPED | SKIPPED | +---------------------+--------------------+------------------+-------------------+-------------------+----------------------+-------------------------+ | Ubuntu 22.04 | PASS | PASS | PASS | SKIPPED | SKIPPED | SKIPPED | +---------------------+--------------------+------------------+-------------------+-------------------+----------------------+-------------------------+ | Windows Server 2022 | SKIPPED | SKIPPED | SKIPPED | PASS | PASS | PASS | +---------------------+--------------------+------------------+-------------------+-------------------+----------------------+-------------------------+ Debian 12 Kernel: Depends on container host Compiler: gcc (Debian 12.2.0-14) 12.2.0 Fedora 40 Kernel: Depends on container host Compiler: gcc 14.2.1 20240912 (Red Hat 14.2.1-3) Fedora 40 (Clang) Kernel: Depends on container host Compiler: clang 18.1.8 (Fedora 18.1.8-1.fc40) Debian Bullseye Kernel: Depends on container host Compiler: gcc (Debian 10.2.1-6) 10.2.1 20210110 Fedora 41 (Clang) Kernel: Depends on container host Compiler: clang 19.1.5 (Fedora 19.1.5-1.fc41) RHEL8 Kernel: Depends on container host Compiler: gcc 8.5.0 20210514 (Red Hat 8.5.0-22) Ubuntu 20.04 Kernel: Depends on container host Compiler: gcc (Ubuntu 9.4.0-1ubuntu1~20.04.2) 9.4.0 Fedora 41 Kernel: Depends on container host Compiler: gcc 14.2.1 20240912 (Red Hat 14.2.1-3) openSUSE Leap 15 Kernel: Depends on container host Compiler: gcc (SUSE Linux) 7.5.0 RHEL9 Kernel: Depends on container host Compiler: gcc 11.5.0 20240719 (Red Hat 11.5.0-2) Alpine Kernel: Depends on container host Compiler: gcc (Alpine 14.2.0) 14.2.0 Ubuntu 24.04 Kernel: Depends on container host Compiler: gcc (Ubuntu 13.3.0-6ubuntu2~24.04) 13.3.0 FreeBSD 13.4 Kernel: 13.4-RELEASE-p1 Compiler: clang 18.1.6 FreeBSD 14.2 Kernel: 14.2-RELEASE Compiler: clang 18.1.6 Ubuntu 22.04 Kernel: Depends on container host Compiler: gcc (Ubuntu 11.4.0-1ubuntu1~22.04) 11.4.0 Windows Server 2022 Kernel: 10.0.20348.2031 Compiler: clang 15.0.7, gcc 14.1.0 (MinGW), and MSVC VS 19.39.33521 To view detailed results, visit: https://lab.dpdk.org/results/dashboard/tarballs/32375/ UNH-IOL DPDK Community Lab To manage your email subscriptions, visit: https://lab.dpdk.org/results/dashboard/preferences/subscriptions/