From mboxrd@z Thu Jan 1 00:00:00 1970 Return-Path: Received: from mails.dpdk.org (mails.dpdk.org [217.70.189.124]) by inbox.dpdk.org (Postfix) with ESMTP id A17A8461A0 for ; Wed, 5 Feb 2025 18:11:58 +0100 (CET) Received: from mails.dpdk.org (localhost [127.0.0.1]) by mails.dpdk.org (Postfix) with ESMTP id 9EA5F40647; Wed, 5 Feb 2025 18:11:58 +0100 (CET) Received: from mail-io1-f99.google.com (mail-io1-f99.google.com [209.85.166.99]) by mails.dpdk.org (Postfix) with ESMTP id 4462840270 for ; Wed, 5 Feb 2025 18:11:57 +0100 (CET) Received: by mail-io1-f99.google.com with SMTP id ca18e2360f4ac-844ce213af6so1303039f.1 for ; Wed, 05 Feb 2025 09:11:57 -0800 (PST) DKIM-Signature: v=1; a=rsa-sha256; c=relaxed/relaxed; d=iol.unh.edu; s=unh-iol; t=1738775516; x=1739380316; darn=dpdk.org; h=cc:to:from:subject:message-id:date:from:to:cc:subject:date :message-id:reply-to; bh=J0W7pxcnShx/MW711ua7C+9XBZGwNFDzaVXNAcrEGQA=; b=JSsWWQZ7P4sLOZV3vpJhTyql+TbPwYmpV5s9+uNpYVB9bRUGzkzZOeB8fByG4DV+B0 weANbdn48oqIBfLsWx8XB1X16omnZlrkspIPUMS7dDWf0bWCUrlk1rSLuMi2dVehulgp 4JYhNqQnkBUj63Bl8oW4EbWbmicVcEwJYV0Z4= X-Google-DKIM-Signature: v=1; a=rsa-sha256; c=relaxed/relaxed; d=1e100.net; s=20230601; t=1738775516; x=1739380316; h=cc:to:from:subject:message-id:date:x-gm-message-state:from:to:cc :subject:date:message-id:reply-to; bh=J0W7pxcnShx/MW711ua7C+9XBZGwNFDzaVXNAcrEGQA=; b=vITgewBlIxH/wRqTL8Rdt5xD96+hYavOfxI4ufB1IqyAF3mco/ti9hAUJIOuyv55Yd Rr/UKUQacDSVkRkab7y/TiCNRumtYUZHGGxnIceQLwh7FgM6mwM6VMpaI0qAZ0JHPAiS mrPU9Sme+Qiv4F6FcxamyifM1DEp29JY2HT9Fi24i9AAiNSiFk1eJLs2XMJqzuRQyCw+ xPEkBgaCl/6966PYutcpS6WyrK1ihcg0dMaLz9cwIdbxlTG487L2zCCekhjr/kXiczGt GTojX139cJSu9Inlo6BzPVd4/nGvyDcDNU9wr+l4tDpYVF20QhAfJzgklev5bQT/HyeN W76w== X-Gm-Message-State: AOJu0YznpD7rnYpaD5jxoyTVN9PaaAGHPH1AY2D+6nKbUn3JcKU5aFRY vYsLMoZ+PuO+tL0KZNZd2SJ5u9WbjWYvrr1ymqau6VwysyhV4+erTh5AS0h0g1d92gfuthsnANc gDysTyvfIsYmOlL094hPYjbtI1l5g5m+APB6P1iCn X-Gm-Gg: ASbGncuSV5ZDRcLs1JrjpKdDt916FVo5oGIzgDm/boN/JS0qU2eK+tMi4avbiPkHUxR 4m606fEh5GcaIx/gwgLqAyJ6dVkMVkF58OmHqH8OiOrR2dzLsyK3Kvxs8/v7D+inG00jwvwQpQe GKacID7ZOsCf8RhUNw4DdYTcXUUDGLES7zrZVL9tjLzkHIL72/FKeC0vbISotZue1oI3W8WkoSP mcdgIFh3ohHEGagleTIXn6kAFz2Sdm22Q0WQIxSt5DLj7Cpqkbw6La8jvHgARuYLKnKSLzGXO8j zhvE6V/rq2LfgTjuaIAZO+NAr1KcYQ== X-Google-Smtp-Source: AGHT+IGN/fA6qGFZ1ooANAXMJZjd7wwwKh7zkIQGsxQu8tkWMtEhIwN4J9Tn5LkNtUIzsANxMS2AFGbBealY X-Received: by 2002:a05:6602:360b:b0:84f:44de:9ca7 with SMTP id ca18e2360f4ac-854ea42d626mr400907739f.3.1738775516631; Wed, 05 Feb 2025 09:11:56 -0800 (PST) Received: from postal.iol.unh.edu (postal.iol.unh.edu. [132.177.123.84]) by smtp-relay.gmail.com with ESMTPS id 8926c6da1cb9f-4ec746bfe8esm848464173.66.2025.02.05.09.11.56 (version=TLS1_2 cipher=ECDHE-ECDSA-AES128-GCM-SHA256 bits=128/128); Wed, 05 Feb 2025 09:11:56 -0800 (PST) X-Relaying-Domain: iol.unh.edu Date: Wed, 05 Feb 2025 09:11:56 -0800 (PST) Message-ID: <67a39bdc.050a0220.2e731d.9a6eSMTPIN_ADDED_MISSING@mx.google.com> Received: from [172.17.0.2] (unknown [172.18.0.215]) by postal.iol.unh.edu (Postfix) with ESMTP id EB2AE6052472; Wed, 5 Feb 2025 12:11:55 -0500 (EST) Subject: |SUCCESS| [GIT MASTER] 7e08e8fc439f37f9b0dfbfbba9d1877cd8546fde From: dpdklab@iol.unh.edu To: Test Report Cc: dpdk-test-reports@iol.unh.edu, Stephen Hemminger Content-Type: text/plain X-BeenThere: test-report@dpdk.org X-Mailman-Version: 2.1.29 Precedence: list List-Id: automatic DPDK test reports List-Unsubscribe: , List-Archive: List-Post: List-Help: List-Subscribe: , Errors-To: test-report-bounces@dpdk.org _Testing PASS_ Branch: dpdk-next-net 7e08e8fc439f37f9b0dfbfbba9d1877cd8546fde --> testing pass Test environment and result as below: +---------------------+--------------------+-------------------+----------------------+------------------+-------------------+-------------------------+ | Environment | dpdk_meson_compile | dpdk_msvc_compile | dpdk_mingw64_compile | dpdk_compile_ovs | dpdk_compile_spdk | dpdk_llvm_clang_compile | +=====================+====================+===================+======================+==================+===================+=========================+ | FreeBSD 13.4 | PASS | SKIPPED | SKIPPED | SKIPPED | SKIPPED | SKIPPED | +---------------------+--------------------+-------------------+----------------------+------------------+-------------------+-------------------------+ | FreeBSD 14.2 | PASS | SKIPPED | SKIPPED | SKIPPED | SKIPPED | SKIPPED | +---------------------+--------------------+-------------------+----------------------+------------------+-------------------+-------------------------+ | CentOS Stream 9 | PASS | SKIPPED | SKIPPED | PASS | PASS | SKIPPED | +---------------------+--------------------+-------------------+----------------------+------------------+-------------------+-------------------------+ | Debian Bullseye | PASS | SKIPPED | SKIPPED | PASS | PASS | SKIPPED | +---------------------+--------------------+-------------------+----------------------+------------------+-------------------+-------------------------+ | Debian 12 | PASS | SKIPPED | SKIPPED | PASS | PASS | SKIPPED | +---------------------+--------------------+-------------------+----------------------+------------------+-------------------+-------------------------+ | Fedora 40 (Clang) | PASS | SKIPPED | SKIPPED | PASS | PASS | SKIPPED | +---------------------+--------------------+-------------------+----------------------+------------------+-------------------+-------------------------+ | Fedora 40 | PASS | SKIPPED | SKIPPED | PASS | PASS | SKIPPED | +---------------------+--------------------+-------------------+----------------------+------------------+-------------------+-------------------------+ | Fedora 41 (Clang) | PASS | SKIPPED | SKIPPED | PASS | PASS | SKIPPED | +---------------------+--------------------+-------------------+----------------------+------------------+-------------------+-------------------------+ | Fedora 41 | PASS | SKIPPED | SKIPPED | PASS | PASS | SKIPPED | +---------------------+--------------------+-------------------+----------------------+------------------+-------------------+-------------------------+ | openSUSE Leap 15 | PASS | SKIPPED | SKIPPED | SKIPPED | SKIPPED | SKIPPED | +---------------------+--------------------+-------------------+----------------------+------------------+-------------------+-------------------------+ | RHEL8 | PASS | SKIPPED | SKIPPED | PASS | SKIPPED | SKIPPED | +---------------------+--------------------+-------------------+----------------------+------------------+-------------------+-------------------------+ | Ubuntu 20.04 | PASS | SKIPPED | SKIPPED | SKIPPED | SKIPPED | SKIPPED | +---------------------+--------------------+-------------------+----------------------+------------------+-------------------+-------------------------+ | Ubuntu 24.04 | PASS | SKIPPED | SKIPPED | PASS | PASS | SKIPPED | +---------------------+--------------------+-------------------+----------------------+------------------+-------------------+-------------------------+ | Alpine | PASS | SKIPPED | SKIPPED | PASS | SKIPPED | SKIPPED | +---------------------+--------------------+-------------------+----------------------+------------------+-------------------+-------------------------+ | RHEL9 | PASS | SKIPPED | SKIPPED | PASS | SKIPPED | SKIPPED | +---------------------+--------------------+-------------------+----------------------+------------------+-------------------+-------------------------+ | Ubuntu 22.04 | PASS | SKIPPED | SKIPPED | PASS | PASS | SKIPPED | +---------------------+--------------------+-------------------+----------------------+------------------+-------------------+-------------------------+ | Windows Server 2022 | SKIPPED | PASS | PASS | SKIPPED | SKIPPED | PASS | +---------------------+--------------------+-------------------+----------------------+------------------+-------------------+-------------------------+ FreeBSD 13.4 Kernel: 13.4-RELEASE-p1 Compiler: clang 18.1.6 FreeBSD 14.2 Kernel: 14.2-RELEASE Compiler: clang 18.1.6 CentOS Stream 9 Kernel: Depends on container host Compiler: gcc 11.5.0 20240719 (Red Hat 11.5.0-2) Debian Bullseye Kernel: Depends on container host Compiler: gcc (Debian 10.2.1-6) 10.2.1 20210110 Debian 12 Kernel: Depends on container host Compiler: gcc (Debian 12.2.0-14) 12.2.0 Fedora 40 (Clang) Kernel: Depends on container host Compiler: clang 18.1.8 (Fedora 18.1.8-1.fc40) Fedora 40 Kernel: Depends on container host Compiler: gcc 14.2.1 20240912 (Red Hat 14.2.1-3) Fedora 41 (Clang) Kernel: Depends on container host Compiler: clang 19.1.5 (Fedora 19.1.5-1.fc41) Fedora 41 Kernel: Depends on container host Compiler: gcc 14.2.1 20240912 (Red Hat 14.2.1-3) openSUSE Leap 15 Kernel: Depends on container host Compiler: gcc (SUSE Linux) 7.5.0 RHEL8 Kernel: Depends on container host Compiler: gcc 8.5.0 20210514 (Red Hat 8.5.0-22) Ubuntu 20.04 Kernel: Depends on container host Compiler: gcc (Ubuntu 9.4.0-1ubuntu1~20.04.2) 9.4.0 Ubuntu 24.04 Kernel: Depends on container host Compiler: gcc (Ubuntu 13.3.0-6ubuntu2~24.04) 13.3.0 Alpine Kernel: Depends on container host Compiler: gcc (Alpine 14.2.0) 14.2.0 RHEL9 Kernel: Depends on container host Compiler: gcc 11.5.0 20240719 (Red Hat 11.5.0-2) Ubuntu 22.04 Kernel: Depends on container host Compiler: gcc (Ubuntu 11.4.0-1ubuntu1~22.04) 11.4.0 Windows Server 2022 Kernel: 10.0.20348.2031 Compiler: clang 15.0.7, gcc 14.1.0 (MinGW), and MSVC VS 19.39.33521 To view detailed results, visit: https://lab.dpdk.org/results/dashboard/tarballs/32378/ UNH-IOL DPDK Community Lab To manage your email subscriptions, visit: https://lab.dpdk.org/results/dashboard/preferences/subscriptions/