From mboxrd@z Thu Jan 1 00:00:00 1970 Return-Path: Received: from mails.dpdk.org (mails.dpdk.org [217.70.189.124]) by inbox.dpdk.org (Postfix) with ESMTP id 05218461A0 for ; Wed, 5 Feb 2025 18:12:12 +0100 (CET) Received: from mails.dpdk.org (localhost [127.0.0.1]) by mails.dpdk.org (Postfix) with ESMTP id 0103E40289; Wed, 5 Feb 2025 18:12:12 +0100 (CET) Received: from mail-pl1-f227.google.com (mail-pl1-f227.google.com [209.85.214.227]) by mails.dpdk.org (Postfix) with ESMTP id B577640261 for ; Wed, 5 Feb 2025 18:12:10 +0100 (CET) Received: by mail-pl1-f227.google.com with SMTP id d9443c01a7336-2165448243fso1331975ad.1 for ; Wed, 05 Feb 2025 09:12:10 -0800 (PST) DKIM-Signature: v=1; a=rsa-sha256; c=relaxed/relaxed; d=iol.unh.edu; s=unh-iol; t=1738775530; x=1739380330; darn=dpdk.org; h=references:in-reply-to:cc:to:from:subject:message-id:date:from:to :cc:subject:date:message-id:reply-to; bh=PMRut9GvmjnSSDCenNgrT9mJPig9vAkR/yJzrEDj21Q=; b=D+iSQdQBGds4mHKA1J4A1bXY7ST0p+f2Dqap8XahEDT4nckSOh1w/v798PsqtmzPqw DQNWCUHEy3ICleuaLkBMLKjMZjjLZdbdwXY+Bh7awYKvSHM77rLZ0YiJayBfqfFivhx5 +hlD+oQXXznC20blLfGjSxrgTdeSK8qJr4Woc= X-Google-DKIM-Signature: v=1; a=rsa-sha256; c=relaxed/relaxed; d=1e100.net; s=20230601; t=1738775530; x=1739380330; h=references:in-reply-to:cc:to:from:subject:message-id:date :x-gm-message-state:from:to:cc:subject:date:message-id:reply-to; bh=PMRut9GvmjnSSDCenNgrT9mJPig9vAkR/yJzrEDj21Q=; b=mUYB79LWW3LamkKd7GSZDv3ngxM9wR5dkSkh4J0MxZtAKC295ymhn+Rq5QbwtUcjRA P+6EOdRiKuWqw4BUssHLSn4fGvdCMch23xl+wr/MUCn9KL63j4RktAFCV+HZgGgls5oN 5dEH8SIUGICPFQiZcdAnFacpH6mp3Gb+pHi8EwBI9ULTpP4qHNucqWMT67nlqr/Frkdj HjcRJ/mOf+RGG6V2d1qBO+txQpHf8v7WbAxjTF1ArJXkBxyC5wDU+S1JwS09lu7cXY9E GXaYr4XycAcTuIjaMSBvt/lxqNYYoTjr1ff8eUaPL+pGzOGUbQmAdStSLA2gdQMwBEKm PC+g== X-Gm-Message-State: AOJu0Yxhf9QrkTui7L30lADoDSQKo7EnN1QIabc8+euS8HI+RGte9TRM yjrFuHqW6Clsd/Sv52smQ6k/nhdFoIuwPtj9Mo0rK5sM7bnOn8dqJCuVjFRXrATB5yWOxcvC01m aTloIiA5yNbbt0bmaN5+OzAGpeKtaye6haDFsbtma X-Gm-Gg: ASbGncuAzTzJ0Y42zAL0PqaWZ+CCakhKnhw5KGOR7kwxLiXKmaxOpHZr8OIGbXG91Tv N/0XlJbZ4l9D/yLM6kiAcS3ibr8BiH4rmPFBPBPnJKvP+b81djqWxzKIK8zvTYfeXdxAKLPMs2G rtNv4pZy+Nfi1BM/Lb/4rPOduHHtwtk0okG0Zl4yCVdXT+P+H9AlqVkp5C/3/87G/sgUOycBti4 qmYPrXfnaZMyJsm5Qugl8zGjFoiV31wnooHrSnE9TJ9r1rhVlfqqvEzLyXS/IuhZsWkaYj3cdqf z4PEvx3pYq9eybOBl8POJSWb6pkntg== X-Google-Smtp-Source: AGHT+IESqu9UhWc26aBfHYCRcv75i2VR/sXP0ig4nWLZxl8v6NXpempdk+9HzDzVu8MHTrPA/WUidWf1QA/O X-Received: by 2002:a17:902:f550:b0:21e:ff31:526 with SMTP id d9443c01a7336-21f17ed4a80mr62408665ad.43.1738775529998; Wed, 05 Feb 2025 09:12:09 -0800 (PST) Received: from postal.iol.unh.edu (postal.iol.unh.edu. [132.177.123.84]) by smtp-relay.gmail.com with ESMTPS id d9443c01a7336-21f2bd663a0sm249565ad.70.2025.02.05.09.12.09 (version=TLS1_2 cipher=ECDHE-ECDSA-AES128-GCM-SHA256 bits=128/128); Wed, 05 Feb 2025 09:12:09 -0800 (PST) X-Relaying-Domain: iol.unh.edu Date: Wed, 05 Feb 2025 09:12:09 -0800 (PST) Message-ID: <67a39be9.170a0220.1b3bf2.10e9SMTPIN_ADDED_MISSING@mx.google.com> Received: from [172.21.0.12] (unknown [172.18.0.240]) by postal.iol.unh.edu (Postfix) with ESMTP id A25C76052471; Wed, 5 Feb 2025 12:12:07 -0500 (EST) Subject: |SUCCESS| pw150586 [PATCH] net/bnxt: remove unnecessary checks for n From: dpdklab@iol.unh.edu To: Test Report Cc: dpdk-test-reports@iol.unh.edu In-Reply-To: <20250128174219.155796-1-stephen@networkplumber.org> References: <20250128174219.155796-1-stephen@networkplumber.org> Content-Type: text/plain X-BeenThere: test-report@dpdk.org X-Mailman-Version: 2.1.29 Precedence: list List-Id: automatic DPDK test reports List-Unsubscribe: , List-Archive: List-Post: List-Help: List-Subscribe: , Errors-To: test-report-bounces@dpdk.org Test-Label: iol-compile-amd64-testing Test-Status: SUCCESS http://dpdk.org/patch/150586 _Testing PASS_ Submitter: Stephen Hemminger Date: Tuesday, January 28 2025 17:42:19 DPDK git baseline: Repo:dpdk Branch: master CommitID:06e2856620a70000b2a28f0ea715fc247b85fd8d 150586 --> testing pass Test environment and result as below: +---------------------+--------------------+------------------+-------------------+-------------------+----------------------+-------------------------+ | Environment | dpdk_meson_compile | dpdk_compile_ovs | dpdk_compile_spdk | dpdk_msvc_compile | dpdk_mingw64_compile | dpdk_llvm_clang_compile | +=====================+====================+==================+===================+===================+======================+=========================+ | CentOS Stream 9 | PASS | PASS | PASS | SKIPPED | SKIPPED | SKIPPED | +---------------------+--------------------+------------------+-------------------+-------------------+----------------------+-------------------------+ | Debian Bullseye | PASS | PASS | PASS | SKIPPED | SKIPPED | SKIPPED | +---------------------+--------------------+------------------+-------------------+-------------------+----------------------+-------------------------+ | Debian 12 | PASS | PASS | PASS | SKIPPED | SKIPPED | SKIPPED | +---------------------+--------------------+------------------+-------------------+-------------------+----------------------+-------------------------+ | Fedora 40 (Clang) | PASS | PASS | PASS | SKIPPED | SKIPPED | SKIPPED | +---------------------+--------------------+------------------+-------------------+-------------------+----------------------+-------------------------+ | Fedora 41 | PASS | PASS | PASS | SKIPPED | SKIPPED | SKIPPED | +---------------------+--------------------+------------------+-------------------+-------------------+----------------------+-------------------------+ | Fedora 41 (Clang) | PASS | PASS | PASS | SKIPPED | SKIPPED | SKIPPED | +---------------------+--------------------+------------------+-------------------+-------------------+----------------------+-------------------------+ | Fedora 40 | PASS | PASS | PASS | SKIPPED | SKIPPED | SKIPPED | +---------------------+--------------------+------------------+-------------------+-------------------+----------------------+-------------------------+ | RHEL9 | PASS | PASS | SKIPPED | SKIPPED | SKIPPED | SKIPPED | +---------------------+--------------------+------------------+-------------------+-------------------+----------------------+-------------------------+ | RHEL8 | PASS | PASS | SKIPPED | SKIPPED | SKIPPED | SKIPPED | +---------------------+--------------------+------------------+-------------------+-------------------+----------------------+-------------------------+ | Ubuntu 22.04 | PASS | PASS | PASS | SKIPPED | SKIPPED | SKIPPED | +---------------------+--------------------+------------------+-------------------+-------------------+----------------------+-------------------------+ | openSUSE Leap 15 | PASS | SKIPPED | SKIPPED | SKIPPED | SKIPPED | SKIPPED | +---------------------+--------------------+------------------+-------------------+-------------------+----------------------+-------------------------+ | Ubuntu 20.04 | PASS | SKIPPED | SKIPPED | SKIPPED | SKIPPED | SKIPPED | +---------------------+--------------------+------------------+-------------------+-------------------+----------------------+-------------------------+ | Ubuntu 24.04 | PASS | PASS | PASS | SKIPPED | SKIPPED | SKIPPED | +---------------------+--------------------+------------------+-------------------+-------------------+----------------------+-------------------------+ | Alpine | PASS | PASS | SKIPPED | SKIPPED | SKIPPED | SKIPPED | +---------------------+--------------------+------------------+-------------------+-------------------+----------------------+-------------------------+ | FreeBSD 13.4 | PASS | SKIPPED | SKIPPED | SKIPPED | SKIPPED | SKIPPED | +---------------------+--------------------+------------------+-------------------+-------------------+----------------------+-------------------------+ | FreeBSD 14.2 | PASS | SKIPPED | SKIPPED | SKIPPED | SKIPPED | SKIPPED | +---------------------+--------------------+------------------+-------------------+-------------------+----------------------+-------------------------+ | Windows Server 2022 | SKIPPED | SKIPPED | SKIPPED | PASS | PASS | PASS | +---------------------+--------------------+------------------+-------------------+-------------------+----------------------+-------------------------+ CentOS Stream 9 Kernel: Depends on container host Compiler: gcc 11.5.0 20240719 (Red Hat 11.5.0-2) Debian Bullseye Kernel: Depends on container host Compiler: gcc (Debian 10.2.1-6) 10.2.1 20210110 Debian 12 Kernel: Depends on container host Compiler: gcc (Debian 12.2.0-14) 12.2.0 Fedora 40 (Clang) Kernel: Depends on container host Compiler: clang 18.1.8 (Fedora 18.1.8-1.fc40) Fedora 41 Kernel: Depends on container host Compiler: gcc 14.2.1 20240912 (Red Hat 14.2.1-3) Fedora 41 (Clang) Kernel: Depends on container host Compiler: clang 19.1.5 (Fedora 19.1.5-1.fc41) Fedora 40 Kernel: Depends on container host Compiler: gcc 14.2.1 20240912 (Red Hat 14.2.1-3) RHEL9 Kernel: Depends on container host Compiler: gcc 11.5.0 20240719 (Red Hat 11.5.0-2) RHEL8 Kernel: Depends on container host Compiler: gcc 8.5.0 20210514 (Red Hat 8.5.0-22) Ubuntu 22.04 Kernel: Depends on container host Compiler: gcc (Ubuntu 11.4.0-1ubuntu1~22.04) 11.4.0 openSUSE Leap 15 Kernel: Depends on container host Compiler: gcc (SUSE Linux) 7.5.0 Ubuntu 20.04 Kernel: Depends on container host Compiler: gcc (Ubuntu 9.4.0-1ubuntu1~20.04.2) 9.4.0 Ubuntu 24.04 Kernel: Depends on container host Compiler: gcc (Ubuntu 13.3.0-6ubuntu2~24.04) 13.3.0 Alpine Kernel: Depends on container host Compiler: gcc (Alpine 14.2.0) 14.2.0 FreeBSD 13.4 Kernel: 13.4-RELEASE-p1 Compiler: clang 18.1.6 FreeBSD 14.2 Kernel: 14.2-RELEASE Compiler: clang 18.1.6 Windows Server 2022 Kernel: 10.0.20348.2031 Compiler: clang 15.0.7, gcc 14.1.0 (MinGW), and MSVC VS 19.39.33521 To view detailed results, visit: https://lab.dpdk.org/results/dashboard/patchsets/32444/ UNH-IOL DPDK Community Lab To manage your email subscriptions, visit: https://lab.dpdk.org/results/dashboard/preferences/subscriptions/