From mboxrd@z Thu Jan 1 00:00:00 1970 Return-Path: Received: from mails.dpdk.org (mails.dpdk.org [217.70.189.124]) by inbox.dpdk.org (Postfix) with ESMTP id 2AD9B461A0 for ; Wed, 5 Feb 2025 18:12:13 +0100 (CET) Received: from mails.dpdk.org (localhost [127.0.0.1]) by mails.dpdk.org (Postfix) with ESMTP id 283824064E; Wed, 5 Feb 2025 18:12:13 +0100 (CET) Received: from mail-yb1-f228.google.com (mail-yb1-f228.google.com [209.85.219.228]) by mails.dpdk.org (Postfix) with ESMTP id BB28140261 for ; Wed, 5 Feb 2025 18:12:12 +0100 (CET) Received: by mail-yb1-f228.google.com with SMTP id 3f1490d57ef6-e53a91756e5so7032823276.1 for ; Wed, 05 Feb 2025 09:12:12 -0800 (PST) DKIM-Signature: v=1; a=rsa-sha256; c=relaxed/relaxed; d=iol.unh.edu; s=unh-iol; t=1738775532; x=1739380332; darn=dpdk.org; h=cc:to:from:subject:message-id:date:from:to:cc:subject:date :message-id:reply-to; bh=D56Zm7Ds1QAswQwUZhPBJr/QKgsf9VF/b5O3tER16kM=; b=NyiT1+kH4zRvBY9kLexJXVN63kP+p0bVQJeIT9ybetjGrgGN6HVSZyZKtdx1iJtiAJ KH6iBwfhYCplhv7mbF8mDoWKS7g/NzwriEE2NLXCjKEAOPAuSVb3vHJWxPkEBtQMHruu PHisrSoqzFSePuk61FjrXGlfLz8NdfkO4g/VE= X-Google-DKIM-Signature: v=1; a=rsa-sha256; c=relaxed/relaxed; d=1e100.net; s=20230601; t=1738775532; x=1739380332; h=cc:to:from:subject:message-id:date:x-gm-message-state:from:to:cc :subject:date:message-id:reply-to; bh=D56Zm7Ds1QAswQwUZhPBJr/QKgsf9VF/b5O3tER16kM=; b=DBpEvqSRa4IQNSqSeKuTVbW+r9mCtDrh+dLHmdl8T3MQmGoPch6EpUA6y9zBFw/Yfd fBN0fiB6YxhBTG/Kg1JLg9zSKq64GKVVmqy+9B+cOXTMgUkKbzYmrE/oi218NtG9JCo6 bKbKxFd/sk4+ra+IBTFA2AqntwD7QHlpyqRjpYS2w+lqSjxcqTdrjgE6IOxqBAvBlcGa GbWp2kWyiBlOR/Klq/EWtqk0pb61zG0GGLXZWwT2VUq7ad0MLo0ik5j4FMQm0n30bje9 PpDdA+U+sqWW3hhJD9kTnT7vIuoK+/0mRElbUL4mx9UvuMmQTsDb7rOYv79P3SnbFYw4 Jmcg== X-Gm-Message-State: AOJu0YxVzglUVmeiFgKPyCiiGyRFJvXUaqikNFm0IKk3slxekRmdZxju cHH7oqenkQoIxW7zJLSkKvvP9hqUpOkfGboRy0V+z9ONaKKL6w25HcFAb/yAL+13fMMPPrjJFpq AE8IurEDqyeSVCKqX5zGIb1c3eiVu/fkDZiNdUhak X-Gm-Gg: ASbGnctWBHqsHu+du6u2AvatLUMZ2KwUt4xGwMPGniZtgK7gyyk/aED6v6cCPeBuTv8 P+ygSTqsEgzTiJLug8DB0LYDMS9wZLirmdel9K0LsTvINKnjT16f43XxKaeO3s+smMS9IZ8bjrn Arja6h0W9+ZTiJ/mcxGFhiymdW9+zJEcfmcIRnxMhAs921Nydhjt6m+HqQyXNaSdzwoEcFUWcEj QOCpc/YkwefDZBYaXpXXi2f7TGOb91Lyg39o16mqeVZbn4Lk7owmXCKLwypUzrUJqnK4LgxB12c EM1QhclNUxJ/yRgLZyclXD1VzjZ8fw== X-Google-Smtp-Source: AGHT+IHIMeItX89W+FV9iVtEQoZBphaF/xVunZmimyFH70W7Yb5JbN9Sb6Htju0P4YCR3mrtk0ZJb5xl1nep X-Received: by 2002:a05:6902:2408:b0:e58:8b9b:11c5 with SMTP id 3f1490d57ef6-e5b25bf3ab0mr2812324276.31.1738775532139; Wed, 05 Feb 2025 09:12:12 -0800 (PST) Received: from postal.iol.unh.edu (postal.iol.unh.edu. [132.177.123.84]) by smtp-relay.gmail.com with ESMTPS id 3f1490d57ef6-e5b1b68a16csm195748276.9.2025.02.05.09.12.12 (version=TLS1_2 cipher=ECDHE-ECDSA-AES128-GCM-SHA256 bits=128/128); Wed, 05 Feb 2025 09:12:12 -0800 (PST) X-Relaying-Domain: iol.unh.edu Date: Wed, 05 Feb 2025 09:12:12 -0800 (PST) Message-ID: <67a39bec.250a0220.335583.9b19SMTPIN_ADDED_MISSING@mx.google.com> Received: from [172.17.0.5] (unknown [172.18.0.215]) by postal.iol.unh.edu (Postfix) with ESMTP id 91A5E6052471; Wed, 5 Feb 2025 12:12:11 -0500 (EST) Subject: |SUCCESS| [GIT MASTER] 3ba602522abfc4db664008b89ec7c90cfbf7173d From: dpdklab@iol.unh.edu To: Test Report Cc: dpdk-test-reports@iol.unh.edu, Stephen Hemminger Content-Type: text/plain X-BeenThere: test-report@dpdk.org X-Mailman-Version: 2.1.29 Precedence: list List-Id: automatic DPDK test reports List-Unsubscribe: , List-Archive: List-Post: List-Help: List-Subscribe: , Errors-To: test-report-bounces@dpdk.org _Testing PASS_ Branch: dpdk-next-net 3ba602522abfc4db664008b89ec7c90cfbf7173d --> testing pass Test environment and result as below: +---------------------+-------------------+--------------------+----------------------+------------------+-------------------+-------------------------+ | Environment | dpdk_msvc_compile | dpdk_meson_compile | dpdk_mingw64_compile | dpdk_compile_ovs | dpdk_compile_spdk | dpdk_llvm_clang_compile | +=====================+===================+====================+======================+==================+===================+=========================+ | Windows Server 2022 | PASS | SKIPPED | PASS | SKIPPED | SKIPPED | PASS | +---------------------+-------------------+--------------------+----------------------+------------------+-------------------+-------------------------+ | FreeBSD 13.4 | SKIPPED | PASS | SKIPPED | SKIPPED | SKIPPED | SKIPPED | +---------------------+-------------------+--------------------+----------------------+------------------+-------------------+-------------------------+ | FreeBSD 14.2 | SKIPPED | PASS | SKIPPED | SKIPPED | SKIPPED | SKIPPED | +---------------------+-------------------+--------------------+----------------------+------------------+-------------------+-------------------------+ | CentOS Stream 9 | SKIPPED | PASS | SKIPPED | PASS | PASS | SKIPPED | +---------------------+-------------------+--------------------+----------------------+------------------+-------------------+-------------------------+ | Debian Bullseye | SKIPPED | PASS | SKIPPED | PASS | PASS | SKIPPED | +---------------------+-------------------+--------------------+----------------------+------------------+-------------------+-------------------------+ | Debian 12 | SKIPPED | PASS | SKIPPED | PASS | PASS | SKIPPED | +---------------------+-------------------+--------------------+----------------------+------------------+-------------------+-------------------------+ | Fedora 40 (Clang) | SKIPPED | PASS | SKIPPED | PASS | PASS | SKIPPED | +---------------------+-------------------+--------------------+----------------------+------------------+-------------------+-------------------------+ | Fedora 40 | SKIPPED | PASS | SKIPPED | PASS | PASS | SKIPPED | +---------------------+-------------------+--------------------+----------------------+------------------+-------------------+-------------------------+ | Fedora 41 (Clang) | SKIPPED | PASS | SKIPPED | PASS | PASS | SKIPPED | +---------------------+-------------------+--------------------+----------------------+------------------+-------------------+-------------------------+ | Fedora 41 | SKIPPED | PASS | SKIPPED | PASS | PASS | SKIPPED | +---------------------+-------------------+--------------------+----------------------+------------------+-------------------+-------------------------+ | openSUSE Leap 15 | SKIPPED | PASS | SKIPPED | SKIPPED | SKIPPED | SKIPPED | +---------------------+-------------------+--------------------+----------------------+------------------+-------------------+-------------------------+ | RHEL8 | SKIPPED | PASS | SKIPPED | PASS | SKIPPED | SKIPPED | +---------------------+-------------------+--------------------+----------------------+------------------+-------------------+-------------------------+ | RHEL9 | SKIPPED | PASS | SKIPPED | PASS | SKIPPED | SKIPPED | +---------------------+-------------------+--------------------+----------------------+------------------+-------------------+-------------------------+ | Ubuntu 20.04 | SKIPPED | PASS | SKIPPED | SKIPPED | SKIPPED | SKIPPED | +---------------------+-------------------+--------------------+----------------------+------------------+-------------------+-------------------------+ | Ubuntu 24.04 | SKIPPED | PASS | SKIPPED | PASS | PASS | SKIPPED | +---------------------+-------------------+--------------------+----------------------+------------------+-------------------+-------------------------+ | Alpine | SKIPPED | PASS | SKIPPED | PASS | SKIPPED | SKIPPED | +---------------------+-------------------+--------------------+----------------------+------------------+-------------------+-------------------------+ | Ubuntu 22.04 | SKIPPED | PASS | SKIPPED | PASS | PASS | SKIPPED | +---------------------+-------------------+--------------------+----------------------+------------------+-------------------+-------------------------+ Windows Server 2022 Kernel: 10.0.20348.2031 Compiler: clang 15.0.7, gcc 14.1.0 (MinGW), and MSVC VS 19.39.33521 FreeBSD 13.4 Kernel: 13.4-RELEASE-p1 Compiler: clang 18.1.6 FreeBSD 14.2 Kernel: 14.2-RELEASE Compiler: clang 18.1.6 CentOS Stream 9 Kernel: Depends on container host Compiler: gcc 11.5.0 20240719 (Red Hat 11.5.0-2) Debian Bullseye Kernel: Depends on container host Compiler: gcc (Debian 10.2.1-6) 10.2.1 20210110 Debian 12 Kernel: Depends on container host Compiler: gcc (Debian 12.2.0-14) 12.2.0 Fedora 40 (Clang) Kernel: Depends on container host Compiler: clang 18.1.8 (Fedora 18.1.8-1.fc40) Fedora 40 Kernel: Depends on container host Compiler: gcc 14.2.1 20240912 (Red Hat 14.2.1-3) Fedora 41 (Clang) Kernel: Depends on container host Compiler: clang 19.1.5 (Fedora 19.1.5-1.fc41) Fedora 41 Kernel: Depends on container host Compiler: gcc 14.2.1 20240912 (Red Hat 14.2.1-3) openSUSE Leap 15 Kernel: Depends on container host Compiler: gcc (SUSE Linux) 7.5.0 RHEL8 Kernel: Depends on container host Compiler: gcc 8.5.0 20210514 (Red Hat 8.5.0-22) RHEL9 Kernel: Depends on container host Compiler: gcc 11.5.0 20240719 (Red Hat 11.5.0-2) Ubuntu 20.04 Kernel: Depends on container host Compiler: gcc (Ubuntu 9.4.0-1ubuntu1~20.04.2) 9.4.0 Ubuntu 24.04 Kernel: Depends on container host Compiler: gcc (Ubuntu 13.3.0-6ubuntu2~24.04) 13.3.0 Alpine Kernel: Depends on container host Compiler: gcc (Alpine 14.2.0) 14.2.0 Ubuntu 22.04 Kernel: Depends on container host Compiler: gcc (Ubuntu 11.4.0-1ubuntu1~22.04) 11.4.0 To view detailed results, visit: https://lab.dpdk.org/results/dashboard/tarballs/32366/ UNH-IOL DPDK Community Lab To manage your email subscriptions, visit: https://lab.dpdk.org/results/dashboard/preferences/subscriptions/