From mboxrd@z Thu Jan 1 00:00:00 1970 Return-Path: Received: from mails.dpdk.org (mails.dpdk.org [217.70.189.124]) by inbox.dpdk.org (Postfix) with ESMTP id 3C536461A0 for ; Wed, 5 Feb 2025 18:12:17 +0100 (CET) Received: from mails.dpdk.org (localhost [127.0.0.1]) by mails.dpdk.org (Postfix) with ESMTP id 3958740270; Wed, 5 Feb 2025 18:12:17 +0100 (CET) Received: from mail-yw1-f227.google.com (mail-yw1-f227.google.com [209.85.128.227]) by mails.dpdk.org (Postfix) with ESMTP id E439340270 for ; Wed, 5 Feb 2025 18:12:12 +0100 (CET) Received: by mail-yw1-f227.google.com with SMTP id 00721157ae682-6f8c58229f1so11005627b3.0 for ; Wed, 05 Feb 2025 09:12:12 -0800 (PST) DKIM-Signature: v=1; a=rsa-sha256; c=relaxed/relaxed; d=iol.unh.edu; s=unh-iol; t=1738775532; x=1739380332; darn=dpdk.org; h=references:in-reply-to:cc:to:from:subject:message-id:date:from:to :cc:subject:date:message-id:reply-to; bh=Ri8juux5m6Rtt5Hko61vt10PpXZppU45ADVzoQsXtYw=; b=hnVHT8iu2AZeFVsU4dpaqfA7FrD10NHxZILU4h+as7MyFBCUgZDhJn60kPhFHHPA4a zxiV73xHOjVbLlJFAWJ4yQwu623K01d+5kYu1HhFy2AfVPO/QX9PHr8P+LcdjC6IuV9X 35ZFCOOT62YgBAPHSpJBFj9aDfZ/b9B1u011Q= X-Google-DKIM-Signature: v=1; a=rsa-sha256; c=relaxed/relaxed; d=1e100.net; s=20230601; t=1738775532; x=1739380332; h=references:in-reply-to:cc:to:from:subject:message-id:date :x-gm-message-state:from:to:cc:subject:date:message-id:reply-to; bh=Ri8juux5m6Rtt5Hko61vt10PpXZppU45ADVzoQsXtYw=; b=F2iImv5bI9Q25rl4L57tE1sIPhOSV7TnXA8XjcgEppKzRx+qEXwK3lcB5EPQG+HyVo V41AzB4rQexaFX53RbBi3mpjLGadMJXsJe2bg/ZlUsYzENHhCPDlni5fwccr1jAHLuI6 TOar9S9Rk55HTrpnBiQyYgmxQgWyHhyWjTiQQk15BgBvbVlN+VgaizaMRLrSRP5um7Bm l9onPbkjrkqs38KDhROc8Mh8tMkJ4kOFtsneB6sTjv7qSW1wb6r+I5U6/Q+CqHbmZxVB FVEvuquQFq3HAa9D6uKzhhFWkQOdvTc2csmq4Tr9ofd131lKAZAtkvCHrW/eF9e1J3gz nvBw== X-Gm-Message-State: AOJu0YwiA0+/ilZxCmwKgKxZw9KuY68pnEZ+w9Ydr22GCAAHSwJiSiCB 5QkOv6g6KXouRxebtgbcs4DiS1gC1M83JUGyypiqx1R4duG1GYKpYuwjSbJtIjRsEgJ+nQpcwDA l4kaWaQltMM62/dd6vd7wQFNq67N2+hDN27wRwavk X-Gm-Gg: ASbGnctAlEUae3pd61T4FujZhtv1LO/A4VhES6VfdVRWhYtTd5F2nd6vrGamCSo2SIf 3fjPj/1mMv/eeXE2MGxK7BMwtoOKZz+onZJ+gqTc6P8enoSOYTGpjoK31r482Rr+PUJD8U0prPf Nm+MyqVWdEz5eny61CGoRjUS2G0UacB+aSRrSgFWs5vMpfTxhqGKbeN33yhSAvfjxzrI+6fzrk7 mSNzw/0GeW274nzfh/NbPd5RpxuuJVEUXoRHxAP7wOpUo//v96nKeSOLv165utpzUbyYKa1guPs Im3DS66xIxsbnz3MngGBY3vmYHJwwg== X-Google-Smtp-Source: AGHT+IFSfcB2poQCIBHZDHdhAQ+gPodpSNW2jwfVENeIK+OjL1SkLhZXn4vesPwsMN1nUtXjDfNhiyrLUtbA X-Received: by 2002:a05:690c:25c8:b0:6ee:40f0:ddc9 with SMTP id 00721157ae682-6f99a5eee10mr827397b3.12.1738775532141; Wed, 05 Feb 2025 09:12:12 -0800 (PST) Received: from postal.iol.unh.edu (postal.iol.unh.edu. [132.177.123.84]) by smtp-relay.gmail.com with ESMTPS id 00721157ae682-6f8c460deb5sm11553567b3.6.2025.02.05.09.12.12 (version=TLS1_2 cipher=ECDHE-ECDSA-AES128-GCM-SHA256 bits=128/128); Wed, 05 Feb 2025 09:12:12 -0800 (PST) X-Relaying-Domain: iol.unh.edu Date: Wed, 05 Feb 2025 09:12:12 -0800 (PST) Message-ID: <67a39bec.810a0220.366fe8.a7eaSMTPIN_ADDED_MISSING@mx.google.com> Received: from [172.17.0.4] (unknown [172.18.0.215]) by postal.iol.unh.edu (Postfix) with ESMTP id 930276052472; Wed, 5 Feb 2025 12:12:11 -0500 (EST) Subject: |SUCCESS| pw150585 [PATCH] ptr_compress: fix build for Arm SVE enabl From: dpdklab@iol.unh.edu To: Test Report Cc: dpdk-test-reports@iol.unh.edu In-Reply-To: <20250128173132.1128023-1-ndabilpuram@marvell.com> References: <20250128173132.1128023-1-ndabilpuram@marvell.com> Content-Type: text/plain X-BeenThere: test-report@dpdk.org X-Mailman-Version: 2.1.29 Precedence: list List-Id: automatic DPDK test reports List-Unsubscribe: , List-Archive: List-Post: List-Help: List-Subscribe: , Errors-To: test-report-bounces@dpdk.org Test-Label: iol-compile-amd64-testing Test-Status: SUCCESS http://dpdk.org/patch/150585 _Testing PASS_ Submitter: Nithin Dabilpuram Date: Tuesday, January 28 2025 17:31:32 DPDK git baseline: Repo:dpdk Branch: master CommitID:3cd695c34528571c378c5f6be7ff81d3cca9a84c 150585 --> testing pass Test environment and result as below: +---------------------+--------------------+------------------+-------------------+-------------------+----------------------+-------------------------+ | Environment | dpdk_meson_compile | dpdk_compile_ovs | dpdk_compile_spdk | dpdk_msvc_compile | dpdk_mingw64_compile | dpdk_llvm_clang_compile | +=====================+====================+==================+===================+===================+======================+=========================+ | CentOS Stream 9 | PASS | PASS | PASS | SKIPPED | SKIPPED | SKIPPED | +---------------------+--------------------+------------------+-------------------+-------------------+----------------------+-------------------------+ | Debian Bullseye | PASS | PASS | PASS | SKIPPED | SKIPPED | SKIPPED | +---------------------+--------------------+------------------+-------------------+-------------------+----------------------+-------------------------+ | Debian 12 | PASS | PASS | PASS | SKIPPED | SKIPPED | SKIPPED | +---------------------+--------------------+------------------+-------------------+-------------------+----------------------+-------------------------+ | Fedora 40 (Clang) | PASS | PASS | PASS | SKIPPED | SKIPPED | SKIPPED | +---------------------+--------------------+------------------+-------------------+-------------------+----------------------+-------------------------+ | Fedora 40 | PASS | PASS | PASS | SKIPPED | SKIPPED | SKIPPED | +---------------------+--------------------+------------------+-------------------+-------------------+----------------------+-------------------------+ | Fedora 41 | PASS | PASS | PASS | SKIPPED | SKIPPED | SKIPPED | +---------------------+--------------------+------------------+-------------------+-------------------+----------------------+-------------------------+ | Fedora 41 (Clang) | PASS | PASS | PASS | SKIPPED | SKIPPED | SKIPPED | +---------------------+--------------------+------------------+-------------------+-------------------+----------------------+-------------------------+ | Ubuntu 20.04 | PASS | SKIPPED | SKIPPED | SKIPPED | SKIPPED | SKIPPED | +---------------------+--------------------+------------------+-------------------+-------------------+----------------------+-------------------------+ | RHEL8 | PASS | PASS | SKIPPED | SKIPPED | SKIPPED | SKIPPED | +---------------------+--------------------+------------------+-------------------+-------------------+----------------------+-------------------------+ | Ubuntu 24.04 | PASS | PASS | PASS | SKIPPED | SKIPPED | SKIPPED | +---------------------+--------------------+------------------+-------------------+-------------------+----------------------+-------------------------+ | openSUSE Leap 15 | PASS | SKIPPED | SKIPPED | SKIPPED | SKIPPED | SKIPPED | +---------------------+--------------------+------------------+-------------------+-------------------+----------------------+-------------------------+ | Ubuntu 22.04 | PASS | PASS | PASS | SKIPPED | SKIPPED | SKIPPED | +---------------------+--------------------+------------------+-------------------+-------------------+----------------------+-------------------------+ | RHEL9 | PASS | PASS | SKIPPED | SKIPPED | SKIPPED | SKIPPED | +---------------------+--------------------+------------------+-------------------+-------------------+----------------------+-------------------------+ | Alpine | PASS | PASS | SKIPPED | SKIPPED | SKIPPED | SKIPPED | +---------------------+--------------------+------------------+-------------------+-------------------+----------------------+-------------------------+ | FreeBSD 13.4 | PASS | SKIPPED | SKIPPED | SKIPPED | SKIPPED | SKIPPED | +---------------------+--------------------+------------------+-------------------+-------------------+----------------------+-------------------------+ | FreeBSD 14.2 | PASS | SKIPPED | SKIPPED | SKIPPED | SKIPPED | SKIPPED | +---------------------+--------------------+------------------+-------------------+-------------------+----------------------+-------------------------+ | Windows Server 2022 | SKIPPED | SKIPPED | SKIPPED | PASS | PASS | PASS | +---------------------+--------------------+------------------+-------------------+-------------------+----------------------+-------------------------+ CentOS Stream 9 Kernel: Depends on container host Compiler: gcc 11.5.0 20240719 (Red Hat 11.5.0-2) Debian Bullseye Kernel: Depends on container host Compiler: gcc (Debian 10.2.1-6) 10.2.1 20210110 Debian 12 Kernel: Depends on container host Compiler: gcc (Debian 12.2.0-14) 12.2.0 Fedora 40 (Clang) Kernel: Depends on container host Compiler: clang 18.1.8 (Fedora 18.1.8-1.fc40) Fedora 40 Kernel: Depends on container host Compiler: gcc 14.2.1 20240912 (Red Hat 14.2.1-3) Fedora 41 Kernel: Depends on container host Compiler: gcc 14.2.1 20240912 (Red Hat 14.2.1-3) Fedora 41 (Clang) Kernel: Depends on container host Compiler: clang 19.1.5 (Fedora 19.1.5-1.fc41) Ubuntu 20.04 Kernel: Depends on container host Compiler: gcc (Ubuntu 9.4.0-1ubuntu1~20.04.2) 9.4.0 RHEL8 Kernel: Depends on container host Compiler: gcc 8.5.0 20210514 (Red Hat 8.5.0-22) Ubuntu 24.04 Kernel: Depends on container host Compiler: gcc (Ubuntu 13.3.0-6ubuntu2~24.04) 13.3.0 openSUSE Leap 15 Kernel: Depends on container host Compiler: gcc (SUSE Linux) 7.5.0 Ubuntu 22.04 Kernel: Depends on container host Compiler: gcc (Ubuntu 11.4.0-1ubuntu1~22.04) 11.4.0 RHEL9 Kernel: Depends on container host Compiler: gcc 11.5.0 20240719 (Red Hat 11.5.0-2) Alpine Kernel: Depends on container host Compiler: gcc (Alpine 14.2.0) 14.2.0 FreeBSD 13.4 Kernel: 13.4-RELEASE-p1 Compiler: clang 18.1.6 FreeBSD 14.2 Kernel: 14.2-RELEASE Compiler: clang 18.1.6 Windows Server 2022 Kernel: 10.0.20348.2031 Compiler: clang 15.0.7, gcc 14.1.0 (MinGW), and MSVC VS 19.39.33521 To view detailed results, visit: https://lab.dpdk.org/results/dashboard/patchsets/32443/ UNH-IOL DPDK Community Lab To manage your email subscriptions, visit: https://lab.dpdk.org/results/dashboard/preferences/subscriptions/