From mboxrd@z Thu Jan 1 00:00:00 1970 Return-Path: Received: from mails.dpdk.org (mails.dpdk.org [217.70.189.124]) by inbox.dpdk.org (Postfix) with ESMTP id 859D9461A0 for ; Wed, 5 Feb 2025 18:12:34 +0100 (CET) Received: from mails.dpdk.org (localhost [127.0.0.1]) by mails.dpdk.org (Postfix) with ESMTP id 7CE5D40270; Wed, 5 Feb 2025 18:12:34 +0100 (CET) Received: from mail-ua1-f98.google.com (mail-ua1-f98.google.com [209.85.222.98]) by mails.dpdk.org (Postfix) with ESMTP id 1566A40261 for ; Wed, 5 Feb 2025 18:12:33 +0100 (CET) Received: by mail-ua1-f98.google.com with SMTP id a1e0cc1a2514c-866db7d6889so686698241.0 for ; Wed, 05 Feb 2025 09:12:33 -0800 (PST) DKIM-Signature: v=1; a=rsa-sha256; c=relaxed/relaxed; d=iol.unh.edu; s=unh-iol; t=1738775552; x=1739380352; darn=dpdk.org; h=cc:to:from:subject:message-id:date:from:to:cc:subject:date :message-id:reply-to; bh=UISjoe14RatvE7fvHJCzcAtK3r/RXY2v6MDR3hMvpxc=; b=DLIW47eSKERWoo0OsYbhSpQAre/zz9Z8u7rUFd+/w/72FHKcwcQpwvVV4Lkdaso2iA bwe9Qao4ekLbslwaTEK8JvR/jwsbWQLD8SFeAfWP/yXzX8E2OuhgDSi0IMQmFk1fQHz3 vf+/ln597FRhqwpbdm7ijEo2i4VA1gqFRXbP0= X-Google-DKIM-Signature: v=1; a=rsa-sha256; c=relaxed/relaxed; d=1e100.net; s=20230601; t=1738775552; x=1739380352; h=cc:to:from:subject:message-id:date:x-gm-message-state:from:to:cc :subject:date:message-id:reply-to; bh=UISjoe14RatvE7fvHJCzcAtK3r/RXY2v6MDR3hMvpxc=; b=ZxdVriaNri2cfynWxzkbAG+exe716IfZaFl0CMQ9xL0SEnhYaB7PZzcVOXMipZ1s+J 7M0PiM6akonqcl5o3S/JijkMRf9XT1ZeBUxwk+wSGckrYEqoFfyazHqW/A0dNWiWauFv /h3+Sb8QoG6ohgGDguf7Z+YmovD+6iLWmZlJT7hkcQbHVKwgTkEpFrqdeycW8IobJZr8 qfTYk6x5QlWSjic2MF39ffAUYHCwBUbhEZamW1F3/AEf393HvdHBogjsSIWVVvuQCmFV hk/EktGUiptCIshpcD2sPh6CBLDRufyBjEqyBQLdhIinil91NJKWhbD99VtLnXFBYrc1 LRtw== X-Gm-Message-State: AOJu0YwHiC1KrGMdJ/xN914Y9ETuEWxkt647nW18tseuCsz/u+40ahif eaIrjrsJdod4ZQ2WX48QD9aA0eAP5vPdmBfSrdt11HXSjGdC0sEL+ziJDusz49LMDe49FgJAP6D MB1EZcEXzRV9QJvnjVLc06xsI0OW25mKo X-Gm-Gg: ASbGncvIuvhRfabGlG69aObLFpuRftCF6VB9q6Q6m2ohEq//63eIO3TeDrxHxGYMr8F rNrQMb10iUHfBp4W9uH8FONiq/bLttoMkAJNxHI183/2sHtKv988sMCta9RsT3H5PNBlMGdBkmG EpMZYvOa6qQaU0K6wvNyHBZ5xJtfiqcm6BLh+AIqJhpwCg8fgAWWZz7NdvN9pf+Z6LA114xjYvP t/X69lwkfPNWyBVzwN+jL0/qJA7FYhcLQY0xxdCiBjItodIwgiuS6/nuFvFmpcalAWv5fIRHn7V 1dpj8XXZeHXIi3R6KjlQpZaZHTJfnA== X-Google-Smtp-Source: AGHT+IHTC7ndoigKjlaZ9gfluFof1RwNXT73X7SZUrGEKYEsPtaOHjy/1xR5GoBpmJHgPbLmOFgVNDkASqhQ X-Received: by 2002:a05:6102:3a06:b0:4b9:bdd8:2091 with SMTP id ada2fe7eead31-4ba47933a74mr2552985137.14.1738775552350; Wed, 05 Feb 2025 09:12:32 -0800 (PST) Received: from postal.iol.unh.edu (postal.iol.unh.edu. [132.177.123.84]) by smtp-relay.gmail.com with ESMTPS id a1e0cc1a2514c-866e9766f20sm21944241.3.2025.02.05.09.12.32 (version=TLS1_2 cipher=ECDHE-ECDSA-AES128-GCM-SHA256 bits=128/128); Wed, 05 Feb 2025 09:12:32 -0800 (PST) X-Relaying-Domain: iol.unh.edu Date: Wed, 05 Feb 2025 09:12:32 -0800 (PST) Message-ID: <67a39c00.050a0220.8f5e0.0ccbSMTPIN_ADDED_MISSING@mx.google.com> Received: from [172.21.0.17] (unknown [172.18.0.240]) by postal.iol.unh.edu (Postfix) with ESMTP id C13736052472; Wed, 5 Feb 2025 12:12:31 -0500 (EST) Subject: |SUCCESS| [GIT MASTER] c66daa12e76d7b4912cfb7109a761856a7a873ab From: dpdklab@iol.unh.edu To: Test Report Cc: dpdk-test-reports@iol.unh.edu, Xueming Li , Christian Ehrhardt , Kevin Traynor , Luca Boccassi Content-Type: text/plain X-BeenThere: test-report@dpdk.org X-Mailman-Version: 2.1.29 Precedence: list List-Id: automatic DPDK test reports List-Unsubscribe: , List-Archive: List-Post: List-Help: List-Subscribe: , Errors-To: test-report-bounces@dpdk.org _Testing PASS_ Branch: tags/v23.11 c66daa12e76d7b4912cfb7109a761856a7a873ab --> testing pass Test environment and result as below: +---------------------+--------------------+------------------+-------------------+-------------------+----------------------+-------------------------+ | Environment | dpdk_meson_compile | dpdk_compile_ovs | dpdk_compile_spdk | dpdk_msvc_compile | dpdk_mingw64_compile | dpdk_llvm_clang_compile | +=====================+====================+==================+===================+===================+======================+=========================+ | CentOS Stream 9 | PASS | PASS | PASS | SKIPPED | SKIPPED | SKIPPED | +---------------------+--------------------+------------------+-------------------+-------------------+----------------------+-------------------------+ | Debian 12 | PASS | PASS | PASS | SKIPPED | SKIPPED | SKIPPED | +---------------------+--------------------+------------------+-------------------+-------------------+----------------------+-------------------------+ | Fedora 40 (Clang) | PASS | PASS | PASS | SKIPPED | SKIPPED | SKIPPED | +---------------------+--------------------+------------------+-------------------+-------------------+----------------------+-------------------------+ | Debian Bullseye | PASS | PASS | PASS | SKIPPED | SKIPPED | SKIPPED | +---------------------+--------------------+------------------+-------------------+-------------------+----------------------+-------------------------+ | RHEL8 | PASS | PASS | SKIPPED | SKIPPED | SKIPPED | SKIPPED | +---------------------+--------------------+------------------+-------------------+-------------------+----------------------+-------------------------+ | Fedora 40 | PASS | PASS | PASS | SKIPPED | SKIPPED | SKIPPED | +---------------------+--------------------+------------------+-------------------+-------------------+----------------------+-------------------------+ | Ubuntu 22.04 | PASS | PASS | PASS | SKIPPED | SKIPPED | SKIPPED | +---------------------+--------------------+------------------+-------------------+-------------------+----------------------+-------------------------+ | Ubuntu 24.04 | PASS | PASS | PASS | SKIPPED | SKIPPED | SKIPPED | +---------------------+--------------------+------------------+-------------------+-------------------+----------------------+-------------------------+ | Fedora 41 (Clang) | PASS | PASS | PASS | SKIPPED | SKIPPED | SKIPPED | +---------------------+--------------------+------------------+-------------------+-------------------+----------------------+-------------------------+ | RHEL9 | PASS | PASS | SKIPPED | SKIPPED | SKIPPED | SKIPPED | +---------------------+--------------------+------------------+-------------------+-------------------+----------------------+-------------------------+ | Fedora 41 | PASS | PASS | PASS | SKIPPED | SKIPPED | SKIPPED | +---------------------+--------------------+------------------+-------------------+-------------------+----------------------+-------------------------+ | openSUSE Leap 15 | PASS | SKIPPED | SKIPPED | SKIPPED | SKIPPED | SKIPPED | +---------------------+--------------------+------------------+-------------------+-------------------+----------------------+-------------------------+ | Ubuntu 20.04 | PASS | SKIPPED | SKIPPED | SKIPPED | SKIPPED | SKIPPED | +---------------------+--------------------+------------------+-------------------+-------------------+----------------------+-------------------------+ | Alpine | PASS | PASS | SKIPPED | SKIPPED | SKIPPED | SKIPPED | +---------------------+--------------------+------------------+-------------------+-------------------+----------------------+-------------------------+ | FreeBSD 13.4 | PASS | SKIPPED | SKIPPED | SKIPPED | SKIPPED | SKIPPED | +---------------------+--------------------+------------------+-------------------+-------------------+----------------------+-------------------------+ | FreeBSD 14.2 | PASS | SKIPPED | SKIPPED | SKIPPED | SKIPPED | SKIPPED | +---------------------+--------------------+------------------+-------------------+-------------------+----------------------+-------------------------+ | Windows Server 2022 | SKIPPED | SKIPPED | SKIPPED | PASS | PASS | PASS | +---------------------+--------------------+------------------+-------------------+-------------------+----------------------+-------------------------+ CentOS Stream 9 Kernel: Depends on container host Compiler: gcc 11.5.0 20240719 (Red Hat 11.5.0-2) Debian 12 Kernel: Depends on container host Compiler: gcc (Debian 12.2.0-14) 12.2.0 Fedora 40 (Clang) Kernel: Depends on container host Compiler: clang 18.1.8 (Fedora 18.1.8-1.fc40) Debian Bullseye Kernel: Depends on container host Compiler: gcc (Debian 10.2.1-6) 10.2.1 20210110 RHEL8 Kernel: Depends on container host Compiler: gcc 8.5.0 20210514 (Red Hat 8.5.0-22) Fedora 40 Kernel: Depends on container host Compiler: gcc 14.2.1 20240912 (Red Hat 14.2.1-3) Ubuntu 22.04 Kernel: Depends on container host Compiler: gcc (Ubuntu 11.4.0-1ubuntu1~22.04) 11.4.0 Ubuntu 24.04 Kernel: Depends on container host Compiler: gcc (Ubuntu 13.3.0-6ubuntu2~24.04) 13.3.0 Fedora 41 (Clang) Kernel: Depends on container host Compiler: clang 19.1.5 (Fedora 19.1.5-1.fc41) RHEL9 Kernel: Depends on container host Compiler: gcc 11.5.0 20240719 (Red Hat 11.5.0-2) Fedora 41 Kernel: Depends on container host Compiler: gcc 14.2.1 20240912 (Red Hat 14.2.1-3) openSUSE Leap 15 Kernel: Depends on container host Compiler: gcc (SUSE Linux) 7.5.0 Ubuntu 20.04 Kernel: Depends on container host Compiler: gcc (Ubuntu 9.4.0-1ubuntu1~20.04.2) 9.4.0 Alpine Kernel: Depends on container host Compiler: gcc (Alpine 14.2.0) 14.2.0 FreeBSD 13.4 Kernel: 13.4-RELEASE-p1 Compiler: clang 18.1.6 FreeBSD 14.2 Kernel: 14.2-RELEASE Compiler: clang 18.1.6 Windows Server 2022 Kernel: 10.0.20348.2031 Compiler: clang 15.0.7, gcc 14.1.0 (MinGW), and MSVC VS 19.39.33521 To view detailed results, visit: https://lab.dpdk.org/results/dashboard/tarballs/32364/ UNH-IOL DPDK Community Lab To manage your email subscriptions, visit: https://lab.dpdk.org/results/dashboard/preferences/subscriptions/