From mboxrd@z Thu Jan 1 00:00:00 1970 Return-Path: Received: from mails.dpdk.org (mails.dpdk.org [217.70.189.124]) by inbox.dpdk.org (Postfix) with ESMTP id 54218461A0 for ; Wed, 5 Feb 2025 18:17:21 +0100 (CET) Received: from mails.dpdk.org (localhost [127.0.0.1]) by mails.dpdk.org (Postfix) with ESMTP id 5190640270; Wed, 5 Feb 2025 18:17:21 +0100 (CET) Received: from mail-io1-f98.google.com (mail-io1-f98.google.com [209.85.166.98]) by mails.dpdk.org (Postfix) with ESMTP id 6093640261 for ; Wed, 5 Feb 2025 18:17:20 +0100 (CET) Received: by mail-io1-f98.google.com with SMTP id ca18e2360f4ac-851c4ee2a37so2846439f.3 for ; Wed, 05 Feb 2025 09:17:20 -0800 (PST) DKIM-Signature: v=1; a=rsa-sha256; c=relaxed/relaxed; d=iol.unh.edu; s=unh-iol; t=1738775839; x=1739380639; darn=dpdk.org; h=references:in-reply-to:cc:to:from:subject:message-id:date:from:to :cc:subject:date:message-id:reply-to; bh=u+ow9gRxpjWVWnsGi1hanwmUQPMxhSNBquI8UbQlqY4=; b=NF+Zk0rFZ8YDlsI4vSlz3BGvwWKeQpgFsHwrZIjRynATIKEyEmgU4mv6GWZkmEDUJz bhtwjAZxzAkYpldMIlKWTNdn/Bl5Pb/+pIEkFuX6zx28bBiOGB1nuLpOHu5BRrSpTd6B iIzz9gFp1w2WhivSiEGo/gQLdZQLYJ+TueqZY= X-Google-DKIM-Signature: v=1; a=rsa-sha256; c=relaxed/relaxed; d=1e100.net; s=20230601; t=1738775839; x=1739380639; h=references:in-reply-to:cc:to:from:subject:message-id:date :x-gm-message-state:from:to:cc:subject:date:message-id:reply-to; bh=u+ow9gRxpjWVWnsGi1hanwmUQPMxhSNBquI8UbQlqY4=; b=gjSAtdt0q/5HVqaaPcr2vcnFOKERENCpMf0ro1Y/Wr0EGHYzzy/v4K56n5thW9or97 WVUswe/GBAe0LAsAlmAA8zvUYuYqw7nItIhG2nQboH1r3kXSh+vctnFXqi6/qNPR4xq3 oSN6nZcsRQVa2OsE86IPCeZ164AUZbbVZ5lxW2AsZGnOTi67nAmMvt1XNXPfxn5mYyNn W/gxw5rCIHTGf1XFBvn2H0lRhVWrn5Lqv6rNdpU/lf3jNAaKQoqpaWyroP/CMtsLJawD 5LtZtS2W5WPmZj8jf/u42aHey+nRCSOZlu/D08NB0MR2FhLyrKNkFx6tzZfobHn/UkkS q0gw== X-Gm-Message-State: AOJu0YyVQoIrbWANnyv205M7x6Ki/PJaVL4Ea2DbWvRaZ5T+zJiZ/l5P ZLZX8djXeotRxaT0w25Lw8Hp0kMmj8wfCQ+swGZ4ff6I4tIKVzLBgZdF3ajA9ymlWZS1E3h9C4u 8/xyrpUcxSkT/eGwSGrN9qJCgEXfJxfNgrtgj/585 X-Gm-Gg: ASbGnctXrU5I+Rt86eEs9L9/Tb1gdeVQKc/FLl2goGrEjHNKNWaCmn5YH90+wWc2B4j D061bSbS7mw/6Cx8L26gwyCz+wer4ntmp7LPy8yIQPaBn1PNR33vsJ41XwCg5fVBHKkxnOujofR 0rIIrNweE/cZ14P8d2sBKSMCT03cflf5dpl4gvBt3YW60+tvinhnEfc+DxVO0O51yMvK3kBaUnI I9G6qGIQl/dTCwiMBV0Ugo0nS6fL2xHDqG2Y4Z33J2LvVQ3CHzIA1ALDgPUSBZDMrbAHmmzBCFw tAabcYAZHFwnGTz8jQ9Mi7T7UhnzWQ== X-Google-Smtp-Source: AGHT+IF479qAAR5GNVo005p6hDDLD4oGEZd6OmNsHpgKPMRugk7mISE/0jj/gA8q9ECAZn1SzwDAYMIOYYf6 X-Received: by 2002:a05:6602:3a8a:b0:841:a9d3:3b39 with SMTP id ca18e2360f4ac-854ea436a47mr463587739f.5.1738775839653; Wed, 05 Feb 2025 09:17:19 -0800 (PST) Received: from postal.iol.unh.edu (postal.iol.unh.edu. [132.177.123.84]) by smtp-relay.gmail.com with ESMTPS id ca18e2360f4ac-854a16125f2sm82328439f.18.2025.02.05.09.17.19 (version=TLS1_2 cipher=ECDHE-ECDSA-AES128-GCM-SHA256 bits=128/128); Wed, 05 Feb 2025 09:17:19 -0800 (PST) X-Relaying-Domain: iol.unh.edu Date: Wed, 05 Feb 2025 09:17:19 -0800 (PST) Message-ID: <67a39d1f.050a0220.473f0.696fSMTPIN_ADDED_MISSING@mx.google.com> Received: from [172.17.0.3] (unknown [172.18.0.213]) by postal.iol.unh.edu (Postfix) with ESMTP id F0A0D6052471; Wed, 5 Feb 2025 12:17:18 -0500 (EST) Subject: |SUCCESS| pw150553-150555 [PATCH] [v3,3/3] drivers/crypto: use RTE_B From: dpdklab@iol.unh.edu To: Test Report Cc: dpdk-test-reports@iol.unh.edu In-Reply-To: <1738006389-17193-3-git-send-email-andremue@linux.microsoft.com> References: <1738006389-17193-3-git-send-email-andremue@linux.microsoft.com> Content-Type: text/plain X-BeenThere: test-report@dpdk.org X-Mailman-Version: 2.1.29 Precedence: list List-Id: automatic DPDK test reports List-Unsubscribe: , List-Archive: List-Post: List-Help: List-Subscribe: , Errors-To: test-report-bounces@dpdk.org Test-Label: iol-compile-amd64-testing Test-Status: SUCCESS http://dpdk.org/patch/150555 _Testing PASS_ Submitter: Andre Muezerie Date: Monday, January 27 2025 19:33:09 DPDK git baseline: Repo:dpdk Branch: master CommitID:e110e9ecc60a78e26026496b1697863312f262a4 150553-150555 --> testing pass Test environment and result as below: +---------------------+--------------------+------------------+-------------------+-------------------+----------------------+-------------------------+ | Environment | dpdk_meson_compile | dpdk_compile_ovs | dpdk_compile_spdk | dpdk_msvc_compile | dpdk_mingw64_compile | dpdk_llvm_clang_compile | +=====================+====================+==================+===================+===================+======================+=========================+ | CentOS Stream 9 | PASS | PASS | PASS | SKIPPED | SKIPPED | SKIPPED | +---------------------+--------------------+------------------+-------------------+-------------------+----------------------+-------------------------+ | Debian Bullseye | PASS | PASS | PASS | SKIPPED | SKIPPED | SKIPPED | +---------------------+--------------------+------------------+-------------------+-------------------+----------------------+-------------------------+ | Debian 12 | PASS | PASS | PASS | SKIPPED | SKIPPED | SKIPPED | +---------------------+--------------------+------------------+-------------------+-------------------+----------------------+-------------------------+ | Fedora 40 (Clang) | PASS | PASS | PASS | SKIPPED | SKIPPED | SKIPPED | +---------------------+--------------------+------------------+-------------------+-------------------+----------------------+-------------------------+ | Fedora 40 | PASS | PASS | PASS | SKIPPED | SKIPPED | SKIPPED | +---------------------+--------------------+------------------+-------------------+-------------------+----------------------+-------------------------+ | Fedora 41 (Clang) | PASS | PASS | PASS | SKIPPED | SKIPPED | SKIPPED | +---------------------+--------------------+------------------+-------------------+-------------------+----------------------+-------------------------+ | RHEL8 | PASS | PASS | SKIPPED | SKIPPED | SKIPPED | SKIPPED | +---------------------+--------------------+------------------+-------------------+-------------------+----------------------+-------------------------+ | Ubuntu 20.04 | PASS | SKIPPED | SKIPPED | SKIPPED | SKIPPED | SKIPPED | +---------------------+--------------------+------------------+-------------------+-------------------+----------------------+-------------------------+ | Fedora 41 | PASS | PASS | PASS | SKIPPED | SKIPPED | SKIPPED | +---------------------+--------------------+------------------+-------------------+-------------------+----------------------+-------------------------+ | openSUSE Leap 15 | PASS | SKIPPED | SKIPPED | SKIPPED | SKIPPED | SKIPPED | +---------------------+--------------------+------------------+-------------------+-------------------+----------------------+-------------------------+ | RHEL9 | PASS | PASS | SKIPPED | SKIPPED | SKIPPED | SKIPPED | +---------------------+--------------------+------------------+-------------------+-------------------+----------------------+-------------------------+ | Ubuntu 22.04 | PASS | PASS | PASS | SKIPPED | SKIPPED | SKIPPED | +---------------------+--------------------+------------------+-------------------+-------------------+----------------------+-------------------------+ | Ubuntu 24.04 | PASS | PASS | PASS | SKIPPED | SKIPPED | SKIPPED | +---------------------+--------------------+------------------+-------------------+-------------------+----------------------+-------------------------+ | Alpine | PASS | PASS | SKIPPED | SKIPPED | SKIPPED | SKIPPED | +---------------------+--------------------+------------------+-------------------+-------------------+----------------------+-------------------------+ | FreeBSD 13.4 | PASS | SKIPPED | SKIPPED | SKIPPED | SKIPPED | SKIPPED | +---------------------+--------------------+------------------+-------------------+-------------------+----------------------+-------------------------+ | FreeBSD 14.2 | PASS | SKIPPED | SKIPPED | SKIPPED | SKIPPED | SKIPPED | +---------------------+--------------------+------------------+-------------------+-------------------+----------------------+-------------------------+ | Windows Server 2022 | SKIPPED | SKIPPED | SKIPPED | PASS | PASS | PASS | +---------------------+--------------------+------------------+-------------------+-------------------+----------------------+-------------------------+ CentOS Stream 9 Kernel: Depends on container host Compiler: gcc 11.5.0 20240719 (Red Hat 11.5.0-2) Debian Bullseye Kernel: Depends on container host Compiler: gcc (Debian 10.2.1-6) 10.2.1 20210110 Debian 12 Kernel: Depends on container host Compiler: gcc (Debian 12.2.0-14) 12.2.0 Fedora 40 (Clang) Kernel: Depends on container host Compiler: clang 18.1.8 (Fedora 18.1.8-1.fc40) Fedora 40 Kernel: Depends on container host Compiler: gcc 14.2.1 20240912 (Red Hat 14.2.1-3) Fedora 41 (Clang) Kernel: Depends on container host Compiler: clang 19.1.5 (Fedora 19.1.5-1.fc41) RHEL8 Kernel: Depends on container host Compiler: gcc 8.5.0 20210514 (Red Hat 8.5.0-22) Ubuntu 20.04 Kernel: Depends on container host Compiler: gcc (Ubuntu 9.4.0-1ubuntu1~20.04.2) 9.4.0 Fedora 41 Kernel: Depends on container host Compiler: gcc 14.2.1 20240912 (Red Hat 14.2.1-3) openSUSE Leap 15 Kernel: Depends on container host Compiler: gcc (SUSE Linux) 7.5.0 RHEL9 Kernel: Depends on container host Compiler: gcc 11.5.0 20240719 (Red Hat 11.5.0-2) Ubuntu 22.04 Kernel: Depends on container host Compiler: gcc (Ubuntu 11.4.0-1ubuntu1~22.04) 11.4.0 Ubuntu 24.04 Kernel: Depends on container host Compiler: gcc (Ubuntu 13.3.0-6ubuntu2~24.04) 13.3.0 Alpine Kernel: Depends on container host Compiler: gcc (Alpine 14.2.0) 14.2.0 FreeBSD 13.4 Kernel: 13.4-RELEASE-p1 Compiler: clang 18.1.6 FreeBSD 14.2 Kernel: 14.2-RELEASE Compiler: clang 18.1.6 Windows Server 2022 Kernel: 10.0.20348.2031 Compiler: clang 15.0.7, gcc 14.1.0 (MinGW), and MSVC VS 19.39.33521 To view detailed results, visit: https://lab.dpdk.org/results/dashboard/patchsets/32436/ UNH-IOL DPDK Community Lab To manage your email subscriptions, visit: https://lab.dpdk.org/results/dashboard/preferences/subscriptions/