From mboxrd@z Thu Jan 1 00:00:00 1970 Return-Path: Received: from mails.dpdk.org (mails.dpdk.org [217.70.189.124]) by inbox.dpdk.org (Postfix) with ESMTP id AD665461A0 for ; Wed, 5 Feb 2025 18:18:41 +0100 (CET) Received: from mails.dpdk.org (localhost [127.0.0.1]) by mails.dpdk.org (Postfix) with ESMTP id AAAA640270; Wed, 5 Feb 2025 18:18:41 +0100 (CET) Received: from mail-yw1-f228.google.com (mail-yw1-f228.google.com [209.85.128.228]) by mails.dpdk.org (Postfix) with ESMTP id 1B1F240261 for ; Wed, 5 Feb 2025 18:18:41 +0100 (CET) Received: by mail-yw1-f228.google.com with SMTP id 00721157ae682-6efe4e3d698so348067b3.0 for ; Wed, 05 Feb 2025 09:18:41 -0800 (PST) DKIM-Signature: v=1; a=rsa-sha256; c=relaxed/relaxed; d=iol.unh.edu; s=unh-iol; t=1738775920; x=1739380720; darn=dpdk.org; h=cc:to:from:subject:message-id:date:from:to:cc:subject:date :message-id:reply-to; bh=NGRtYtU31XeKjK+UPKmuypbCQ7Y7zOyXGNVcaSUQsTI=; b=RHq/xWho6II3LW/2LY7MuBMU4SCei59pWYUoHzUOBra7Uz82mgL76t6wpYb0k5pB0l ksYxV1YLgpljTmZUxKfpgGFnR+Mfoct8XNnUiw3ruODSA5HPegA7zVipYezR7SI1i3j6 /RT2h9HqK6iNg9EV0TZEi3h36Lk6364bgpjLs= X-Google-DKIM-Signature: v=1; a=rsa-sha256; c=relaxed/relaxed; d=1e100.net; s=20230601; t=1738775920; x=1739380720; h=cc:to:from:subject:message-id:date:x-gm-message-state:from:to:cc :subject:date:message-id:reply-to; bh=NGRtYtU31XeKjK+UPKmuypbCQ7Y7zOyXGNVcaSUQsTI=; b=IcMX/ER+wDVIRPubde4XarCChLAeP0UpZVd5vA1/OXma2vfPeQgTqkHhEn2vG4Y4lG 0xZcLav5OjxpxnW/URWsjG3e2gLJ4VImtTLFskBM7Ak6FlmGUbeIo5sDTdohvICauPTG /M+QQDeFroIPRcxOniHcJDy5Crb6MfGXzdktOWf6Q85JZS7PVPRGR4dC9VxrfJDSdN2J JGUjayuVauXajlFwp8CARfkqzEeuiLd7Qz+djfzY3/zUD0UMspPVY1dWORinoiHp+eZ1 Y3spU0JOZoYY1V1gaPD9rVQRq6PoL09aT3pda1yM9NJ6uijRRnibgvWYVjpZ536Rp72c mGjw== X-Gm-Message-State: AOJu0YzZLh0xAkxzoWTnZkHGhjfynG424jMsVlQ8mikNS4H5Y1NsR4Td OqD85p7CNKnvXzGByHehezfNXyNfnlP5rAqnS9UV5l2Ufr7F+zf7UBt2etAtdNhAehDIV393MCI EBa2cINnCmvhaFKjUXKWPTCRh82ie39xX X-Gm-Gg: ASbGncuP+5YicgX0kd5t4HoTcUNsEKJlsSbg9k1ax4NQJNeQHlh7tPv/huwYbPderm0 GYbynzqbaBudWAldkR1ywVNkW1c4apwquc998iej8uMRItZx5jd/gbsK+aC4lM+1YwXfYTfhqGz Fw31wczWhkmeI1GxO8aht/naf8qXgxj1ogrHC/KOP26pd5vCTa4laxaKMObz8ZbcaN8GjYIx21d TB1XkgRK0VPITA8XKFqpW0eq4ZYElcAAr837hU2TO1meMlNv6SJ65mk6KdfLbVG3sIdnmafmR+2 IIFLuzvWeDvZRgNMMJ0ak1O1nx8dOw== X-Google-Smtp-Source: AGHT+IFkCUfC6iBMdZ+YdNqUWf8kqfkwvI9il08N3JYYOi5wGCD8QbIhkKCbrjIdiA4SA4Dz5laazZ5M9rE+ X-Received: by 2002:a05:690c:67c2:b0:6ef:4696:f1d0 with SMTP id 00721157ae682-6f989eb7286mr33679027b3.12.1738775920335; Wed, 05 Feb 2025 09:18:40 -0800 (PST) Received: from postal.iol.unh.edu (postal.iol.unh.edu. [132.177.123.84]) by smtp-relay.gmail.com with ESMTPS id 00721157ae682-6f8c460d285sm7052187b3.14.2025.02.05.09.18.40 (version=TLS1_2 cipher=ECDHE-ECDSA-AES128-GCM-SHA256 bits=128/128); Wed, 05 Feb 2025 09:18:40 -0800 (PST) X-Relaying-Domain: iol.unh.edu Date: Wed, 05 Feb 2025 09:18:40 -0800 (PST) Message-ID: <67a39d70.050a0220.27bcd8.fe04SMTPIN_ADDED_MISSING@mx.google.com> Received: from [172.21.0.13] (unknown [172.18.0.240]) by postal.iol.unh.edu (Postfix) with ESMTP id DFD7C6052471; Wed, 5 Feb 2025 12:18:39 -0500 (EST) Subject: |SUCCESS| [GIT MASTER] f2eea2f37a82bb73fb01d56350708f7d70e21379 From: dpdklab@iol.unh.edu To: Test Report Cc: dpdk-test-reports@iol.unh.edu, Xueming Li , Christian Ehrhardt , Kevin Traynor , Luca Boccassi Content-Type: text/plain X-BeenThere: test-report@dpdk.org X-Mailman-Version: 2.1.29 Precedence: list List-Id: automatic DPDK test reports List-Unsubscribe: , List-Archive: List-Post: List-Help: List-Subscribe: , Errors-To: test-report-bounces@dpdk.org _Testing PASS_ Branch: tags/v24.11 f2eea2f37a82bb73fb01d56350708f7d70e21379 --> testing pass Test environment and result as below: +---------------------+--------------------+-------------------+----------------------+------------------+-------------------+-------------------------+ | Environment | dpdk_meson_compile | dpdk_msvc_compile | dpdk_mingw64_compile | dpdk_compile_ovs | dpdk_compile_spdk | dpdk_llvm_clang_compile | +=====================+====================+===================+======================+==================+===================+=========================+ | FreeBSD 14.2 | PASS | SKIPPED | SKIPPED | SKIPPED | SKIPPED | SKIPPED | +---------------------+--------------------+-------------------+----------------------+------------------+-------------------+-------------------------+ | CentOS Stream 9 | PASS | SKIPPED | SKIPPED | PASS | PASS | SKIPPED | +---------------------+--------------------+-------------------+----------------------+------------------+-------------------+-------------------------+ | Debian Bullseye | PASS | SKIPPED | SKIPPED | PASS | PASS | SKIPPED | +---------------------+--------------------+-------------------+----------------------+------------------+-------------------+-------------------------+ | Debian 12 | PASS | SKIPPED | SKIPPED | PASS | PASS | SKIPPED | +---------------------+--------------------+-------------------+----------------------+------------------+-------------------+-------------------------+ | Fedora 40 | PASS | SKIPPED | SKIPPED | PASS | PASS | SKIPPED | +---------------------+--------------------+-------------------+----------------------+------------------+-------------------+-------------------------+ | Fedora 41 (Clang) | PASS | SKIPPED | SKIPPED | PASS | PASS | SKIPPED | +---------------------+--------------------+-------------------+----------------------+------------------+-------------------+-------------------------+ | Fedora 41 | PASS | SKIPPED | SKIPPED | PASS | PASS | SKIPPED | +---------------------+--------------------+-------------------+----------------------+------------------+-------------------+-------------------------+ | openSUSE Leap 15 | PASS | SKIPPED | SKIPPED | SKIPPED | SKIPPED | SKIPPED | +---------------------+--------------------+-------------------+----------------------+------------------+-------------------+-------------------------+ | RHEL8 | PASS | SKIPPED | SKIPPED | PASS | SKIPPED | SKIPPED | +---------------------+--------------------+-------------------+----------------------+------------------+-------------------+-------------------------+ | RHEL9 | PASS | SKIPPED | SKIPPED | PASS | SKIPPED | SKIPPED | +---------------------+--------------------+-------------------+----------------------+------------------+-------------------+-------------------------+ | Ubuntu 20.04 | PASS | SKIPPED | SKIPPED | SKIPPED | SKIPPED | SKIPPED | +---------------------+--------------------+-------------------+----------------------+------------------+-------------------+-------------------------+ | Ubuntu 22.04 | PASS | SKIPPED | SKIPPED | PASS | PASS | SKIPPED | +---------------------+--------------------+-------------------+----------------------+------------------+-------------------+-------------------------+ | Ubuntu 24.04 | PASS | SKIPPED | SKIPPED | PASS | PASS | SKIPPED | +---------------------+--------------------+-------------------+----------------------+------------------+-------------------+-------------------------+ | Alpine | PASS | SKIPPED | SKIPPED | PASS | SKIPPED | SKIPPED | +---------------------+--------------------+-------------------+----------------------+------------------+-------------------+-------------------------+ | Fedora 40 (Clang) | PASS | SKIPPED | SKIPPED | PASS | PASS | SKIPPED | +---------------------+--------------------+-------------------+----------------------+------------------+-------------------+-------------------------+ | Windows Server 2022 | SKIPPED | PASS | PASS | SKIPPED | SKIPPED | PASS | +---------------------+--------------------+-------------------+----------------------+------------------+-------------------+-------------------------+ FreeBSD 14.2 Kernel: 14.2-RELEASE Compiler: clang 18.1.6 CentOS Stream 9 Kernel: Depends on container host Compiler: gcc 11.5.0 20240719 (Red Hat 11.5.0-2) Debian Bullseye Kernel: Depends on container host Compiler: gcc (Debian 10.2.1-6) 10.2.1 20210110 Debian 12 Kernel: Depends on container host Compiler: gcc (Debian 12.2.0-14) 12.2.0 Fedora 40 Kernel: Depends on container host Compiler: gcc 14.2.1 20240912 (Red Hat 14.2.1-3) Fedora 41 (Clang) Kernel: Depends on container host Compiler: clang 19.1.5 (Fedora 19.1.5-1.fc41) Fedora 41 Kernel: Depends on container host Compiler: gcc 14.2.1 20240912 (Red Hat 14.2.1-3) openSUSE Leap 15 Kernel: Depends on container host Compiler: gcc (SUSE Linux) 7.5.0 RHEL8 Kernel: Depends on container host Compiler: gcc 8.5.0 20210514 (Red Hat 8.5.0-22) RHEL9 Kernel: Depends on container host Compiler: gcc 11.5.0 20240719 (Red Hat 11.5.0-2) Ubuntu 20.04 Kernel: Depends on container host Compiler: gcc (Ubuntu 9.4.0-1ubuntu1~20.04.2) 9.4.0 Ubuntu 22.04 Kernel: Depends on container host Compiler: gcc (Ubuntu 11.4.0-1ubuntu1~22.04) 11.4.0 Ubuntu 24.04 Kernel: Depends on container host Compiler: gcc (Ubuntu 13.3.0-6ubuntu2~24.04) 13.3.0 Alpine Kernel: Depends on container host Compiler: gcc (Alpine 14.2.0) 14.2.0 Fedora 40 (Clang) Kernel: Depends on container host Compiler: clang 18.1.8 (Fedora 18.1.8-1.fc40) Windows Server 2022 Kernel: 10.0.20348.2031 Compiler: clang 15.0.7, gcc 14.1.0 (MinGW), and MSVC VS 19.39.33521 To view detailed results, visit: https://lab.dpdk.org/results/dashboard/tarballs/32344/ UNH-IOL DPDK Community Lab To manage your email subscriptions, visit: https://lab.dpdk.org/results/dashboard/preferences/subscriptions/