From mboxrd@z Thu Jan 1 00:00:00 1970 Return-Path: Received: from mails.dpdk.org (mails.dpdk.org [217.70.189.124]) by inbox.dpdk.org (Postfix) with ESMTP id BE53C461A0 for ; Wed, 5 Feb 2025 18:18:51 +0100 (CET) Received: from mails.dpdk.org (localhost [127.0.0.1]) by mails.dpdk.org (Postfix) with ESMTP id BA81F40270; Wed, 5 Feb 2025 18:18:51 +0100 (CET) Received: from mail-pl1-f225.google.com (mail-pl1-f225.google.com [209.85.214.225]) by mails.dpdk.org (Postfix) with ESMTP id 8079C40261 for ; Wed, 5 Feb 2025 18:18:50 +0100 (CET) Received: by mail-pl1-f225.google.com with SMTP id d9443c01a7336-21644aca3a0so912075ad.3 for ; Wed, 05 Feb 2025 09:18:50 -0800 (PST) DKIM-Signature: v=1; a=rsa-sha256; c=relaxed/relaxed; d=iol.unh.edu; s=unh-iol; t=1738775930; x=1739380730; darn=dpdk.org; h=references:in-reply-to:cc:to:from:subject:message-id:date:from:to :cc:subject:date:message-id:reply-to; bh=MtfhnKgX7it3p+ic53Rv/O8ZTbNz9hpDx/3Z2rPPOT0=; b=ac2N/J33FZLhcqSbCu79yQ43zCiLNKwZR/+8gvtKiWeTn1NjgAhYvFWecYj+q/+GbQ XXccWI3hiHPGZIrrnwFgHcRpeHmsnikmVewZaWB1TAi2x+BV+RiSVZamGxBHNGxKGCtt 8LXjGsZ66O/g/ngv46sqDc7Qvo/w4Go/6ViEo= X-Google-DKIM-Signature: v=1; a=rsa-sha256; c=relaxed/relaxed; d=1e100.net; s=20230601; t=1738775930; x=1739380730; h=references:in-reply-to:cc:to:from:subject:message-id:date :x-gm-message-state:from:to:cc:subject:date:message-id:reply-to; bh=MtfhnKgX7it3p+ic53Rv/O8ZTbNz9hpDx/3Z2rPPOT0=; b=F8aQYBwZkfl6URa0k/ev8ZYWNfB1OmhAC7qMjf4oGOBcR/VyngLjO1IKg8L4B7YzBk udbTcaeWeuzu412RW2uqZzhEHy/UM+9Go/zY0J7tZmHOHmWEVDrtjMMQEM+bEMZl4GeA M6NMG6loIGdkFHDIOnNzx7YmBDsTeW2QmJ2076sdDJYVgrXe8zyEGvE6ZunMZfFiavin 0e/fm4ImprIgKVxZ/noAxZ/xhtKQy6mbUJHWHbHKkHXpjidHjzLei+CVQOwoMpzMrgAO 0nh/F22usHmF0CKZXlTjH/XelPSFkluBmg0ZQZyWFj2C1dWAx9x4v0rvi1/FWokIM4F0 rnuw== X-Gm-Message-State: AOJu0YyAEJzoU+AvQDRzlwDZCxJ3WN/syiRp3adI7K36gX2rCU36qTJx bFXSuMIVcA7g0kmdD6qUuwjdrAZFDljHYC1C2b5+TYtdp9xQVUS0Sc6Y8NJWdlThuaVEYwwyWhs rMQeeT90PsLiZeym1jP8l+0zFp0/HKqLflWNujgTx X-Gm-Gg: ASbGnct+8JIzxM69xYP8fSbenudtWeJsnAnP2HhJBRXzAI4H3X1Dgcn9xluE5j6RvMc hjbZoF/szzSkvKKvJxWNlIFBjelKVTQh1H4JYZ7b2TeyrlMLpvZe2cu8A6uMG4OIEt9eJeTecum Mqp88ZP6uHpogoXe+4SIiE5C0Y1qec/DaNolUbBijESDw3sgeIqjydOhLpkO8NkePSfh8Ah0e8K MpI1ImC3vzXRoTEQvaOGAJxBtoOoCJJV6xuKKelhCPwmz4FXeHi2QSMueyP65zBMhJztCb3UOMV EFm1SgU87OssrmAIk75orVUQa+/opw== X-Google-Smtp-Source: AGHT+IGlYd7dTwV6i0OD2sKrXiOWph++xCPmWCg15PqXrT14HqyHIkvjRZeasteDt7WL/esR9J5D1/GirQnc X-Received: by 2002:a05:6a21:400d:b0:1e1:adcd:eae5 with SMTP id adf61e73a8af0-1ede88b2368mr6250227637.42.1738775929710; Wed, 05 Feb 2025 09:18:49 -0800 (PST) Received: from postal.iol.unh.edu (postal.iol.unh.edu. [132.177.123.84]) by smtp-relay.gmail.com with ESMTPS id 41be03b00d2f7-acebe38503bsm801333a12.9.2025.02.05.09.18.49 (version=TLS1_2 cipher=ECDHE-ECDSA-AES128-GCM-SHA256 bits=128/128); Wed, 05 Feb 2025 09:18:49 -0800 (PST) X-Relaying-Domain: iol.unh.edu Date: Wed, 05 Feb 2025 09:18:49 -0800 (PST) Message-ID: <67a39d79.630a0220.16b8db.6983SMTPIN_ADDED_MISSING@mx.google.com> Received: from [172.17.0.4] (unknown [172.18.0.217]) by postal.iol.unh.edu (Postfix) with ESMTP id DA0796052471; Wed, 5 Feb 2025 12:18:48 -0500 (EST) Subject: |SUCCESS| pw150540 [PATCH] [v2] net/virtio: add virtio hash report f From: dpdklab@iol.unh.edu To: Test Report Cc: dpdk-test-reports@iol.unh.edu In-Reply-To: <20250127074150.3499851-1-kshankar@marvell.com> References: <20250127074150.3499851-1-kshankar@marvell.com> Content-Type: text/plain X-BeenThere: test-report@dpdk.org X-Mailman-Version: 2.1.29 Precedence: list List-Id: automatic DPDK test reports List-Unsubscribe: , List-Archive: List-Post: List-Help: List-Subscribe: , Errors-To: test-report-bounces@dpdk.org Test-Label: iol-compile-amd64-testing Test-Status: SUCCESS http://dpdk.org/patch/150540 _Testing PASS_ Submitter: Kommula Shiva Shankar Date: Monday, January 27 2025 07:41:50 DPDK git baseline: Repo:dpdk Branch: master CommitID:d92688baedcfc963b7539899347012a09c45a15b 150540 --> testing pass Test environment and result as below: +---------------------+--------------------+------------------+-------------------+-------------------+----------------------+-------------------------+ | Environment | dpdk_meson_compile | dpdk_compile_ovs | dpdk_compile_spdk | dpdk_msvc_compile | dpdk_mingw64_compile | dpdk_llvm_clang_compile | +=====================+====================+==================+===================+===================+======================+=========================+ | CentOS Stream 9 | PASS | PASS | PASS | SKIPPED | SKIPPED | SKIPPED | +---------------------+--------------------+------------------+-------------------+-------------------+----------------------+-------------------------+ | Debian Bullseye | PASS | PASS | PASS | SKIPPED | SKIPPED | SKIPPED | +---------------------+--------------------+------------------+-------------------+-------------------+----------------------+-------------------------+ | Fedora 40 (Clang) | PASS | PASS | PASS | SKIPPED | SKIPPED | SKIPPED | +---------------------+--------------------+------------------+-------------------+-------------------+----------------------+-------------------------+ | Debian 12 | PASS | PASS | PASS | SKIPPED | SKIPPED | SKIPPED | +---------------------+--------------------+------------------+-------------------+-------------------+----------------------+-------------------------+ | RHEL9 | PASS | PASS | SKIPPED | SKIPPED | SKIPPED | SKIPPED | +---------------------+--------------------+------------------+-------------------+-------------------+----------------------+-------------------------+ | Fedora 41 (Clang) | PASS | PASS | PASS | SKIPPED | SKIPPED | SKIPPED | +---------------------+--------------------+------------------+-------------------+-------------------+----------------------+-------------------------+ | Fedora 41 | PASS | PASS | PASS | SKIPPED | SKIPPED | SKIPPED | +---------------------+--------------------+------------------+-------------------+-------------------+----------------------+-------------------------+ | openSUSE Leap 15 | PASS | SKIPPED | SKIPPED | SKIPPED | SKIPPED | SKIPPED | +---------------------+--------------------+------------------+-------------------+-------------------+----------------------+-------------------------+ | Fedora 40 | PASS | PASS | PASS | SKIPPED | SKIPPED | SKIPPED | +---------------------+--------------------+------------------+-------------------+-------------------+----------------------+-------------------------+ | RHEL8 | PASS | PASS | SKIPPED | SKIPPED | SKIPPED | SKIPPED | +---------------------+--------------------+------------------+-------------------+-------------------+----------------------+-------------------------+ | Ubuntu 24.04 | PASS | PASS | PASS | SKIPPED | SKIPPED | SKIPPED | +---------------------+--------------------+------------------+-------------------+-------------------+----------------------+-------------------------+ | Ubuntu 20.04 | PASS | SKIPPED | SKIPPED | SKIPPED | SKIPPED | SKIPPED | +---------------------+--------------------+------------------+-------------------+-------------------+----------------------+-------------------------+ | Alpine | PASS | PASS | SKIPPED | SKIPPED | SKIPPED | SKIPPED | +---------------------+--------------------+------------------+-------------------+-------------------+----------------------+-------------------------+ | Ubuntu 22.04 | PASS | PASS | PASS | SKIPPED | SKIPPED | SKIPPED | +---------------------+--------------------+------------------+-------------------+-------------------+----------------------+-------------------------+ | FreeBSD 13.4 | PASS | SKIPPED | SKIPPED | SKIPPED | SKIPPED | SKIPPED | +---------------------+--------------------+------------------+-------------------+-------------------+----------------------+-------------------------+ | FreeBSD 14.2 | PASS | SKIPPED | SKIPPED | SKIPPED | SKIPPED | SKIPPED | +---------------------+--------------------+------------------+-------------------+-------------------+----------------------+-------------------------+ | Windows Server 2022 | SKIPPED | SKIPPED | SKIPPED | PASS | PASS | PASS | +---------------------+--------------------+------------------+-------------------+-------------------+----------------------+-------------------------+ CentOS Stream 9 Kernel: Depends on container host Compiler: gcc 11.5.0 20240719 (Red Hat 11.5.0-2) Debian Bullseye Kernel: Depends on container host Compiler: gcc (Debian 10.2.1-6) 10.2.1 20210110 Fedora 40 (Clang) Kernel: Depends on container host Compiler: clang 18.1.8 (Fedora 18.1.8-1.fc40) Debian 12 Kernel: Depends on container host Compiler: gcc (Debian 12.2.0-14) 12.2.0 RHEL9 Kernel: Depends on container host Compiler: gcc 11.5.0 20240719 (Red Hat 11.5.0-2) Fedora 41 (Clang) Kernel: Depends on container host Compiler: clang 19.1.5 (Fedora 19.1.5-1.fc41) Fedora 41 Kernel: Depends on container host Compiler: gcc 14.2.1 20240912 (Red Hat 14.2.1-3) openSUSE Leap 15 Kernel: Depends on container host Compiler: gcc (SUSE Linux) 7.5.0 Fedora 40 Kernel: Depends on container host Compiler: gcc 14.2.1 20240912 (Red Hat 14.2.1-3) RHEL8 Kernel: Depends on container host Compiler: gcc 8.5.0 20210514 (Red Hat 8.5.0-22) Ubuntu 24.04 Kernel: Depends on container host Compiler: gcc (Ubuntu 13.3.0-6ubuntu2~24.04) 13.3.0 Ubuntu 20.04 Kernel: Depends on container host Compiler: gcc (Ubuntu 9.4.0-1ubuntu1~20.04.2) 9.4.0 Alpine Kernel: Depends on container host Compiler: gcc (Alpine 14.2.0) 14.2.0 Ubuntu 22.04 Kernel: Depends on container host Compiler: gcc (Ubuntu 11.4.0-1ubuntu1~22.04) 11.4.0 FreeBSD 13.4 Kernel: 13.4-RELEASE-p1 Compiler: clang 18.1.6 FreeBSD 14.2 Kernel: 14.2-RELEASE Compiler: clang 18.1.6 Windows Server 2022 Kernel: 10.0.20348.2031 Compiler: clang 15.0.7, gcc 14.1.0 (MinGW), and MSVC VS 19.39.33521 To view detailed results, visit: https://lab.dpdk.org/results/dashboard/patchsets/32430/ UNH-IOL DPDK Community Lab To manage your email subscriptions, visit: https://lab.dpdk.org/results/dashboard/preferences/subscriptions/