From mboxrd@z Thu Jan 1 00:00:00 1970 Return-Path: Received: from mails.dpdk.org (mails.dpdk.org [217.70.189.124]) by inbox.dpdk.org (Postfix) with ESMTP id 012FF461A0 for ; Wed, 5 Feb 2025 18:19:08 +0100 (CET) Received: from mails.dpdk.org (localhost [127.0.0.1]) by mails.dpdk.org (Postfix) with ESMTP id E97DD40270; Wed, 5 Feb 2025 18:19:07 +0100 (CET) Received: from mail-pj1-f100.google.com (mail-pj1-f100.google.com [209.85.216.100]) by mails.dpdk.org (Postfix) with ESMTP id A781C40261 for ; Wed, 5 Feb 2025 18:19:06 +0100 (CET) Received: by mail-pj1-f100.google.com with SMTP id 98e67ed59e1d1-2f9d5f8a4b9so2629668a91.0 for ; Wed, 05 Feb 2025 09:19:06 -0800 (PST) DKIM-Signature: v=1; a=rsa-sha256; c=relaxed/relaxed; d=iol.unh.edu; s=unh-iol; t=1738775946; x=1739380746; darn=dpdk.org; h=references:in-reply-to:cc:to:from:subject:message-id:date:from:to :cc:subject:date:message-id:reply-to; bh=vj/6bqRnNhGXKqLkaVvLxLVZaVW0KU+sByZBn2hWBaQ=; b=HcRaH2NN0RtZ+0WDDrzkYf41vuDh+pvxfGr6vAzmh1iIt2TaU663igGbrjPU8E2HKa ACT7NXtPKX5GtebRYqKtzTce4S/K39eCfYcMvzE0E+BmAJVTjPsyuhdbt3Z8IeUNxh+t WMxcuzMQQR36Iro4Dc9V/x3VgWeIz6wweDPp0= X-Google-DKIM-Signature: v=1; a=rsa-sha256; c=relaxed/relaxed; d=1e100.net; s=20230601; t=1738775946; x=1739380746; h=references:in-reply-to:cc:to:from:subject:message-id:date :x-gm-message-state:from:to:cc:subject:date:message-id:reply-to; bh=vj/6bqRnNhGXKqLkaVvLxLVZaVW0KU+sByZBn2hWBaQ=; b=ceD2jLw62oPhL93DOqb8OlKIyoH9PGU+wswdIg+vtnoUbAvRqMGuIyI7tN8R6YfrPt JcGG6BfF/zTxFdmX0XuFxFI7XUhXYEiDmCvpUFN27qoCed67pOh5X0lzOoNMD0mtxU3R SU7sYqXACDoWAUm7rS5+afUAqnA2jVGPrJa7yC/i0px+vyWMJJ6DHgF0ygSGZ2RftT4B UjnsjpgDIzDZzvuD1fbc4M33oPDx6TiBG4QKbO/P2xkpdl56r1hoP4vj6yg7K57g218j v58dlO+uJOAKjMcahKF9iqoGJE2AeD6Om9KIm8Vu7YAIzODZ5vQjqyKsttvn4cT7SUbq nCdw== X-Gm-Message-State: AOJu0YyL+NIkbkO16s8Rg1PorQFljtHJy2lk1DSfRh11yZ2SMsWiDyIw PMglbnPbDBT7P967wtX57d6wmRDNHlzwgLtLFq4V5TDK4enVU6ZOnllOiw2XEaJwuItJxM0ZE98 SAFOuH0zbGIzdDakIU0+VJsEmrk1ZpWE9AHFMr2Vk X-Gm-Gg: ASbGncv/rHEj5UPA35CEkQwSeoFFo4J9EpNL3S1Q8aLeBAsJmakiNzUFFQ0uPr2Hytg GlUCJyyIA7H2wC8JUo1NwxhKsuqpko4e7QJZrqZUjF5mwP/pmPGnMQOTqhMLRPtMDeJLouSTmhE 3opI2OO+W2+NUPxEFeWZ1wK++vX5vQFPPrkEgJU79xduREdO+JRvCeD7C69ohpJkpSpaddoSMzU ni2GUVoWMGmxNfusVtBlQh3HeZ9dQ3qykzddEW73Cyay0xBXQUcOSFy64Rlgg5kG5EopAOEoGoi fTNEJzZTsvBFHwVtQynIGzXm1cJqXA== X-Google-Smtp-Source: AGHT+IGVZsBAM9D3e/MRnWFMngeHZs6fO1uAadeHXC4EOCRbJG1VhV9IPQYZieAfI6dTmjDlgmwoMU+kK2CJ X-Received: by 2002:a17:90b:1d46:b0:2f9:cf97:56ac with SMTP id 98e67ed59e1d1-2f9e069c5admr7173080a91.0.1738775945793; Wed, 05 Feb 2025 09:19:05 -0800 (PST) Received: from postal.iol.unh.edu (postal.iol.unh.edu. [132.177.123.84]) by smtp-relay.gmail.com with ESMTPS id d9443c01a7336-21f04465df7sm2204225ad.50.2025.02.05.09.19.05 (version=TLS1_2 cipher=ECDHE-ECDSA-AES128-GCM-SHA256 bits=128/128); Wed, 05 Feb 2025 09:19:05 -0800 (PST) X-Relaying-Domain: iol.unh.edu Date: Wed, 05 Feb 2025 09:19:05 -0800 (PST) Message-ID: <67a39d89.170a0220.e4222.a608SMTPIN_ADDED_MISSING@mx.google.com> Received: from [172.21.0.12] (unknown [172.18.0.240]) by postal.iol.unh.edu (Postfix) with ESMTP id D7AF96052471; Wed, 5 Feb 2025 12:19:04 -0500 (EST) Subject: |SUCCESS| pw150507-150521 [PATCH] [v5,16/16] doc: add release note a From: dpdklab@iol.unh.edu To: Test Report Cc: dpdk-test-reports@iol.unh.edu In-Reply-To: <20250125021305.76485-17-stephen@networkplumber.org> References: <20250125021305.76485-17-stephen@networkplumber.org> Content-Type: text/plain X-BeenThere: test-report@dpdk.org X-Mailman-Version: 2.1.29 Precedence: list List-Id: automatic DPDK test reports List-Unsubscribe: , List-Archive: List-Post: List-Help: List-Subscribe: , Errors-To: test-report-bounces@dpdk.org Test-Label: iol-compile-amd64-testing Test-Status: SUCCESS http://dpdk.org/patch/150521 _Testing PASS_ Submitter: Stephen Hemminger Date: Saturday, January 25 2025 02:11:29 DPDK git baseline: Repo:dpdk Branch: master CommitID:5b856206c74bbcf19e12cafa15382a7e15b0a1b5 150507-150521 --> testing pass Test environment and result as below: +---------------------+-------------------+--------------------+----------------------+------------------+-------------------+-------------------------+ | Environment | dpdk_msvc_compile | dpdk_meson_compile | dpdk_mingw64_compile | dpdk_compile_ovs | dpdk_compile_spdk | dpdk_llvm_clang_compile | +=====================+===================+====================+======================+==================+===================+=========================+ | Windows Server 2022 | PASS | SKIPPED | PASS | SKIPPED | SKIPPED | PASS | +---------------------+-------------------+--------------------+----------------------+------------------+-------------------+-------------------------+ | FreeBSD 13.4 | SKIPPED | PASS | SKIPPED | SKIPPED | SKIPPED | SKIPPED | +---------------------+-------------------+--------------------+----------------------+------------------+-------------------+-------------------------+ | FreeBSD 14.2 | SKIPPED | PASS | SKIPPED | SKIPPED | SKIPPED | SKIPPED | +---------------------+-------------------+--------------------+----------------------+------------------+-------------------+-------------------------+ | CentOS Stream 9 | SKIPPED | PASS | SKIPPED | PASS | PASS | SKIPPED | +---------------------+-------------------+--------------------+----------------------+------------------+-------------------+-------------------------+ | Debian Bullseye | SKIPPED | PASS | SKIPPED | PASS | PASS | SKIPPED | +---------------------+-------------------+--------------------+----------------------+------------------+-------------------+-------------------------+ | Debian 12 | SKIPPED | PASS | SKIPPED | PASS | PASS | SKIPPED | +---------------------+-------------------+--------------------+----------------------+------------------+-------------------+-------------------------+ | Fedora 40 (Clang) | SKIPPED | PASS | SKIPPED | PASS | PASS | SKIPPED | +---------------------+-------------------+--------------------+----------------------+------------------+-------------------+-------------------------+ | Fedora 40 | SKIPPED | PASS | SKIPPED | PASS | PASS | SKIPPED | +---------------------+-------------------+--------------------+----------------------+------------------+-------------------+-------------------------+ | Fedora 41 (Clang) | SKIPPED | PASS | SKIPPED | PASS | PASS | SKIPPED | +---------------------+-------------------+--------------------+----------------------+------------------+-------------------+-------------------------+ | Fedora 41 | SKIPPED | PASS | SKIPPED | PASS | PASS | SKIPPED | +---------------------+-------------------+--------------------+----------------------+------------------+-------------------+-------------------------+ | openSUSE Leap 15 | SKIPPED | PASS | SKIPPED | SKIPPED | SKIPPED | SKIPPED | +---------------------+-------------------+--------------------+----------------------+------------------+-------------------+-------------------------+ | RHEL8 | SKIPPED | PASS | SKIPPED | PASS | SKIPPED | SKIPPED | +---------------------+-------------------+--------------------+----------------------+------------------+-------------------+-------------------------+ | RHEL9 | SKIPPED | PASS | SKIPPED | PASS | SKIPPED | SKIPPED | +---------------------+-------------------+--------------------+----------------------+------------------+-------------------+-------------------------+ | Ubuntu 20.04 | SKIPPED | PASS | SKIPPED | SKIPPED | SKIPPED | SKIPPED | +---------------------+-------------------+--------------------+----------------------+------------------+-------------------+-------------------------+ | Ubuntu 22.04 | SKIPPED | PASS | SKIPPED | PASS | PASS | SKIPPED | +---------------------+-------------------+--------------------+----------------------+------------------+-------------------+-------------------------+ | Ubuntu 24.04 | SKIPPED | PASS | SKIPPED | PASS | PASS | SKIPPED | +---------------------+-------------------+--------------------+----------------------+------------------+-------------------+-------------------------+ | Alpine | SKIPPED | PASS | SKIPPED | PASS | SKIPPED | SKIPPED | +---------------------+-------------------+--------------------+----------------------+------------------+-------------------+-------------------------+ Windows Server 2022 Kernel: 10.0.20348.2031 Compiler: clang 15.0.7, gcc 14.1.0 (MinGW), and MSVC VS 19.39.33521 FreeBSD 13.4 Kernel: 13.4-RELEASE-p1 Compiler: clang 18.1.6 FreeBSD 14.2 Kernel: 14.2-RELEASE Compiler: clang 18.1.6 CentOS Stream 9 Kernel: Depends on container host Compiler: gcc 11.5.0 20240719 (Red Hat 11.5.0-2) Debian Bullseye Kernel: Depends on container host Compiler: gcc (Debian 10.2.1-6) 10.2.1 20210110 Debian 12 Kernel: Depends on container host Compiler: gcc (Debian 12.2.0-14) 12.2.0 Fedora 40 (Clang) Kernel: Depends on container host Compiler: clang 18.1.8 (Fedora 18.1.8-1.fc40) Fedora 40 Kernel: Depends on container host Compiler: gcc 14.2.1 20240912 (Red Hat 14.2.1-3) Fedora 41 (Clang) Kernel: Depends on container host Compiler: clang 19.1.5 (Fedora 19.1.5-1.fc41) Fedora 41 Kernel: Depends on container host Compiler: gcc 14.2.1 20240912 (Red Hat 14.2.1-3) openSUSE Leap 15 Kernel: Depends on container host Compiler: gcc (SUSE Linux) 7.5.0 RHEL8 Kernel: Depends on container host Compiler: gcc 8.5.0 20210514 (Red Hat 8.5.0-22) RHEL9 Kernel: Depends on container host Compiler: gcc 11.5.0 20240719 (Red Hat 11.5.0-2) Ubuntu 20.04 Kernel: Depends on container host Compiler: gcc (Ubuntu 9.4.0-1ubuntu1~20.04.2) 9.4.0 Ubuntu 22.04 Kernel: Depends on container host Compiler: gcc (Ubuntu 11.4.0-1ubuntu1~22.04) 11.4.0 Ubuntu 24.04 Kernel: Depends on container host Compiler: gcc (Ubuntu 13.3.0-6ubuntu2~24.04) 13.3.0 Alpine Kernel: Depends on container host Compiler: gcc (Alpine 14.2.0) 14.2.0 To view detailed results, visit: https://lab.dpdk.org/results/dashboard/patchsets/32426/ UNH-IOL DPDK Community Lab To manage your email subscriptions, visit: https://lab.dpdk.org/results/dashboard/preferences/subscriptions/