From mboxrd@z Thu Jan 1 00:00:00 1970 Return-Path: Received: from mails.dpdk.org (mails.dpdk.org [217.70.189.124]) by inbox.dpdk.org (Postfix) with ESMTP id 2F019461A0 for ; Wed, 5 Feb 2025 18:19:32 +0100 (CET) Received: from mails.dpdk.org (localhost [127.0.0.1]) by mails.dpdk.org (Postfix) with ESMTP id 2BCB440270; Wed, 5 Feb 2025 18:19:32 +0100 (CET) Received: from mail-qv1-f97.google.com (mail-qv1-f97.google.com [209.85.219.97]) by mails.dpdk.org (Postfix) with ESMTP id AADCD40261 for ; Wed, 5 Feb 2025 18:19:30 +0100 (CET) Received: by mail-qv1-f97.google.com with SMTP id 6a1803df08f44-6d8e8445219so224086d6.0 for ; Wed, 05 Feb 2025 09:19:30 -0800 (PST) DKIM-Signature: v=1; a=rsa-sha256; c=relaxed/relaxed; d=iol.unh.edu; s=unh-iol; t=1738775970; x=1739380770; darn=dpdk.org; h=references:in-reply-to:cc:to:from:subject:message-id:date:from:to :cc:subject:date:message-id:reply-to; bh=yEUiAjFZqtgN89/qWme9OaSuKvQsZRxTJLWsg8KKQPI=; b=D9pjUFVbaeD6fXnSzq33GmyDb4WtN0Wl1wcGfULrvIVsfdY7LMyezxjN8sM2NKK0UA 8WjEua9IpX5x9/z1vW1IDK+1AoSUmwwXTUucOyUFRaARGvvf6s07zEX9FYLFpiMvI3F3 7i1nnEtAOxQbP020hDl/SWjKKaHBw6J2xdR/w= X-Google-DKIM-Signature: v=1; a=rsa-sha256; c=relaxed/relaxed; d=1e100.net; s=20230601; t=1738775970; x=1739380770; h=references:in-reply-to:cc:to:from:subject:message-id:date :x-gm-message-state:from:to:cc:subject:date:message-id:reply-to; bh=yEUiAjFZqtgN89/qWme9OaSuKvQsZRxTJLWsg8KKQPI=; b=kJGkCbFMhEYaqR/dTGRFhKI3mFmxvm5Lp+ZUqnH5u9rdsd8vHUWe0oCD897RwducwA UG4eaEqM7GNVR/31evpFhp6PhbGmm7OjBAiftkZ6lJxt2U79OQa3nFty30p+YGSJmgTu xANEVPuhOA33BlVumgfng2uf3ZZIqNMV6mNPbyGxXMKu/aiBBlxpmmQLK9zpQhq8SVM/ a7BW/xIP6Xuqz/TdCeU1jao+d4/bO091GDdTLTmtWHM8wkq2ydjQGkLZ4ttEEeBjWpJ0 Kjm30xRHgf9RQqxhRRQb1AmSigMMEU3PtxidUqIdJzfWWVxvNZ5jXVAHbGrkbrtTv7hh WHCQ== X-Gm-Message-State: AOJu0Yymfw0CQPSqBr/3NfRaXnYibjLy9+X10gECSVhyE0aD0dncN8Nm NNDg/472DAMq6beG+LTl8ECCyrdD/p3rM10PE9atMPlyE7LVIZ19+z3ZSKFqH6Sjl6TjgJCi2oC /uL5RMPQQ2mdePxJO8aIksg6+19ZSNxL9KqtJTlux X-Gm-Gg: ASbGncvNI0BsDORgMgzMQNltUrbWNdcNBx8GlS8Rv/iHuWDS4MDTBEcqCPkeuwc0b2o zaprYh1kuPR4Y28A7FicXsO9Wid4kKeTlUYHGzRK/Ga1Ix/9APruo0rM1yuyIW70yqNAuaTZdFT Gmjp/aSmzKfWqrqIgS6r22JWvb7MjZnXNvwHDIXQfh2lSwNlG9nbVnZbY0CHPStDx74lfyH+jGt sHfwibCewLVM8LHJod715X/Xem5yIBz6I6dR8fFmAdpnxVsb1nF6U+EdJafT5UKzjV3LTf1YQ6n hPfun0NLe0wNYoclyl8rcPNDlef0MA== X-Google-Smtp-Source: AGHT+IGVa//S3qrVWugNUwAd2h4yh1kUp6Vx84JSNe8LTKXQW3/UD4mdMUr0C2WPnWArZ5RQ4bl9GI3QHT8O X-Received: by 2002:a05:6214:e69:b0:6d8:8a7b:66a4 with SMTP id 6a1803df08f44-6e42fb891d9mr44876526d6.14.1738775970115; Wed, 05 Feb 2025 09:19:30 -0800 (PST) Received: from postal.iol.unh.edu (postal.iol.unh.edu. [132.177.123.84]) by smtp-relay.gmail.com with ESMTPS id 6a1803df08f44-6e42fb9472asm1658526d6.31.2025.02.05.09.19.30 (version=TLS1_2 cipher=ECDHE-ECDSA-AES128-GCM-SHA256 bits=128/128); Wed, 05 Feb 2025 09:19:30 -0800 (PST) X-Relaying-Domain: iol.unh.edu Date: Wed, 05 Feb 2025 09:19:30 -0800 (PST) Message-ID: <67a39da2.0c0a0220.1fd248.75ffSMTPIN_ADDED_MISSING@mx.google.com> Received: from [172.21.0.8] (unknown [172.18.0.240]) by postal.iol.unh.edu (Postfix) with ESMTP id CE7C86052471; Wed, 5 Feb 2025 12:19:29 -0500 (EST) Subject: |SUCCESS| pw150483 [PATCH] buildtools/check-git-log: print expected From: dpdklab@iol.unh.edu To: Test Report Cc: dpdk-test-reports@iol.unh.edu In-Reply-To: <20250124172434.1422621-1-bruce.richardson@intel.com> References: <20250124172434.1422621-1-bruce.richardson@intel.com> Content-Type: text/plain X-BeenThere: test-report@dpdk.org X-Mailman-Version: 2.1.29 Precedence: list List-Id: automatic DPDK test reports List-Unsubscribe: , List-Archive: List-Post: List-Help: List-Subscribe: , Errors-To: test-report-bounces@dpdk.org Test-Label: iol-compile-amd64-testing Test-Status: SUCCESS http://dpdk.org/patch/150483 _Testing PASS_ Submitter: Bruce Richardson Date: Friday, January 24 2025 17:24:34 DPDK git baseline: Repo:dpdk Branch: master CommitID:5b856206c74bbcf19e12cafa15382a7e15b0a1b5 150483 --> testing pass Test environment and result as below: +---------------------+--------------------+-------------------+------------------+-------------------+----------------------+-------------------------+ | Environment | dpdk_meson_compile | dpdk_msvc_compile | dpdk_compile_ovs | dpdk_compile_spdk | dpdk_mingw64_compile | dpdk_llvm_clang_compile | +=====================+====================+===================+==================+===================+======================+=========================+ | FreeBSD 13.4 | PASS | SKIPPED | SKIPPED | SKIPPED | SKIPPED | SKIPPED | +---------------------+--------------------+-------------------+------------------+-------------------+----------------------+-------------------------+ | FreeBSD 14.2 | PASS | SKIPPED | SKIPPED | SKIPPED | SKIPPED | SKIPPED | +---------------------+--------------------+-------------------+------------------+-------------------+----------------------+-------------------------+ | CentOS Stream 9 | PASS | SKIPPED | PASS | PASS | SKIPPED | SKIPPED | +---------------------+--------------------+-------------------+------------------+-------------------+----------------------+-------------------------+ | Debian Bullseye | PASS | SKIPPED | PASS | PASS | SKIPPED | SKIPPED | +---------------------+--------------------+-------------------+------------------+-------------------+----------------------+-------------------------+ | Debian 12 | PASS | SKIPPED | PASS | PASS | SKIPPED | SKIPPED | +---------------------+--------------------+-------------------+------------------+-------------------+----------------------+-------------------------+ | Fedora 40 (Clang) | PASS | SKIPPED | PASS | PASS | SKIPPED | SKIPPED | +---------------------+--------------------+-------------------+------------------+-------------------+----------------------+-------------------------+ | Fedora 40 | PASS | SKIPPED | PASS | PASS | SKIPPED | SKIPPED | +---------------------+--------------------+-------------------+------------------+-------------------+----------------------+-------------------------+ | Fedora 41 (Clang) | PASS | SKIPPED | PASS | PASS | SKIPPED | SKIPPED | +---------------------+--------------------+-------------------+------------------+-------------------+----------------------+-------------------------+ | Fedora 41 | PASS | SKIPPED | PASS | PASS | SKIPPED | SKIPPED | +---------------------+--------------------+-------------------+------------------+-------------------+----------------------+-------------------------+ | openSUSE Leap 15 | PASS | SKIPPED | SKIPPED | SKIPPED | SKIPPED | SKIPPED | +---------------------+--------------------+-------------------+------------------+-------------------+----------------------+-------------------------+ | RHEL8 | PASS | SKIPPED | PASS | SKIPPED | SKIPPED | SKIPPED | +---------------------+--------------------+-------------------+------------------+-------------------+----------------------+-------------------------+ | RHEL9 | PASS | SKIPPED | PASS | SKIPPED | SKIPPED | SKIPPED | +---------------------+--------------------+-------------------+------------------+-------------------+----------------------+-------------------------+ | Ubuntu 22.04 | PASS | SKIPPED | PASS | PASS | SKIPPED | SKIPPED | +---------------------+--------------------+-------------------+------------------+-------------------+----------------------+-------------------------+ | Ubuntu 24.04 | PASS | SKIPPED | PASS | PASS | SKIPPED | SKIPPED | +---------------------+--------------------+-------------------+------------------+-------------------+----------------------+-------------------------+ | Alpine | PASS | SKIPPED | PASS | SKIPPED | SKIPPED | SKIPPED | +---------------------+--------------------+-------------------+------------------+-------------------+----------------------+-------------------------+ | Ubuntu 20.04 | PASS | SKIPPED | SKIPPED | SKIPPED | SKIPPED | SKIPPED | +---------------------+--------------------+-------------------+------------------+-------------------+----------------------+-------------------------+ | Windows Server 2022 | SKIPPED | PASS | SKIPPED | SKIPPED | PASS | PASS | +---------------------+--------------------+-------------------+------------------+-------------------+----------------------+-------------------------+ FreeBSD 13.4 Kernel: 13.4-RELEASE-p1 Compiler: clang 18.1.6 FreeBSD 14.2 Kernel: 14.2-RELEASE Compiler: clang 18.1.6 CentOS Stream 9 Kernel: Depends on container host Compiler: gcc 11.5.0 20240719 (Red Hat 11.5.0-2) Debian Bullseye Kernel: Depends on container host Compiler: gcc (Debian 10.2.1-6) 10.2.1 20210110 Debian 12 Kernel: Depends on container host Compiler: gcc (Debian 12.2.0-14) 12.2.0 Fedora 40 (Clang) Kernel: Depends on container host Compiler: clang 18.1.8 (Fedora 18.1.8-1.fc40) Fedora 40 Kernel: Depends on container host Compiler: gcc 14.2.1 20240912 (Red Hat 14.2.1-3) Fedora 41 (Clang) Kernel: Depends on container host Compiler: clang 19.1.5 (Fedora 19.1.5-1.fc41) Fedora 41 Kernel: Depends on container host Compiler: gcc 14.2.1 20240912 (Red Hat 14.2.1-3) openSUSE Leap 15 Kernel: Depends on container host Compiler: gcc (SUSE Linux) 7.5.0 RHEL8 Kernel: Depends on container host Compiler: gcc 8.5.0 20210514 (Red Hat 8.5.0-22) RHEL9 Kernel: Depends on container host Compiler: gcc 11.5.0 20240719 (Red Hat 11.5.0-2) Ubuntu 22.04 Kernel: Depends on container host Compiler: gcc (Ubuntu 11.4.0-1ubuntu1~22.04) 11.4.0 Ubuntu 24.04 Kernel: Depends on container host Compiler: gcc (Ubuntu 13.3.0-6ubuntu2~24.04) 13.3.0 Alpine Kernel: Depends on container host Compiler: gcc (Alpine 14.2.0) 14.2.0 Ubuntu 20.04 Kernel: Depends on container host Compiler: gcc (Ubuntu 9.4.0-1ubuntu1~20.04.2) 9.4.0 Windows Server 2022 Kernel: 10.0.20348.2031 Compiler: clang 15.0.7, gcc 14.1.0 (MinGW), and MSVC VS 19.39.33521 To view detailed results, visit: https://lab.dpdk.org/results/dashboard/patchsets/32418/ UNH-IOL DPDK Community Lab To manage your email subscriptions, visit: https://lab.dpdk.org/results/dashboard/preferences/subscriptions/