From mboxrd@z Thu Jan  1 00:00:00 1970
Return-Path: <test-report-bounces@dpdk.org>
Received: from mails.dpdk.org (mails.dpdk.org [217.70.189.124])
	by inbox.dpdk.org (Postfix) with ESMTP id 6EFD8461A0
	for <public@inbox.dpdk.org>; Wed,  5 Feb 2025 18:20:02 +0100 (CET)
Received: from mails.dpdk.org (localhost [127.0.0.1])
	by mails.dpdk.org (Postfix) with ESMTP id 6C83F40270;
	Wed,  5 Feb 2025 18:20:02 +0100 (CET)
Received: from mail-il1-f226.google.com (mail-il1-f226.google.com
 [209.85.166.226])
 by mails.dpdk.org (Postfix) with ESMTP id D026040261
 for <test-report@dpdk.org>; Wed,  5 Feb 2025 18:20:00 +0100 (CET)
Received: by mail-il1-f226.google.com with SMTP id
 e9e14a558f8ab-3cf8e017abcso21941725ab.1
 for <test-report@dpdk.org>; Wed, 05 Feb 2025 09:20:00 -0800 (PST)
DKIM-Signature: v=1; a=rsa-sha256; c=relaxed/relaxed;
 d=iol.unh.edu; s=unh-iol; t=1738776000; x=1739380800; darn=dpdk.org;
 h=references:in-reply-to:cc:to:from:subject:message-id:date:from:to
 :cc:subject:date:message-id:reply-to;
 bh=c2b2RWE0lxkqTcIdaaojmPwJQj+h1GK6ZLF7kZfWiFY=;
 b=MSkpCz/hgVQh4Ce1lBDhNsRvboMYHW2bCeJdkizaFft0ZYaf5b+erljhRsGlHeAOyE
 FBcZTeragfd0G5rZ7K4gVi9WQJRvA9eDGCHhR8CKecd1Q1z8Aq9pylDVM+bxY9DjLkMG
 U/chc/11tcp7feQNBk/GqBclSeB9kHIemmKCM=
X-Google-DKIM-Signature: v=1; a=rsa-sha256; c=relaxed/relaxed;
 d=1e100.net; s=20230601; t=1738776000; x=1739380800;
 h=references:in-reply-to:cc:to:from:subject:message-id:date
 :x-gm-message-state:from:to:cc:subject:date:message-id:reply-to;
 bh=c2b2RWE0lxkqTcIdaaojmPwJQj+h1GK6ZLF7kZfWiFY=;
 b=bgrgmsnsSkqSEZ3272gLdfunT/FYQb3Jd/oCOqQzeiSMFA6lID05n49U/BYgz6mOoL
 i8biqBg9j7wr4x74YFTne1uVLSBSdQaA3D/+c6YZbIY0o5Gi8UlMEHWDfz8HgdRe61mO
 IC5qW1lcU3PCdTBLqmmTt8jRBkv3Kb7RC+PRjS5hIydV9BJ1HEfXJzZk3Kg9+jY+C6+L
 Y9akR9FuK+URUOSUahri+r+L/PYDRjrda0K3qg8zxgAzjtjhHyBDFbcrTNCvRHkgZ6SS
 BsD8tq0IR3W+7oeVESyZ7WbM8sQMzOuRn19NykJwoSRBNyf7teZx34vWBIaWVJqghO/h
 rjqg==
X-Gm-Message-State: AOJu0YxRf53bSdJbzYl8vN1NNUFW8j+SovdyE9jvdmwvSaBMY08LC8aM
 6vv6EOCBTrZa/mIvyKp9TU6gk9f9Zw4RmDNabhvV65/As00OjurDuBfXFM6yvoaWDlze0LcviQH
 GN/zR/kLdlSDsoy1/ELhquJzhA4eyMtSTPTyDz+n/
X-Gm-Gg: ASbGnctcb9vXUpx1jy1y+AsQB9m5Hr9URiTDIZZqsPh3EokcsH1WffAVpZj8FPcuN10
 p8KdVqhpC5aKpVZDLBSXOEmPmeKM7x7PZNemV57k4APaOIXzGyU8oUV1yPhzcrztATBDKo6R1Lw
 FpXtdb0aoyiwrwUQDBecrBPXm04BRJiFar/4bMhBCwfuXpq4ky6+UXpSRp5cmcFh0Kdv4H8h47a
 YPQ9cnPd2xPTuvrCcQkGrB3Wfa0cS9Vt+TgbFkWHSrX0r2YWS8TsKe195gVWig7XV4bh8Wth1aH
 czawfuQ6YaF3Ht1XEh8h3hihnKE9aA==
X-Google-Smtp-Source: AGHT+IFZiP4lqmlRgkwtxPn/tWmE1yMmAsbGMoKZPx2WCXGD7KSqEmBNZczshyhTQWbLCCrKlJ3ICc3fWi+o
X-Received: by 2002:a05:6e02:310d:b0:3d0:1ee6:731b with SMTP id
 e9e14a558f8ab-3d04f901f42mr36484395ab.15.1738776000190; 
 Wed, 05 Feb 2025 09:20:00 -0800 (PST)
Received: from postal.iol.unh.edu (postal.iol.unh.edu. [132.177.123.84])
 by smtp-relay.gmail.com with ESMTPS id
 8926c6da1cb9f-4ec746c0eccsm814163173.71.2025.02.05.09.20.00
 (version=TLS1_2 cipher=ECDHE-ECDSA-AES128-GCM-SHA256 bits=128/128);
 Wed, 05 Feb 2025 09:20:00 -0800 (PST)
X-Relaying-Domain: iol.unh.edu
Date: Wed, 05 Feb 2025 09:20:00 -0800 (PST)
Message-ID: <67a39dc0.050a0220.2e8b0d.5edaSMTPIN_ADDED_MISSING@mx.google.com>
Received: from [172.21.0.16] (unknown [172.18.0.240])
 by postal.iol.unh.edu (Postfix) with ESMTP id B26FF6052471;
 Wed,  5 Feb 2025 12:19:59 -0500 (EST)
Subject: |SUCCESS| pw150458-150482 [PATCH] [v6,25/25] net/intel: extract comm
From: dpdklab@iol.unh.edu
To: Test Report <test-report@dpdk.org>
Cc: dpdk-test-reports@iol.unh.edu
In-Reply-To: <20250124162921.1406103-26-bruce.richardson@intel.com>
References: <20250124162921.1406103-26-bruce.richardson@intel.com>
Content-Type: text/plain
X-BeenThere: test-report@dpdk.org
X-Mailman-Version: 2.1.29
Precedence: list
List-Id: automatic DPDK test reports <test-report.dpdk.org>
List-Unsubscribe: <https://mails.dpdk.org/options/test-report>,
 <mailto:test-report-request@dpdk.org?subject=unsubscribe>
List-Archive: <http://mails.dpdk.org/archives/test-report/>
List-Post: <mailto:test-report@dpdk.org>
List-Help: <mailto:test-report-request@dpdk.org?subject=help>
List-Subscribe: <https://mails.dpdk.org/listinfo/test-report>,
 <mailto:test-report-request@dpdk.org?subject=subscribe>
Errors-To: test-report-bounces@dpdk.org

Test-Label: iol-compile-amd64-testing
Test-Status: SUCCESS
http://dpdk.org/patch/150482

_Testing PASS_

Submitter: Bruce Richardson <bruce.richardson@intel.com>
Date: Friday, January 24 2025 16:29:20 
DPDK git baseline: Repo:dpdk
  Branch: master
  CommitID:5b856206c74bbcf19e12cafa15382a7e15b0a1b5

150458-150482 --> testing pass

Test environment and result as below:

+---------------------+-------------------+--------------------+------------------+-------------------+----------------------+-------------------------+
|     Environment     | dpdk_msvc_compile | dpdk_meson_compile | dpdk_compile_ovs | dpdk_compile_spdk | dpdk_mingw64_compile | dpdk_llvm_clang_compile |
+=====================+===================+====================+==================+===================+======================+=========================+
| Windows Server 2022 | PASS              | SKIPPED            | SKIPPED          | SKIPPED           | PASS                 | PASS                    |
+---------------------+-------------------+--------------------+------------------+-------------------+----------------------+-------------------------+
| FreeBSD 13.4        | SKIPPED           | PASS               | SKIPPED          | SKIPPED           | SKIPPED              | SKIPPED                 |
+---------------------+-------------------+--------------------+------------------+-------------------+----------------------+-------------------------+
| FreeBSD 14.2        | SKIPPED           | PASS               | SKIPPED          | SKIPPED           | SKIPPED              | SKIPPED                 |
+---------------------+-------------------+--------------------+------------------+-------------------+----------------------+-------------------------+
| Debian Bullseye     | SKIPPED           | PASS               | PASS             | PASS              | SKIPPED              | SKIPPED                 |
+---------------------+-------------------+--------------------+------------------+-------------------+----------------------+-------------------------+
| Debian 12           | SKIPPED           | PASS               | PASS             | PASS              | SKIPPED              | SKIPPED                 |
+---------------------+-------------------+--------------------+------------------+-------------------+----------------------+-------------------------+
| Fedora 40 (Clang)   | SKIPPED           | PASS               | PASS             | PASS              | SKIPPED              | SKIPPED                 |
+---------------------+-------------------+--------------------+------------------+-------------------+----------------------+-------------------------+
| Fedora 40           | SKIPPED           | PASS               | PASS             | PASS              | SKIPPED              | SKIPPED                 |
+---------------------+-------------------+--------------------+------------------+-------------------+----------------------+-------------------------+
| Fedora 41 (Clang)   | SKIPPED           | PASS               | PASS             | PASS              | SKIPPED              | SKIPPED                 |
+---------------------+-------------------+--------------------+------------------+-------------------+----------------------+-------------------------+
| Fedora 41           | SKIPPED           | PASS               | PASS             | PASS              | SKIPPED              | SKIPPED                 |
+---------------------+-------------------+--------------------+------------------+-------------------+----------------------+-------------------------+
| openSUSE Leap 15    | SKIPPED           | PASS               | SKIPPED          | SKIPPED           | SKIPPED              | SKIPPED                 |
+---------------------+-------------------+--------------------+------------------+-------------------+----------------------+-------------------------+
| RHEL8               | SKIPPED           | PASS               | PASS             | SKIPPED           | SKIPPED              | SKIPPED                 |
+---------------------+-------------------+--------------------+------------------+-------------------+----------------------+-------------------------+
| Ubuntu 20.04        | SKIPPED           | PASS               | SKIPPED          | SKIPPED           | SKIPPED              | SKIPPED                 |
+---------------------+-------------------+--------------------+------------------+-------------------+----------------------+-------------------------+
| Ubuntu 22.04        | SKIPPED           | PASS               | PASS             | PASS              | SKIPPED              | SKIPPED                 |
+---------------------+-------------------+--------------------+------------------+-------------------+----------------------+-------------------------+
| Ubuntu 24.04        | SKIPPED           | PASS               | PASS             | PASS              | SKIPPED              | SKIPPED                 |
+---------------------+-------------------+--------------------+------------------+-------------------+----------------------+-------------------------+
| Alpine              | SKIPPED           | PASS               | PASS             | SKIPPED           | SKIPPED              | SKIPPED                 |
+---------------------+-------------------+--------------------+------------------+-------------------+----------------------+-------------------------+
| CentOS Stream 9     | SKIPPED           | PASS               | PASS             | PASS              | SKIPPED              | SKIPPED                 |
+---------------------+-------------------+--------------------+------------------+-------------------+----------------------+-------------------------+
| RHEL9               | SKIPPED           | PASS               | PASS             | SKIPPED           | SKIPPED              | SKIPPED                 |
+---------------------+-------------------+--------------------+------------------+-------------------+----------------------+-------------------------+


Windows Server 2022
	Kernel: 10.0.20348.2031
	Compiler: clang 15.0.7, gcc 14.1.0 (MinGW), and MSVC VS 19.39.33521

FreeBSD 13.4
	Kernel: 13.4-RELEASE-p1
	Compiler: clang 18.1.6

FreeBSD 14.2
	Kernel: 14.2-RELEASE
	Compiler: clang 18.1.6

Debian Bullseye
	Kernel: Depends on container host
	Compiler: gcc (Debian 10.2.1-6) 10.2.1 20210110

Debian 12
	Kernel: Depends on container host
	Compiler: gcc (Debian 12.2.0-14) 12.2.0

Fedora 40 (Clang)
	Kernel: Depends on container host
	Compiler: clang 18.1.8 (Fedora 18.1.8-1.fc40)

Fedora 40
	Kernel: Depends on container host
	Compiler: gcc 14.2.1 20240912 (Red Hat 14.2.1-3)

Fedora 41 (Clang)
	Kernel: Depends on container host
	Compiler: clang 19.1.5 (Fedora 19.1.5-1.fc41)

Fedora 41
	Kernel: Depends on container host
	Compiler: gcc 14.2.1 20240912 (Red Hat 14.2.1-3)

openSUSE Leap 15
	Kernel: Depends on container host
	Compiler: gcc (SUSE Linux) 7.5.0

RHEL8
	Kernel: Depends on container host
	Compiler: gcc 8.5.0 20210514 (Red Hat 8.5.0-22)

Ubuntu 20.04
	Kernel: Depends on container host
	Compiler: gcc (Ubuntu 9.4.0-1ubuntu1~20.04.2) 9.4.0

Ubuntu 22.04
	Kernel: Depends on container host
	Compiler: gcc (Ubuntu 11.4.0-1ubuntu1~22.04) 11.4.0

Ubuntu 24.04
	Kernel: Depends on container host
	Compiler: gcc (Ubuntu 13.3.0-6ubuntu2~24.04) 13.3.0

Alpine
	Kernel: Depends on container host
	Compiler: gcc (Alpine 14.2.0) 14.2.0

CentOS Stream 9
	Kernel: Depends on container host
	Compiler: gcc 11.5.0 20240719 (Red Hat 11.5.0-2)

RHEL9
	Kernel: Depends on container host
	Compiler: gcc 11.5.0 20240719 (Red Hat 11.5.0-2)

To view detailed results, visit:
https://lab.dpdk.org/results/dashboard/patchsets/32417/

UNH-IOL DPDK Community Lab

To manage your email subscriptions, visit: 
https://lab.dpdk.org/results/dashboard/preferences/subscriptions/