From mboxrd@z Thu Jan 1 00:00:00 1970 Return-Path: Received: from mails.dpdk.org (mails.dpdk.org [217.70.189.124]) by inbox.dpdk.org (Postfix) with ESMTP id 85150461A0 for ; Wed, 5 Feb 2025 18:20:07 +0100 (CET) Received: from mails.dpdk.org (localhost [127.0.0.1]) by mails.dpdk.org (Postfix) with ESMTP id 824FE40270; Wed, 5 Feb 2025 18:20:07 +0100 (CET) Received: from mail-ua1-f99.google.com (mail-ua1-f99.google.com [209.85.222.99]) by mails.dpdk.org (Postfix) with ESMTP id E064D40261 for ; Wed, 5 Feb 2025 18:20:05 +0100 (CET) Received: by mail-ua1-f99.google.com with SMTP id a1e0cc1a2514c-866e49506a5so478938241.3 for ; Wed, 05 Feb 2025 09:20:05 -0800 (PST) DKIM-Signature: v=1; a=rsa-sha256; c=relaxed/relaxed; d=iol.unh.edu; s=unh-iol; t=1738776005; x=1739380805; darn=dpdk.org; h=references:in-reply-to:cc:to:from:subject:message-id:date:from:to :cc:subject:date:message-id:reply-to; bh=bq71apn5aaIcSgpW9QYN2h49qKdIhG+PC5G7vfnS/5c=; b=CqS0CLc5F9yPXL2QPnnmsqJ1zF5YO640nP6mYVIDh2BGJfdWR5RZ7ixg75dY8SSCFI CkEyi6oFFXymoSauTs/hLaL0bVYKdxARu5H+/r6rRmbVyrCMRraZTF8yo4B11DmsR55y 8ARQgi/8GyaYzFsrgJ6qPR3voV0JSwsKKfbLw= X-Google-DKIM-Signature: v=1; a=rsa-sha256; c=relaxed/relaxed; d=1e100.net; s=20230601; t=1738776005; x=1739380805; h=references:in-reply-to:cc:to:from:subject:message-id:date :x-gm-message-state:from:to:cc:subject:date:message-id:reply-to; bh=bq71apn5aaIcSgpW9QYN2h49qKdIhG+PC5G7vfnS/5c=; b=K4AZ1IqBe3mLf/0vH5kvFETYLc1r+4gAQcHcEZL2HoV+Mb9IJAdFclpcEuHy3PLlBP WKLYxcfXxxLt91ogywMBvGOZjs3d0c2lZJKYWWkyP+cTJ/FqfSzjfVPf+rUvOTIHjdQI woYH0ktJnESUZ8UtpX/C4NFOQIFKV/RK9+HyHaXcEyR2dwngNU8r3UHLsO2SvzNbof1I vDGWwY1wX/eVMcx15ozM+X3mWvbo3/QUTCEo98y6q6cShRngtZ7Q2vzOkpXTqMOb+dii nQaJTmyikfbw3LiizTPs0hQJmmPEpf1NOXyDLm4oppa/jf8Uto++yTWhqNV4r2TzCVAH PHWg== X-Gm-Message-State: AOJu0YyjmXEQkcuu9fhRaeR5TAGGad3k+4xXAVQ9aawONE6kqvqmxHdv ASAAwfU51MAdE6TLAnl532eQvmMwpbaWzwsQtuC8l6MajY+kbpzdwBxGGJafzS8l0T5He4VJSpS njX5GU+IGvKG7h9tXyK4bWE8lV625fx+XsmpKnNQx X-Gm-Gg: ASbGncuFIPSIcmudfV43ObAY/qUqqfui+QoEZ5oaYqzdmJz0H9jTaSyfY6EbO3f7Q4y OZCBIfRLF8EEnrh3/tPrzxUeewIeqerLZuj41mS2Pmw0V+XxUEznEis4nkvoGLud+ABKMxa0cP0 W/2bI/yzUq8y6dCMhRoWeMyECciSSddiWxdMUfWpBNpTJdZHNoJDGqHAJ4vUE1x3wZWZKbTG8tr /mVDYSh3BEbUY2u7KrmQKl4UWjLGGX962KJbHuTn6V8PXIMtIdMyn3USxJKn74DrjtVpHxNHOwt 34fyNmx/OteSNp4RrJgHtQz9EMA5TA== X-Google-Smtp-Source: AGHT+IGsOmwfg3QqEM6Vv1UFvaY+PYspK0tYXEHhgrLf1VpfvkFsyYRSQblJWLGhh9ixlZ2OmS7qH3mQ3hc7 X-Received: by 2002:a05:6122:1906:b0:516:1582:f72e with SMTP id 71dfb90a1353d-51f0c38aad8mr2601272e0c.2.1738776005265; Wed, 05 Feb 2025 09:20:05 -0800 (PST) Received: from postal.iol.unh.edu (postal.iol.unh.edu. [132.177.123.84]) by smtp-relay.gmail.com with ESMTPS id 71dfb90a1353d-51eb1dfb751sm576950e0c.10.2025.02.05.09.20.05 (version=TLS1_2 cipher=ECDHE-ECDSA-AES128-GCM-SHA256 bits=128/128); Wed, 05 Feb 2025 09:20:05 -0800 (PST) X-Relaying-Domain: iol.unh.edu Date: Wed, 05 Feb 2025 09:20:05 -0800 (PST) Message-ID: <67a39dc5.050a0220.3a4ed3.b549SMTPIN_ADDED_MISSING@mx.google.com> Received: from [172.21.0.19] (unknown [172.18.0.240]) by postal.iol.unh.edu (Postfix) with ESMTP id E2C826052471; Wed, 5 Feb 2025 12:20:04 -0500 (EST) Subject: |SUCCESS| pw150452 [PATCH] [1/1] vhost: add NULL callback checks From: dpdklab@iol.unh.edu To: Test Report Cc: dpdk-test-reports@iol.unh.edu In-Reply-To: <20250124141408.419674-2-ktraynor@redhat.com> References: <20250124141408.419674-2-ktraynor@redhat.com> Content-Type: text/plain X-BeenThere: test-report@dpdk.org X-Mailman-Version: 2.1.29 Precedence: list List-Id: automatic DPDK test reports List-Unsubscribe: , List-Archive: List-Post: List-Help: List-Subscribe: , Errors-To: test-report-bounces@dpdk.org Test-Label: iol-compile-amd64-testing Test-Status: SUCCESS http://dpdk.org/patch/150452 _Testing PASS_ Submitter: Kevin Traynor Date: Friday, January 24 2025 14:14:07 DPDK git baseline: Repo:dpdk Branch: master CommitID:d92688baedcfc963b7539899347012a09c45a15b 150452 --> testing pass Test environment and result as below: +---------------------+--------------------+------------------+-------------------+-------------------+----------------------+-------------------------+ | Environment | dpdk_meson_compile | dpdk_compile_ovs | dpdk_compile_spdk | dpdk_msvc_compile | dpdk_mingw64_compile | dpdk_llvm_clang_compile | +=====================+====================+==================+===================+===================+======================+=========================+ | CentOS Stream 9 | PASS | PASS | PASS | SKIPPED | SKIPPED | SKIPPED | +---------------------+--------------------+------------------+-------------------+-------------------+----------------------+-------------------------+ | Debian 12 | PASS | PASS | PASS | SKIPPED | SKIPPED | SKIPPED | +---------------------+--------------------+------------------+-------------------+-------------------+----------------------+-------------------------+ | Debian Bullseye | PASS | PASS | PASS | SKIPPED | SKIPPED | SKIPPED | +---------------------+--------------------+------------------+-------------------+-------------------+----------------------+-------------------------+ | Fedora 40 | PASS | PASS | PASS | SKIPPED | SKIPPED | SKIPPED | +---------------------+--------------------+------------------+-------------------+-------------------+----------------------+-------------------------+ | Fedora 40 (Clang) | PASS | PASS | PASS | SKIPPED | SKIPPED | SKIPPED | +---------------------+--------------------+------------------+-------------------+-------------------+----------------------+-------------------------+ | Ubuntu 20.04 | PASS | SKIPPED | SKIPPED | SKIPPED | SKIPPED | SKIPPED | +---------------------+--------------------+------------------+-------------------+-------------------+----------------------+-------------------------+ | Fedora 41 | PASS | PASS | PASS | SKIPPED | SKIPPED | SKIPPED | +---------------------+--------------------+------------------+-------------------+-------------------+----------------------+-------------------------+ | RHEL9 | PASS | PASS | SKIPPED | SKIPPED | SKIPPED | SKIPPED | +---------------------+--------------------+------------------+-------------------+-------------------+----------------------+-------------------------+ | Fedora 41 (Clang) | PASS | PASS | PASS | SKIPPED | SKIPPED | SKIPPED | +---------------------+--------------------+------------------+-------------------+-------------------+----------------------+-------------------------+ | openSUSE Leap 15 | PASS | SKIPPED | SKIPPED | SKIPPED | SKIPPED | SKIPPED | +---------------------+--------------------+------------------+-------------------+-------------------+----------------------+-------------------------+ | RHEL8 | PASS | PASS | SKIPPED | SKIPPED | SKIPPED | SKIPPED | +---------------------+--------------------+------------------+-------------------+-------------------+----------------------+-------------------------+ | Ubuntu 24.04 | PASS | PASS | PASS | SKIPPED | SKIPPED | SKIPPED | +---------------------+--------------------+------------------+-------------------+-------------------+----------------------+-------------------------+ | Ubuntu 22.04 | PASS | PASS | PASS | SKIPPED | SKIPPED | SKIPPED | +---------------------+--------------------+------------------+-------------------+-------------------+----------------------+-------------------------+ | Alpine | PASS | PASS | SKIPPED | SKIPPED | SKIPPED | SKIPPED | +---------------------+--------------------+------------------+-------------------+-------------------+----------------------+-------------------------+ | FreeBSD 13.4 | PASS | SKIPPED | SKIPPED | SKIPPED | SKIPPED | SKIPPED | +---------------------+--------------------+------------------+-------------------+-------------------+----------------------+-------------------------+ | FreeBSD 14.2 | PASS | SKIPPED | SKIPPED | SKIPPED | SKIPPED | SKIPPED | +---------------------+--------------------+------------------+-------------------+-------------------+----------------------+-------------------------+ | Windows Server 2022 | SKIPPED | SKIPPED | SKIPPED | PASS | PASS | PASS | +---------------------+--------------------+------------------+-------------------+-------------------+----------------------+-------------------------+ CentOS Stream 9 Kernel: Depends on container host Compiler: gcc 11.5.0 20240719 (Red Hat 11.5.0-2) Debian 12 Kernel: Depends on container host Compiler: gcc (Debian 12.2.0-14) 12.2.0 Debian Bullseye Kernel: Depends on container host Compiler: gcc (Debian 10.2.1-6) 10.2.1 20210110 Fedora 40 Kernel: Depends on container host Compiler: gcc 14.2.1 20240912 (Red Hat 14.2.1-3) Fedora 40 (Clang) Kernel: Depends on container host Compiler: clang 18.1.8 (Fedora 18.1.8-1.fc40) Ubuntu 20.04 Kernel: Depends on container host Compiler: gcc (Ubuntu 9.4.0-1ubuntu1~20.04.2) 9.4.0 Fedora 41 Kernel: Depends on container host Compiler: gcc 14.2.1 20240912 (Red Hat 14.2.1-3) RHEL9 Kernel: Depends on container host Compiler: gcc 11.5.0 20240719 (Red Hat 11.5.0-2) Fedora 41 (Clang) Kernel: Depends on container host Compiler: clang 19.1.5 (Fedora 19.1.5-1.fc41) openSUSE Leap 15 Kernel: Depends on container host Compiler: gcc (SUSE Linux) 7.5.0 RHEL8 Kernel: Depends on container host Compiler: gcc 8.5.0 20210514 (Red Hat 8.5.0-22) Ubuntu 24.04 Kernel: Depends on container host Compiler: gcc (Ubuntu 13.3.0-6ubuntu2~24.04) 13.3.0 Ubuntu 22.04 Kernel: Depends on container host Compiler: gcc (Ubuntu 11.4.0-1ubuntu1~22.04) 11.4.0 Alpine Kernel: Depends on container host Compiler: gcc (Alpine 14.2.0) 14.2.0 FreeBSD 13.4 Kernel: 13.4-RELEASE-p1 Compiler: clang 18.1.6 FreeBSD 14.2 Kernel: 14.2-RELEASE Compiler: clang 18.1.6 Windows Server 2022 Kernel: 10.0.20348.2031 Compiler: clang 15.0.7, gcc 14.1.0 (MinGW), and MSVC VS 19.39.33521 To view detailed results, visit: https://lab.dpdk.org/results/dashboard/patchsets/32414/ UNH-IOL DPDK Community Lab To manage your email subscriptions, visit: https://lab.dpdk.org/results/dashboard/preferences/subscriptions/