From mboxrd@z Thu Jan 1 00:00:00 1970 Return-Path: Received: from mails.dpdk.org (mails.dpdk.org [217.70.189.124]) by inbox.dpdk.org (Postfix) with ESMTP id B568B461A0 for ; Wed, 5 Feb 2025 18:20:10 +0100 (CET) Received: from mails.dpdk.org (localhost [127.0.0.1]) by mails.dpdk.org (Postfix) with ESMTP id B153240270; Wed, 5 Feb 2025 18:20:10 +0100 (CET) Received: from mail-yw1-f225.google.com (mail-yw1-f225.google.com [209.85.128.225]) by mails.dpdk.org (Postfix) with ESMTP id C8C7C40261 for ; Wed, 5 Feb 2025 18:20:08 +0100 (CET) Received: by mail-yw1-f225.google.com with SMTP id 00721157ae682-6f77b9e0a34so123237b3.2 for ; Wed, 05 Feb 2025 09:20:08 -0800 (PST) DKIM-Signature: v=1; a=rsa-sha256; c=relaxed/relaxed; d=iol.unh.edu; s=unh-iol; t=1738776008; x=1739380808; darn=dpdk.org; h=references:in-reply-to:cc:to:from:subject:message-id:date:from:to :cc:subject:date:message-id:reply-to; bh=Ef7xw1MhLPVqHMNn/tfMS7mwCjAHGIfMf1xsqiYcMLg=; b=KWOCUAFkmWgtqBYwpljqcM4CP8xOEBE553NeEOtabigPjt2/UJEr8vjHm45LWFMfrv LrdmsPS/hbhda+UEBzrK5tovcveE6buUItzqShek1G/VhDq5f4VPReQGlbps+Xw7c0rw 8IeuAnyIB1yoVafVAxsIWaujTT+VK0N94ZEuA= X-Google-DKIM-Signature: v=1; a=rsa-sha256; c=relaxed/relaxed; d=1e100.net; s=20230601; t=1738776008; x=1739380808; h=references:in-reply-to:cc:to:from:subject:message-id:date :x-gm-message-state:from:to:cc:subject:date:message-id:reply-to; bh=Ef7xw1MhLPVqHMNn/tfMS7mwCjAHGIfMf1xsqiYcMLg=; b=ESKfYYnyUsqWyYHXq1Nz1FWOJdvWDH7HDGoYbrKF0KzCYNrv6dY76MiASaUFfEhQR2 2cDiaesH2CqEpTnKylKAaTs/roSaHnSMHX8+lqtUNTJEmTE1sBsRiLNyT7gHaimtac8h ChYwTPicfaXoiEFX0AcchJDsZ024sUMPpI0i7BbK5AlzlDTUoSI7PQVUfYnot7rHZx/x 6zrkdU7DzJ+UP2OklsMpeNnjLxn0JzuZTJpGL/Rnhs8EcHHOn6hjxyUT+yiWhMT4w/C5 wGC/cdxSuG6r1sHhhANVcmbMEno/yI73GITytjZ9HaVJbzMQS/PiO4hXpmYkNTo7kKSI Svlg== X-Gm-Message-State: AOJu0Yw8o5B/aNnDMaEaVihWcN9fBx2PPm6Ko3hHbqXweC7WzU2HGow6 OXZxaOL636uXt6FuK0/cioROHzC1iohNQhafbrVdlaJikQVigchxzDebdY3+066Pcf02aKowb4X 21cr8BM/2RdkQW9pDZih4YkIulVh7++/eng8jTDnG X-Gm-Gg: ASbGncu4hnhUQHDUDRKnuAyBqfUA/LWFQJH+Y/RRZbQVsea6rW4qRq3I201/FNPVy8H u/rHqRomGudlYn4CK3zTH2mLIkE4GY9BfOREw9XQ4VOr2V4yG9zhYOFemR2IXPCpm3ZwwHhThu8 c5+qdUTxJM/rvDv33j00HhcqyYVZCwoGQWJiCpOlpEO8bd/tooR7eHd6b+NOkWGk0tzKZEnwo+0 X54C/ZayRGIGYBBrux2h7z9egPx8mbRAtfqe15qZoUCpGncXezCqXQNGdf4HC9aw8s/F5qnEa6z d8nc/XZBoMwIi490nhXRPx0cC1nqXg== X-Google-Smtp-Source: AGHT+IFO3Og1YmWljQCaiyvzbxxpOkCO3HqsoiYtbIMtX6ZmvzMQTcCZpepx4wnKoD+VyW9c1e0ZEdurSELa X-Received: by 2002:a05:690c:6910:b0:6f6:cad6:6b5a with SMTP id 00721157ae682-6f989eb7329mr33408347b3.13.1738776008238; Wed, 05 Feb 2025 09:20:08 -0800 (PST) Received: from postal.iol.unh.edu (postal.iol.unh.edu. [132.177.123.84]) by smtp-relay.gmail.com with ESMTPS id 00721157ae682-6f8c47c91eesm11245767b3.39.2025.02.05.09.20.08 (version=TLS1_2 cipher=ECDHE-ECDSA-AES128-GCM-SHA256 bits=128/128); Wed, 05 Feb 2025 09:20:08 -0800 (PST) X-Relaying-Domain: iol.unh.edu Date: Wed, 05 Feb 2025 09:20:08 -0800 (PST) Message-ID: <67a39dc8.0d0a0220.19a055.7d41SMTPIN_ADDED_MISSING@mx.google.com> Received: from [172.17.0.6] (unknown [172.18.0.214]) by postal.iol.unh.edu (Postfix) with ESMTP id DF8716052471; Wed, 5 Feb 2025 12:20:07 -0500 (EST) Subject: |SUCCESS| pw150503 [PATCH] app/crypto-perf: support RSA-2k From: dpdklab@iol.unh.edu To: Test Report Cc: dpdk-test-reports@iol.unh.edu In-Reply-To: <20250124191035.4028679-1-gakhil@marvell.com> References: <20250124191035.4028679-1-gakhil@marvell.com> Content-Type: text/plain X-BeenThere: test-report@dpdk.org X-Mailman-Version: 2.1.29 Precedence: list List-Id: automatic DPDK test reports List-Unsubscribe: , List-Archive: List-Post: List-Help: List-Subscribe: , Errors-To: test-report-bounces@dpdk.org Test-Label: iol-compile-amd64-testing Test-Status: SUCCESS http://dpdk.org/patch/150503 _Testing PASS_ Submitter: Akhil Goyal Date: Friday, January 24 2025 19:10:35 DPDK git baseline: Repo:dpdk Branch: master CommitID:e110e9ecc60a78e26026496b1697863312f262a4 150503 --> testing pass Test environment and result as below: +---------------------+--------------------+------------------+-------------------+-------------------+----------------------+-------------------------+ | Environment | dpdk_meson_compile | dpdk_compile_ovs | dpdk_compile_spdk | dpdk_msvc_compile | dpdk_mingw64_compile | dpdk_llvm_clang_compile | +=====================+====================+==================+===================+===================+======================+=========================+ | CentOS Stream 9 | PASS | PASS | PASS | SKIPPED | SKIPPED | SKIPPED | +---------------------+--------------------+------------------+-------------------+-------------------+----------------------+-------------------------+ | Debian Bullseye | PASS | PASS | PASS | SKIPPED | SKIPPED | SKIPPED | +---------------------+--------------------+------------------+-------------------+-------------------+----------------------+-------------------------+ | Fedora 40 (Clang) | PASS | PASS | PASS | SKIPPED | SKIPPED | SKIPPED | +---------------------+--------------------+------------------+-------------------+-------------------+----------------------+-------------------------+ | Debian 12 | PASS | PASS | PASS | SKIPPED | SKIPPED | SKIPPED | +---------------------+--------------------+------------------+-------------------+-------------------+----------------------+-------------------------+ | Fedora 40 | PASS | PASS | PASS | SKIPPED | SKIPPED | SKIPPED | +---------------------+--------------------+------------------+-------------------+-------------------+----------------------+-------------------------+ | Fedora 41 (Clang) | PASS | PASS | PASS | SKIPPED | SKIPPED | SKIPPED | +---------------------+--------------------+------------------+-------------------+-------------------+----------------------+-------------------------+ | Fedora 41 | PASS | PASS | PASS | SKIPPED | SKIPPED | SKIPPED | +---------------------+--------------------+------------------+-------------------+-------------------+----------------------+-------------------------+ | openSUSE Leap 15 | PASS | SKIPPED | SKIPPED | SKIPPED | SKIPPED | SKIPPED | +---------------------+--------------------+------------------+-------------------+-------------------+----------------------+-------------------------+ | RHEL8 | PASS | PASS | SKIPPED | SKIPPED | SKIPPED | SKIPPED | +---------------------+--------------------+------------------+-------------------+-------------------+----------------------+-------------------------+ | RHEL9 | PASS | PASS | SKIPPED | SKIPPED | SKIPPED | SKIPPED | +---------------------+--------------------+------------------+-------------------+-------------------+----------------------+-------------------------+ | Ubuntu 20.04 | PASS | SKIPPED | SKIPPED | SKIPPED | SKIPPED | SKIPPED | +---------------------+--------------------+------------------+-------------------+-------------------+----------------------+-------------------------+ | Ubuntu 22.04 | PASS | PASS | PASS | SKIPPED | SKIPPED | SKIPPED | +---------------------+--------------------+------------------+-------------------+-------------------+----------------------+-------------------------+ | Ubuntu 24.04 | PASS | PASS | PASS | SKIPPED | SKIPPED | SKIPPED | +---------------------+--------------------+------------------+-------------------+-------------------+----------------------+-------------------------+ | FreeBSD 13.4 | PASS | SKIPPED | SKIPPED | SKIPPED | SKIPPED | SKIPPED | +---------------------+--------------------+------------------+-------------------+-------------------+----------------------+-------------------------+ | FreeBSD 14.2 | PASS | SKIPPED | SKIPPED | SKIPPED | SKIPPED | SKIPPED | +---------------------+--------------------+------------------+-------------------+-------------------+----------------------+-------------------------+ | Alpine | PASS | PASS | SKIPPED | SKIPPED | SKIPPED | SKIPPED | +---------------------+--------------------+------------------+-------------------+-------------------+----------------------+-------------------------+ | Windows Server 2022 | SKIPPED | SKIPPED | SKIPPED | PASS | PASS | PASS | +---------------------+--------------------+------------------+-------------------+-------------------+----------------------+-------------------------+ CentOS Stream 9 Kernel: Depends on container host Compiler: gcc 11.5.0 20240719 (Red Hat 11.5.0-2) Debian Bullseye Kernel: Depends on container host Compiler: gcc (Debian 10.2.1-6) 10.2.1 20210110 Fedora 40 (Clang) Kernel: Depends on container host Compiler: clang 18.1.8 (Fedora 18.1.8-1.fc40) Debian 12 Kernel: Depends on container host Compiler: gcc (Debian 12.2.0-14) 12.2.0 Fedora 40 Kernel: Depends on container host Compiler: gcc 14.2.1 20240912 (Red Hat 14.2.1-3) Fedora 41 (Clang) Kernel: Depends on container host Compiler: clang 19.1.5 (Fedora 19.1.5-1.fc41) Fedora 41 Kernel: Depends on container host Compiler: gcc 14.2.1 20240912 (Red Hat 14.2.1-3) openSUSE Leap 15 Kernel: Depends on container host Compiler: gcc (SUSE Linux) 7.5.0 RHEL8 Kernel: Depends on container host Compiler: gcc 8.5.0 20210514 (Red Hat 8.5.0-22) RHEL9 Kernel: Depends on container host Compiler: gcc 11.5.0 20240719 (Red Hat 11.5.0-2) Ubuntu 20.04 Kernel: Depends on container host Compiler: gcc (Ubuntu 9.4.0-1ubuntu1~20.04.2) 9.4.0 Ubuntu 22.04 Kernel: Depends on container host Compiler: gcc (Ubuntu 11.4.0-1ubuntu1~22.04) 11.4.0 Ubuntu 24.04 Kernel: Depends on container host Compiler: gcc (Ubuntu 13.3.0-6ubuntu2~24.04) 13.3.0 FreeBSD 13.4 Kernel: 13.4-RELEASE-p1 Compiler: clang 18.1.6 FreeBSD 14.2 Kernel: 14.2-RELEASE Compiler: clang 18.1.6 Alpine Kernel: Depends on container host Compiler: gcc (Alpine 14.2.0) 14.2.0 Windows Server 2022 Kernel: 10.0.20348.2031 Compiler: clang 15.0.7, gcc 14.1.0 (MinGW), and MSVC VS 19.39.33521 To view detailed results, visit: https://lab.dpdk.org/results/dashboard/patchsets/32423/ UNH-IOL DPDK Community Lab To manage your email subscriptions, visit: https://lab.dpdk.org/results/dashboard/preferences/subscriptions/