From mboxrd@z Thu Jan  1 00:00:00 1970
Return-Path: <test-report-bounces@dpdk.org>
Received: from mails.dpdk.org (mails.dpdk.org [217.70.189.124])
	by inbox.dpdk.org (Postfix) with ESMTP id 0D78F461A0
	for <public@inbox.dpdk.org>; Wed,  5 Feb 2025 18:20:21 +0100 (CET)
Received: from mails.dpdk.org (localhost [127.0.0.1])
	by mails.dpdk.org (Postfix) with ESMTP id 6EC9140A76;
	Wed,  5 Feb 2025 18:20:20 +0100 (CET)
Received: from mail-vk1-f226.google.com (mail-vk1-f226.google.com
 [209.85.221.226])
 by mails.dpdk.org (Postfix) with ESMTP id D7B894068A
 for <test-report@dpdk.org>; Wed,  5 Feb 2025 18:20:17 +0100 (CET)
Received: by mail-vk1-f226.google.com with SMTP id
 71dfb90a1353d-51eb1a6ca1bso2174639e0c.1
 for <test-report@dpdk.org>; Wed, 05 Feb 2025 09:20:17 -0800 (PST)
DKIM-Signature: v=1; a=rsa-sha256; c=relaxed/relaxed;
 d=iol.unh.edu; s=unh-iol; t=1738776017; x=1739380817; darn=dpdk.org;
 h=references:in-reply-to:cc:to:from:subject:message-id:date:from:to
 :cc:subject:date:message-id:reply-to;
 bh=9eYyx6Td0QMKRsFtbWCd3D9uFq85j+dtGX/x9OHiJgo=;
 b=Zc42yNeQYQj+s3UreF14dDHLrA7zDo0QLffT079n78G+e0xMnpLQ+3upQEog0IiYFU
 wzv9hMoZPq3vkAkjhg7/PKRa9Kf67oVkf0ZVNWMlQO7EdQdWwV4KOSMF//ERBS/yqv0e
 GZgMPZcWjWVWPvQ8NpVKaLvNaFBtN+nnYABrk=
X-Google-DKIM-Signature: v=1; a=rsa-sha256; c=relaxed/relaxed;
 d=1e100.net; s=20230601; t=1738776017; x=1739380817;
 h=references:in-reply-to:cc:to:from:subject:message-id:date
 :x-gm-message-state:from:to:cc:subject:date:message-id:reply-to;
 bh=9eYyx6Td0QMKRsFtbWCd3D9uFq85j+dtGX/x9OHiJgo=;
 b=TttfSdiVHDJF+BDJOFx2F45CWGakj0okUBg/LMV5NQM0NAM5tv2FV9hhuX8NjzZNbG
 4cC00lFMo6g7UKbUV77n0CowDfX2UP26/8miMc9FtoqyUWM/NnE83vExhkLxqoVxb162
 asL8qUAcD3etZ6UlchxJC4sp1fOsqV2vDy+qTZatffEdis3eQDR2DphwXXXkAlgOBdGz
 DLGzotw9KKTEJnPvLKteZY6nMDAUeTkt0Sx5mHXMTXsP51fLa+ySN1rVwc9jke2NpKET
 L5gZnyZEH+OuA3TEz2g7Mt4rQxSFXV7Qut5SiUwnSs5qf8HUlKWTQNPXQ8dNdaz5C+0s
 m91Q==
X-Gm-Message-State: AOJu0YzYcbUQJs6+iIKbQf8OhRUq7dvP6fscIjN7ihNXmcJxEErb0c1S
 HwcobT4ywSCh36TRlB//+tRe6HFlAxigd0CLLNS/KJJwP5I7D+vWUdMVEgTYqrxNdTJUBlJSlM8
 37r8Y81R/cVWY30kHZj7CKPa914yMs1+XM9qgpd+QNhsVheT4utJwPxxM
X-Gm-Gg: ASbGnctTd8tQI49NOHXLM/a8dvQ5sHEAD7BBmr5Hm4wOf3EtQ+XpK26CmwldLRwuSfa
 q0Xc+pTTO4mZ0TtpwWB/vtungqSWZXb1x1pYXGyjlVw7HDOKo//63oQgvPKS3V7XgA8QMUknVao
 bgzHsg77UTpm2hUvRoJM9cWycqKO5l4K9DFgDuw+znYJFSrC4qOkbc3/wGQoLCvCYh9K7+RFPrp
 olsns1v31qpw2SSZei7bHLCZMX3gi/ffQwUJmm7WIHG817BsNSGTF79RKNHa6T1FgPfpQCceElQ
 xNYWsJFyK1DZsQZfZ0PKH7KRCIkSoH0t8MuypuMAMg==
X-Google-Smtp-Source: AGHT+IF46IUhQkgDc2oVCKWn7qvzZN8t95jL5EM4BcoQIYplVXKhHBWYGhFHm6ArwCXl7Ka6+fgI++HI8VGG
X-Received: by 2002:a05:6122:ecc:b0:518:97c2:f21a with SMTP id
 71dfb90a1353d-51f0c4f3d75mr2591836e0c.6.1738776017233; 
 Wed, 05 Feb 2025 09:20:17 -0800 (PST)
Received: from postal.iol.unh.edu (postal.iol.unh.edu.
 [2606:4100:3880:1234::84]) by smtp-relay.gmail.com with ESMTPS id
 71dfb90a1353d-51eb1db6c43sm567791e0c.9.2025.02.05.09.20.17
 (version=TLS1_2 cipher=ECDHE-ECDSA-AES128-GCM-SHA256 bits=128/128);
 Wed, 05 Feb 2025 09:20:17 -0800 (PST)
X-Relaying-Domain: iol.unh.edu
Date: Wed, 05 Feb 2025 09:20:17 -0800 (PST)
Message-ID: <67a39dd1.050a0220.35fb98.d6b7SMTPIN_ADDED_MISSING@mx.google.com>
Received: from [172.17.0.6] (unknown [172.18.0.213])
 by postal.iol.unh.edu (Postfix) with ESMTP id DDB946052472;
 Wed,  5 Feb 2025 12:20:16 -0500 (EST)
Subject: |SUCCESS| pw150484-150498 [PATCH] [v4,16/16] doc: add release note a
From: dpdklab@iol.unh.edu
To: Test Report <test-report@dpdk.org>
Cc: dpdk-test-reports@iol.unh.edu
In-Reply-To: <20250124181704.86567-17-stephen@networkplumber.org>
References: <20250124181704.86567-17-stephen@networkplumber.org>
Content-Type: text/plain
X-BeenThere: test-report@dpdk.org
X-Mailman-Version: 2.1.29
Precedence: list
List-Id: automatic DPDK test reports <test-report.dpdk.org>
List-Unsubscribe: <https://mails.dpdk.org/options/test-report>,
 <mailto:test-report-request@dpdk.org?subject=unsubscribe>
List-Archive: <http://mails.dpdk.org/archives/test-report/>
List-Post: <mailto:test-report@dpdk.org>
List-Help: <mailto:test-report-request@dpdk.org?subject=help>
List-Subscribe: <https://mails.dpdk.org/listinfo/test-report>,
 <mailto:test-report-request@dpdk.org?subject=subscribe>
Errors-To: test-report-bounces@dpdk.org

Test-Label: iol-compile-amd64-testing
Test-Status: SUCCESS
http://dpdk.org/patch/150498

_Testing PASS_

Submitter: Stephen Hemminger <stephen@networkplumber.org>
Date: Friday, January 24 2025 18:15:07 
DPDK git baseline: Repo:dpdk
  Branch: master
  CommitID:5b856206c74bbcf19e12cafa15382a7e15b0a1b5

150484-150498 --> testing pass

Test environment and result as below:

+---------------------+--------------------+-------------------+------------------+-------------------+----------------------+-------------------------+
|     Environment     | dpdk_meson_compile | dpdk_msvc_compile | dpdk_compile_ovs | dpdk_compile_spdk | dpdk_mingw64_compile | dpdk_llvm_clang_compile |
+=====================+====================+===================+==================+===================+======================+=========================+
| FreeBSD 13.4        | PASS               | SKIPPED           | SKIPPED          | SKIPPED           | SKIPPED              | SKIPPED                 |
+---------------------+--------------------+-------------------+------------------+-------------------+----------------------+-------------------------+
| FreeBSD 14.2        | PASS               | SKIPPED           | SKIPPED          | SKIPPED           | SKIPPED              | SKIPPED                 |
+---------------------+--------------------+-------------------+------------------+-------------------+----------------------+-------------------------+
| CentOS Stream 9     | PASS               | SKIPPED           | PASS             | PASS              | SKIPPED              | SKIPPED                 |
+---------------------+--------------------+-------------------+------------------+-------------------+----------------------+-------------------------+
| Debian Bullseye     | PASS               | SKIPPED           | PASS             | PASS              | SKIPPED              | SKIPPED                 |
+---------------------+--------------------+-------------------+------------------+-------------------+----------------------+-------------------------+
| Debian 12           | PASS               | SKIPPED           | PASS             | PASS              | SKIPPED              | SKIPPED                 |
+---------------------+--------------------+-------------------+------------------+-------------------+----------------------+-------------------------+
| Fedora 40 (Clang)   | PASS               | SKIPPED           | PASS             | PASS              | SKIPPED              | SKIPPED                 |
+---------------------+--------------------+-------------------+------------------+-------------------+----------------------+-------------------------+
| Fedora 40           | PASS               | SKIPPED           | PASS             | PASS              | SKIPPED              | SKIPPED                 |
+---------------------+--------------------+-------------------+------------------+-------------------+----------------------+-------------------------+
| Fedora 41 (Clang)   | PASS               | SKIPPED           | PASS             | PASS              | SKIPPED              | SKIPPED                 |
+---------------------+--------------------+-------------------+------------------+-------------------+----------------------+-------------------------+
| Fedora 41           | PASS               | SKIPPED           | PASS             | PASS              | SKIPPED              | SKIPPED                 |
+---------------------+--------------------+-------------------+------------------+-------------------+----------------------+-------------------------+
| openSUSE Leap 15    | PASS               | SKIPPED           | SKIPPED          | SKIPPED           | SKIPPED              | SKIPPED                 |
+---------------------+--------------------+-------------------+------------------+-------------------+----------------------+-------------------------+
| RHEL8               | PASS               | SKIPPED           | PASS             | SKIPPED           | SKIPPED              | SKIPPED                 |
+---------------------+--------------------+-------------------+------------------+-------------------+----------------------+-------------------------+
| RHEL9               | PASS               | SKIPPED           | PASS             | SKIPPED           | SKIPPED              | SKIPPED                 |
+---------------------+--------------------+-------------------+------------------+-------------------+----------------------+-------------------------+
| Ubuntu 20.04        | PASS               | SKIPPED           | SKIPPED          | SKIPPED           | SKIPPED              | SKIPPED                 |
+---------------------+--------------------+-------------------+------------------+-------------------+----------------------+-------------------------+
| Ubuntu 22.04        | PASS               | SKIPPED           | PASS             | PASS              | SKIPPED              | SKIPPED                 |
+---------------------+--------------------+-------------------+------------------+-------------------+----------------------+-------------------------+
| Ubuntu 24.04        | PASS               | SKIPPED           | PASS             | PASS              | SKIPPED              | SKIPPED                 |
+---------------------+--------------------+-------------------+------------------+-------------------+----------------------+-------------------------+
| Alpine              | PASS               | SKIPPED           | PASS             | SKIPPED           | SKIPPED              | SKIPPED                 |
+---------------------+--------------------+-------------------+------------------+-------------------+----------------------+-------------------------+
| Windows Server 2022 | SKIPPED            | PASS              | SKIPPED          | SKIPPED           | PASS                 | PASS                    |
+---------------------+--------------------+-------------------+------------------+-------------------+----------------------+-------------------------+


FreeBSD 13.4
	Kernel: 13.4-RELEASE-p1
	Compiler: clang 18.1.6

FreeBSD 14.2
	Kernel: 14.2-RELEASE
	Compiler: clang 18.1.6

CentOS Stream 9
	Kernel: Depends on container host
	Compiler: gcc 11.5.0 20240719 (Red Hat 11.5.0-2)

Debian Bullseye
	Kernel: Depends on container host
	Compiler: gcc (Debian 10.2.1-6) 10.2.1 20210110

Debian 12
	Kernel: Depends on container host
	Compiler: gcc (Debian 12.2.0-14) 12.2.0

Fedora 40 (Clang)
	Kernel: Depends on container host
	Compiler: clang 18.1.8 (Fedora 18.1.8-1.fc40)

Fedora 40
	Kernel: Depends on container host
	Compiler: gcc 14.2.1 20240912 (Red Hat 14.2.1-3)

Fedora 41 (Clang)
	Kernel: Depends on container host
	Compiler: clang 19.1.5 (Fedora 19.1.5-1.fc41)

Fedora 41
	Kernel: Depends on container host
	Compiler: gcc 14.2.1 20240912 (Red Hat 14.2.1-3)

openSUSE Leap 15
	Kernel: Depends on container host
	Compiler: gcc (SUSE Linux) 7.5.0

RHEL8
	Kernel: Depends on container host
	Compiler: gcc 8.5.0 20210514 (Red Hat 8.5.0-22)

RHEL9
	Kernel: Depends on container host
	Compiler: gcc 11.5.0 20240719 (Red Hat 11.5.0-2)

Ubuntu 20.04
	Kernel: Depends on container host
	Compiler: gcc (Ubuntu 9.4.0-1ubuntu1~20.04.2) 9.4.0

Ubuntu 22.04
	Kernel: Depends on container host
	Compiler: gcc (Ubuntu 11.4.0-1ubuntu1~22.04) 11.4.0

Ubuntu 24.04
	Kernel: Depends on container host
	Compiler: gcc (Ubuntu 13.3.0-6ubuntu2~24.04) 13.3.0

Alpine
	Kernel: Depends on container host
	Compiler: gcc (Alpine 14.2.0) 14.2.0

Windows Server 2022
	Kernel: 10.0.20348.2031
	Compiler: clang 15.0.7, gcc 14.1.0 (MinGW), and MSVC VS 19.39.33521

To view detailed results, visit:
https://lab.dpdk.org/results/dashboard/patchsets/32419/

UNH-IOL DPDK Community Lab

To manage your email subscriptions, visit: 
https://lab.dpdk.org/results/dashboard/preferences/subscriptions/