From mboxrd@z Thu Jan 1 00:00:00 1970 Return-Path: Received: from mails.dpdk.org (mails.dpdk.org [217.70.189.124]) by inbox.dpdk.org (Postfix) with ESMTP id 81261461A0 for ; Wed, 5 Feb 2025 18:20:26 +0100 (CET) Received: from mails.dpdk.org (localhost [127.0.0.1]) by mails.dpdk.org (Postfix) with ESMTP id 4BBEF40B90; Wed, 5 Feb 2025 18:20:24 +0100 (CET) Received: from mail-yw1-f226.google.com (mail-yw1-f226.google.com [209.85.128.226]) by mails.dpdk.org (Postfix) with ESMTP id E1DDE406FF for ; Wed, 5 Feb 2025 18:20:20 +0100 (CET) Received: by mail-yw1-f226.google.com with SMTP id 00721157ae682-6f4b266d333so111797b3.2 for ; Wed, 05 Feb 2025 09:20:20 -0800 (PST) DKIM-Signature: v=1; a=rsa-sha256; c=relaxed/relaxed; d=iol.unh.edu; s=unh-iol; t=1738776020; x=1739380820; darn=dpdk.org; h=references:in-reply-to:cc:to:from:subject:message-id:date:from:to :cc:subject:date:message-id:reply-to; bh=LOc42z4jcrGCId4+pzpKxE20wilo5HreI9usRqhAeq0=; b=fzg3PqQiO1aIbP/dbymNs8CdjOek2yiQpn9IPCEor/NOy9JMTm0H5QRMTjLInmGqEy UMGVdPyfe5yV53x5B4CyELSGUJZx9CFIlLHjs3+qjE7r/8wQ1AuVOfo5vOEzTdcSwlC8 djnVJS7CzREpmbGP6IDhtUYK8xFJJmhhGySsc= X-Google-DKIM-Signature: v=1; a=rsa-sha256; c=relaxed/relaxed; d=1e100.net; s=20230601; t=1738776020; x=1739380820; h=references:in-reply-to:cc:to:from:subject:message-id:date :x-gm-message-state:from:to:cc:subject:date:message-id:reply-to; bh=LOc42z4jcrGCId4+pzpKxE20wilo5HreI9usRqhAeq0=; b=Wu6QaMwExOFUrBHLYGNID+vxWp62h85dkZZcTd8hMPB+i2lqLimwZ0XKpzBN+9KwmX wnaPOZdEvR2U1Vg8mjtVlCinIplLdZWvGjo7m/UtS8FBeGnvUnO4EPlSJA3gDRUCGfH5 041LJOqeA/07AZS6Af3Nx6G53E1uZ5hwUfK+Ev7dBcfeuAHIzX3jDQdy/7VdDmv4HyGj 3WeymI8vgg+2lTRD1tTjEUpa+2AyoddirCxmqgYocPPusP7dH+qL+WdNoDgzBREkK5ds UE0wxqvUF5Sdm/I/PM5WJ8fe9yK3NnWjGKv6iaJQAwJVC3bsPtzUnHUdRZKpz2Ggabel bafg== X-Gm-Message-State: AOJu0YyadoN5ChYTm+qPdbn5CE7ZM4vLmDnB1uA2LiIaa7BMsBx/CW1E vF72QqyqrTVgiBgeLHHdEMVf0bJ2b4Rt7Xykk8fCKXXuHjwDUwj3xLDuPAQKDF6lE2lDtcnaH7C y81eI0wbF0Vy5XgkD+OBQytQlnTOXnqpxigHkMmgGmxguA+1GjXLx8lRq X-Gm-Gg: ASbGncv26GZ/PtuCwDmIv1w64J/9CHX/4SbQ0EzQ8iD3OUoHnLtlIN6afp5Y4iF0xG4 3ozNgWE5/pS9cNJ+uXtDlPOrMumzdtcs7YITXKRDNdEbPB7/jautzYuGex7LulAn4lWkPxD4TDk VqfiFtf0qFVK4xBrrjoQLFayIxB5ovs1oS2MCtV+qiERb9i7WNAXjcGqsdZ52KLNqCQBPH8CMPy DdUYUR5U4I11KvLNWzmlgMMIV4eOahuM6FSExAuzdTD+VvdJAY7ZADAUU2QPWqMi0LPF0Lynfer Xwa76g7+7PNC9Je8vVJWbGFYCJWbioXg+2P43oznYw== X-Google-Smtp-Source: AGHT+IHtv92bFb99N48LfgtgDQorgSJ1d46igbb9f9eItkJAi661sbI/eErHJhkCYyZcigcOTN5dVyQAq+Nx X-Received: by 2002:a05:690c:4d84:b0:6ef:5013:bfd9 with SMTP id 00721157ae682-6f989eb1858mr35099787b3.10.1738776020290; Wed, 05 Feb 2025 09:20:20 -0800 (PST) Received: from postal.iol.unh.edu (postal.iol.unh.edu. [2606:4100:3880:1234::84]) by smtp-relay.gmail.com with ESMTPS id 00721157ae682-6f99197fd12sm541897b3.1.2025.02.05.09.20.20 (version=TLS1_2 cipher=ECDHE-ECDSA-AES128-GCM-SHA256 bits=128/128); Wed, 05 Feb 2025 09:20:20 -0800 (PST) X-Relaying-Domain: iol.unh.edu Date: Wed, 05 Feb 2025 09:20:20 -0800 (PST) Message-ID: <67a39dd4.050a0220.3d098b.2288SMTPIN_ADDED_MISSING@mx.google.com> Received: from [172.17.0.6] (unknown [172.18.0.57]) by postal.iol.unh.edu (Postfix) with ESMTP id ECB296052472; Wed, 5 Feb 2025 12:20:19 -0500 (EST) Subject: |SUCCESS| pw150449-150451 [PATCH] [v2,3/3] net/mlx5: add port and qu From: dpdklab@iol.unh.edu To: Test Report Cc: dpdk-test-reports@iol.unh.edu In-Reply-To: <20250124114336.16610-4-shperetz@nvidia.com> References: <20250124114336.16610-4-shperetz@nvidia.com> Content-Type: text/plain X-BeenThere: test-report@dpdk.org X-Mailman-Version: 2.1.29 Precedence: list List-Id: automatic DPDK test reports List-Unsubscribe: , List-Archive: List-Post: List-Help: List-Subscribe: , Errors-To: test-report-bounces@dpdk.org Test-Label: iol-compile-amd64-testing Test-Status: SUCCESS http://dpdk.org/patch/150451 _Testing PASS_ Submitter: Shani Peretz Date: Friday, January 24 2025 11:43:35 DPDK git baseline: Repo:dpdk Branch: master CommitID:c5b363510f8319b4c89f4ed45568864968fa156d 150449-150451 --> testing pass Test environment and result as below: +---------------------+--------------------+------------------+-------------------+-------------------+----------------------+-------------------------+ | Environment | dpdk_meson_compile | dpdk_compile_ovs | dpdk_compile_spdk | dpdk_msvc_compile | dpdk_mingw64_compile | dpdk_llvm_clang_compile | +=====================+====================+==================+===================+===================+======================+=========================+ | Debian Bullseye | PASS | PASS | PASS | SKIPPED | SKIPPED | SKIPPED | +---------------------+--------------------+------------------+-------------------+-------------------+----------------------+-------------------------+ | CentOS Stream 9 | PASS | PASS | PASS | SKIPPED | SKIPPED | SKIPPED | +---------------------+--------------------+------------------+-------------------+-------------------+----------------------+-------------------------+ | Debian 12 | PASS | PASS | PASS | SKIPPED | SKIPPED | SKIPPED | +---------------------+--------------------+------------------+-------------------+-------------------+----------------------+-------------------------+ | Fedora 40 (Clang) | PASS | PASS | PASS | SKIPPED | SKIPPED | SKIPPED | +---------------------+--------------------+------------------+-------------------+-------------------+----------------------+-------------------------+ | Fedora 40 | PASS | PASS | PASS | SKIPPED | SKIPPED | SKIPPED | +---------------------+--------------------+------------------+-------------------+-------------------+----------------------+-------------------------+ | Fedora 41 (Clang) | PASS | PASS | PASS | SKIPPED | SKIPPED | SKIPPED | +---------------------+--------------------+------------------+-------------------+-------------------+----------------------+-------------------------+ | Fedora 41 | PASS | PASS | PASS | SKIPPED | SKIPPED | SKIPPED | +---------------------+--------------------+------------------+-------------------+-------------------+----------------------+-------------------------+ | RHEL9 | PASS | PASS | SKIPPED | SKIPPED | SKIPPED | SKIPPED | +---------------------+--------------------+------------------+-------------------+-------------------+----------------------+-------------------------+ | RHEL8 | PASS | PASS | SKIPPED | SKIPPED | SKIPPED | SKIPPED | +---------------------+--------------------+------------------+-------------------+-------------------+----------------------+-------------------------+ | openSUSE Leap 15 | PASS | SKIPPED | SKIPPED | SKIPPED | SKIPPED | SKIPPED | +---------------------+--------------------+------------------+-------------------+-------------------+----------------------+-------------------------+ | Ubuntu 20.04 | PASS | SKIPPED | SKIPPED | SKIPPED | SKIPPED | SKIPPED | +---------------------+--------------------+------------------+-------------------+-------------------+----------------------+-------------------------+ | Ubuntu 22.04 | PASS | PASS | PASS | SKIPPED | SKIPPED | SKIPPED | +---------------------+--------------------+------------------+-------------------+-------------------+----------------------+-------------------------+ | Ubuntu 24.04 | PASS | PASS | PASS | SKIPPED | SKIPPED | SKIPPED | +---------------------+--------------------+------------------+-------------------+-------------------+----------------------+-------------------------+ | FreeBSD 13.4 | PASS | SKIPPED | SKIPPED | SKIPPED | SKIPPED | SKIPPED | +---------------------+--------------------+------------------+-------------------+-------------------+----------------------+-------------------------+ | Alpine | PASS | PASS | SKIPPED | SKIPPED | SKIPPED | SKIPPED | +---------------------+--------------------+------------------+-------------------+-------------------+----------------------+-------------------------+ | FreeBSD 14.2 | PASS | SKIPPED | SKIPPED | SKIPPED | SKIPPED | SKIPPED | +---------------------+--------------------+------------------+-------------------+-------------------+----------------------+-------------------------+ | Windows Server 2022 | SKIPPED | SKIPPED | SKIPPED | PASS | PASS | PASS | +---------------------+--------------------+------------------+-------------------+-------------------+----------------------+-------------------------+ Debian Bullseye Kernel: Depends on container host Compiler: gcc (Debian 10.2.1-6) 10.2.1 20210110 CentOS Stream 9 Kernel: Depends on container host Compiler: gcc 11.5.0 20240719 (Red Hat 11.5.0-2) Debian 12 Kernel: Depends on container host Compiler: gcc (Debian 12.2.0-14) 12.2.0 Fedora 40 (Clang) Kernel: Depends on container host Compiler: clang 18.1.8 (Fedora 18.1.8-1.fc40) Fedora 40 Kernel: Depends on container host Compiler: gcc 14.2.1 20240912 (Red Hat 14.2.1-3) Fedora 41 (Clang) Kernel: Depends on container host Compiler: clang 19.1.5 (Fedora 19.1.5-1.fc41) Fedora 41 Kernel: Depends on container host Compiler: gcc 14.2.1 20240912 (Red Hat 14.2.1-3) RHEL9 Kernel: Depends on container host Compiler: gcc 11.5.0 20240719 (Red Hat 11.5.0-2) RHEL8 Kernel: Depends on container host Compiler: gcc 8.5.0 20210514 (Red Hat 8.5.0-22) openSUSE Leap 15 Kernel: Depends on container host Compiler: gcc (SUSE Linux) 7.5.0 Ubuntu 20.04 Kernel: Depends on container host Compiler: gcc (Ubuntu 9.4.0-1ubuntu1~20.04.2) 9.4.0 Ubuntu 22.04 Kernel: Depends on container host Compiler: gcc (Ubuntu 11.4.0-1ubuntu1~22.04) 11.4.0 Ubuntu 24.04 Kernel: Depends on container host Compiler: gcc (Ubuntu 13.3.0-6ubuntu2~24.04) 13.3.0 FreeBSD 13.4 Kernel: 13.4-RELEASE-p1 Compiler: clang 18.1.6 Alpine Kernel: Depends on container host Compiler: gcc (Alpine 14.2.0) 14.2.0 FreeBSD 14.2 Kernel: 14.2-RELEASE Compiler: clang 18.1.6 Windows Server 2022 Kernel: 10.0.20348.2031 Compiler: clang 15.0.7, gcc 14.1.0 (MinGW), and MSVC VS 19.39.33521 To view detailed results, visit: https://lab.dpdk.org/results/dashboard/patchsets/32413/ UNH-IOL DPDK Community Lab To manage your email subscriptions, visit: https://lab.dpdk.org/results/dashboard/preferences/subscriptions/