From mboxrd@z Thu Jan 1 00:00:00 1970 Return-Path: Received: from mails.dpdk.org (mails.dpdk.org [217.70.189.124]) by inbox.dpdk.org (Postfix) with ESMTP id D937A461A0 for ; Wed, 5 Feb 2025 18:20:27 +0100 (CET) Received: from mails.dpdk.org (localhost [127.0.0.1]) by mails.dpdk.org (Postfix) with ESMTP id C599440667; Wed, 5 Feb 2025 18:20:27 +0100 (CET) Received: from mail-qv1-f99.google.com (mail-qv1-f99.google.com [209.85.219.99]) by mails.dpdk.org (Postfix) with ESMTP id C9C0B40A6F for ; Wed, 5 Feb 2025 18:20:21 +0100 (CET) Received: by mail-qv1-f99.google.com with SMTP id 6a1803df08f44-6dd01781b56so470186d6.0 for ; Wed, 05 Feb 2025 09:20:21 -0800 (PST) DKIM-Signature: v=1; a=rsa-sha256; c=relaxed/relaxed; d=iol.unh.edu; s=unh-iol; t=1738776021; x=1739380821; darn=dpdk.org; h=references:in-reply-to:cc:to:from:subject:message-id:date:from:to :cc:subject:date:message-id:reply-to; bh=+FNbcUwzx1s3mnowM1vDVuGBfK0FtY2EkbGW/Tsl3XI=; b=UCrkQQFGbwQn/dNmbGdgjwpgLpvnefA2+TBG/AdkuBy1h3zdoeiKYEh8R9nyuNyywa oGAvv03tOGrF+Pgow9G5Q3iDQmR/oql7MdvY0vVQ4/XaLm+oNPBY0GkDqn45ru7C7hga DMomUFgpveq3oJgMaZjy3fnazMgKxfkJ8HobU= X-Google-DKIM-Signature: v=1; a=rsa-sha256; c=relaxed/relaxed; d=1e100.net; s=20230601; t=1738776021; x=1739380821; h=references:in-reply-to:cc:to:from:subject:message-id:date :x-gm-message-state:from:to:cc:subject:date:message-id:reply-to; bh=+FNbcUwzx1s3mnowM1vDVuGBfK0FtY2EkbGW/Tsl3XI=; b=gRyuQ3i5qZEZT5kOsOnn2T43+6PwYF5xW+J7oX7/oPaageCm9tpFF2tYnVn/Wn+JSe qoGgiGly9Nc/jdFTuPCJvyoJsoPtiGsld6/IHjErDjdIoTTx8xaAYavGdDkMvFoN4Tpn 8lTsO4a2XDc3dZ7xflMSiRzH4Nt2xnrh7hYvcsYiVVHcLOdGz3HP1Sz8xY+PuxvYAUjv MqpBPStWKFCW0FB08D/Dmgu4HU4BvqTw5+9+G17phigChwltBbcaeR/wDNYwzCl4sTxd akx0W2jXrTUkYls31t92ombMIq9kAxMV9lhTCgC/K5YPkBJfN4bszUH4nPFruXr0Z+No zdrg== X-Gm-Message-State: AOJu0YwA+IRU0+04epuxHPVpiaa6h53693TPynJUNZsFMvQJZQ4WR2dL pQC5BuW+ZGl2Jxyjc76Z+hG0AQ4e5US4dChju8ErYDi34BVouUBFC/0Bbn1rWI2XT5HPnGvDA2i GcgbhBYiOimHIWAZTODHw4mNRy9NE5jwcAvcmt+wA X-Gm-Gg: ASbGncsHQ/1ZL5tIu1+a3LsnRAAyMfv+KLu5/PU3iNecEbkk49T1yVhtW1yFtJQjoi8 dRIpEj4eYOcD5tc9/1HGFH2gRaZZtxA5qeePZNQfbtcz+FmRcaRIGIkTP8BFqlZzz3VhIZAzcZF NHSS7Fz55k1ZSlD5Ukkv1flczFYT6KC0OeKC2CZUX0KGI3Y/WAW22UVntZb6fwab9Okd7YoW5fJ BVALibpUQ0KWKI6wzx9Lutui4HWYUjGf/2FrQ9p4ic//505qhqE11TRTa1EKHnXifW4372E38kk TYF80/BgnkwEdk8nWFl8EMB5wkvL2Q== X-Google-Smtp-Source: AGHT+IG860vYo1mpK5pf8IpIiJIvod6SfcPEaHYO7QRakdVmikt68uM6BQwxsSF2E3qRLDuFw1C7FRnLr/hG X-Received: by 2002:ad4:5f45:0:b0:6e1:fe68:11c1 with SMTP id 6a1803df08f44-6e42fc007f7mr53104646d6.14.1738776021119; Wed, 05 Feb 2025 09:20:21 -0800 (PST) Received: from postal.iol.unh.edu (postal.iol.unh.edu. [132.177.123.84]) by smtp-relay.gmail.com with ESMTPS id 6a1803df08f44-6e2544dfeadsm10462726d6.2.2025.02.05.09.20.21 (version=TLS1_2 cipher=ECDHE-ECDSA-AES128-GCM-SHA256 bits=128/128); Wed, 05 Feb 2025 09:20:21 -0800 (PST) X-Relaying-Domain: iol.unh.edu Date: Wed, 05 Feb 2025 09:20:21 -0800 (PST) Message-ID: <67a39dd5.d40a0220.2d50b7.00adSMTPIN_ADDED_MISSING@mx.google.com> Received: from [172.21.0.17] (unknown [172.18.0.240]) by postal.iol.unh.edu (Postfix) with ESMTP id C5B4C6052471; Wed, 5 Feb 2025 12:20:20 -0500 (EST) Subject: |SUCCESS| pw150433-150435 [PATCH] [v2,3/3] net/ice: ACL filter suppo From: dpdklab@iol.unh.edu To: Test Report Cc: dpdk-test-reports@iol.unh.edu In-Reply-To: <20250124091324.403435-4-mingjinx.ye@intel.com> References: <20250124091324.403435-4-mingjinx.ye@intel.com> Content-Type: text/plain X-BeenThere: test-report@dpdk.org X-Mailman-Version: 2.1.29 Precedence: list List-Id: automatic DPDK test reports List-Unsubscribe: , List-Archive: List-Post: List-Help: List-Subscribe: , Errors-To: test-report-bounces@dpdk.org Test-Label: iol-compile-amd64-testing Test-Status: SUCCESS http://dpdk.org/patch/150435 _Testing PASS_ Submitter: Mingjin Ye Date: Friday, January 24 2025 09:13:23 DPDK git baseline: Repo:dpdk Branch: master CommitID:5c318e37541dbe80b9f07e184850b1382f2a54d5 150433-150435 --> testing pass Test environment and result as below: +---------------------+--------------------+------------------+-------------------+-------------------+----------------------+-------------------------+ | Environment | dpdk_meson_compile | dpdk_compile_ovs | dpdk_compile_spdk | dpdk_msvc_compile | dpdk_mingw64_compile | dpdk_llvm_clang_compile | +=====================+====================+==================+===================+===================+======================+=========================+ | CentOS Stream 9 | PASS | PASS | PASS | SKIPPED | SKIPPED | SKIPPED | +---------------------+--------------------+------------------+-------------------+-------------------+----------------------+-------------------------+ | Debian Bullseye | PASS | PASS | PASS | SKIPPED | SKIPPED | SKIPPED | +---------------------+--------------------+------------------+-------------------+-------------------+----------------------+-------------------------+ | Debian 12 | PASS | PASS | PASS | SKIPPED | SKIPPED | SKIPPED | +---------------------+--------------------+------------------+-------------------+-------------------+----------------------+-------------------------+ | Fedora 40 (Clang) | PASS | PASS | PASS | SKIPPED | SKIPPED | SKIPPED | +---------------------+--------------------+------------------+-------------------+-------------------+----------------------+-------------------------+ | Fedora 40 | PASS | PASS | PASS | SKIPPED | SKIPPED | SKIPPED | +---------------------+--------------------+------------------+-------------------+-------------------+----------------------+-------------------------+ | Fedora 41 (Clang) | PASS | PASS | PASS | SKIPPED | SKIPPED | SKIPPED | +---------------------+--------------------+------------------+-------------------+-------------------+----------------------+-------------------------+ | Fedora 41 | PASS | PASS | PASS | SKIPPED | SKIPPED | SKIPPED | +---------------------+--------------------+------------------+-------------------+-------------------+----------------------+-------------------------+ | openSUSE Leap 15 | PASS | SKIPPED | SKIPPED | SKIPPED | SKIPPED | SKIPPED | +---------------------+--------------------+------------------+-------------------+-------------------+----------------------+-------------------------+ | RHEL9 | PASS | PASS | SKIPPED | SKIPPED | SKIPPED | SKIPPED | +---------------------+--------------------+------------------+-------------------+-------------------+----------------------+-------------------------+ | RHEL8 | PASS | PASS | SKIPPED | SKIPPED | SKIPPED | SKIPPED | +---------------------+--------------------+------------------+-------------------+-------------------+----------------------+-------------------------+ | Ubuntu 20.04 | PASS | SKIPPED | SKIPPED | SKIPPED | SKIPPED | SKIPPED | +---------------------+--------------------+------------------+-------------------+-------------------+----------------------+-------------------------+ | Ubuntu 22.04 | PASS | PASS | PASS | SKIPPED | SKIPPED | SKIPPED | +---------------------+--------------------+------------------+-------------------+-------------------+----------------------+-------------------------+ | Ubuntu 24.04 | PASS | PASS | PASS | SKIPPED | SKIPPED | SKIPPED | +---------------------+--------------------+------------------+-------------------+-------------------+----------------------+-------------------------+ | Alpine | PASS | PASS | SKIPPED | SKIPPED | SKIPPED | SKIPPED | +---------------------+--------------------+------------------+-------------------+-------------------+----------------------+-------------------------+ | FreeBSD 13.4 | PASS | SKIPPED | SKIPPED | SKIPPED | SKIPPED | SKIPPED | +---------------------+--------------------+------------------+-------------------+-------------------+----------------------+-------------------------+ | FreeBSD 14.2 | PASS | SKIPPED | SKIPPED | SKIPPED | SKIPPED | SKIPPED | +---------------------+--------------------+------------------+-------------------+-------------------+----------------------+-------------------------+ | Windows Server 2022 | SKIPPED | SKIPPED | SKIPPED | PASS | PASS | PASS | +---------------------+--------------------+------------------+-------------------+-------------------+----------------------+-------------------------+ CentOS Stream 9 Kernel: Depends on container host Compiler: gcc 11.5.0 20240719 (Red Hat 11.5.0-2) Debian Bullseye Kernel: Depends on container host Compiler: gcc (Debian 10.2.1-6) 10.2.1 20210110 Debian 12 Kernel: Depends on container host Compiler: gcc (Debian 12.2.0-14) 12.2.0 Fedora 40 (Clang) Kernel: Depends on container host Compiler: clang 18.1.8 (Fedora 18.1.8-1.fc40) Fedora 40 Kernel: Depends on container host Compiler: gcc 14.2.1 20240912 (Red Hat 14.2.1-3) Fedora 41 (Clang) Kernel: Depends on container host Compiler: clang 19.1.5 (Fedora 19.1.5-1.fc41) Fedora 41 Kernel: Depends on container host Compiler: gcc 14.2.1 20240912 (Red Hat 14.2.1-3) openSUSE Leap 15 Kernel: Depends on container host Compiler: gcc (SUSE Linux) 7.5.0 RHEL9 Kernel: Depends on container host Compiler: gcc 11.5.0 20240719 (Red Hat 11.5.0-2) RHEL8 Kernel: Depends on container host Compiler: gcc 8.5.0 20210514 (Red Hat 8.5.0-22) Ubuntu 20.04 Kernel: Depends on container host Compiler: gcc (Ubuntu 9.4.0-1ubuntu1~20.04.2) 9.4.0 Ubuntu 22.04 Kernel: Depends on container host Compiler: gcc (Ubuntu 11.4.0-1ubuntu1~22.04) 11.4.0 Ubuntu 24.04 Kernel: Depends on container host Compiler: gcc (Ubuntu 13.3.0-6ubuntu2~24.04) 13.3.0 Alpine Kernel: Depends on container host Compiler: gcc (Alpine 14.2.0) 14.2.0 FreeBSD 13.4 Kernel: 13.4-RELEASE-p1 Compiler: clang 18.1.6 FreeBSD 14.2 Kernel: 14.2-RELEASE Compiler: clang 18.1.6 Windows Server 2022 Kernel: 10.0.20348.2031 Compiler: clang 15.0.7, gcc 14.1.0 (MinGW), and MSVC VS 19.39.33521 To view detailed results, visit: https://lab.dpdk.org/results/dashboard/patchsets/32407/ UNH-IOL DPDK Community Lab To manage your email subscriptions, visit: https://lab.dpdk.org/results/dashboard/preferences/subscriptions/