From mboxrd@z Thu Jan 1 00:00:00 1970 Return-Path: Received: from mails.dpdk.org (mails.dpdk.org [217.70.189.124]) by inbox.dpdk.org (Postfix) with ESMTP id 6D7CB461A0 for ; Wed, 5 Feb 2025 18:20:45 +0100 (CET) Received: from mails.dpdk.org (localhost [127.0.0.1]) by mails.dpdk.org (Postfix) with ESMTP id 48F8140673; Wed, 5 Feb 2025 18:20:45 +0100 (CET) Received: from mail-pj1-f100.google.com (mail-pj1-f100.google.com [209.85.216.100]) by mails.dpdk.org (Postfix) with ESMTP id 54F3040673 for ; Wed, 5 Feb 2025 18:20:44 +0100 (CET) Received: by mail-pj1-f100.google.com with SMTP id 98e67ed59e1d1-2f9d5f8a4b9so2632426a91.0 for ; Wed, 05 Feb 2025 09:20:44 -0800 (PST) DKIM-Signature: v=1; a=rsa-sha256; c=relaxed/relaxed; d=iol.unh.edu; s=unh-iol; t=1738776043; x=1739380843; darn=dpdk.org; h=references:in-reply-to:cc:to:from:subject:message-id:date:from:to :cc:subject:date:message-id:reply-to; bh=xHVU5RMyES7bM33I4Tx1RJ7E1G7niYZcS3niXgD0Dos=; b=Hu0MRikFL2Xy4FCiP44Fe5srX3qBrsYT+qKl/WnjaQtFb6R/qjlE31D1uh8vwtsmRR EH7P7MYaUF6/Nw/lsoRwqYqXV2rmVZdZD+A1QW+xArvS2Ns8yJuDIpG7F7spl9/yhgB6 S1XRUZPIa/L4Z7RqC3pYuVYY4/KbFFvhVXrrY= X-Google-DKIM-Signature: v=1; a=rsa-sha256; c=relaxed/relaxed; d=1e100.net; s=20230601; t=1738776043; x=1739380843; h=references:in-reply-to:cc:to:from:subject:message-id:date :x-gm-message-state:from:to:cc:subject:date:message-id:reply-to; bh=xHVU5RMyES7bM33I4Tx1RJ7E1G7niYZcS3niXgD0Dos=; b=Cbqmuxn90XzUZdSwrPHCvH8murhsefkfps1mBiIHWesiF/YNe8g4Y6AltPiU+uhOQ6 PyPzXsmPhb5vZD/+2hRp5Yiq2ZhhDzPaEtn25u3D2yLSqdK2l5wVre7CvqSNkJktEBlQ 33+tyeK1rTpiuLGz7ha+X6+bebWmJqzh9jVk/1kxFrzihku4GDY+5fNEhk1Cgt33aHP/ QCczVSgM4WwZ1ZvEQJXi5fB67hB1GTVF5r3LGr+9kAV8+HOpJ22MsDtXmDYfqkHJBWZg cQEnA8E+NK5OtaA6Zb+PMApDrPOKy/CBOfXhoeN+Sq4MOuKRA8KBMl29zaL54MniXaQ7 MpPA== X-Gm-Message-State: AOJu0YyPTV2szZEU1qLyCxTMb5BeMh4jcWMzhalyrnGm3Ji88R4ZKIH5 A7dP+wbpZp2+EDzou0DKYVj+ShMfGNNbhfy0yjvpIZaudpvJwEGlG0KYzlf1M/AhZYPiU+xKEyn O/HZokAB9V4uBB1s0WlrYWM/0Cm8sRM6R0jSRAlou23e9KvfF2NTFMMb/ X-Gm-Gg: ASbGncv9MQ9dkMsaWu+7fG9/myP139qpmluDbMNz81Hb3RaKs1fCrL03R4t1dNl95o7 SfbwGsM/6im7jvtv4mwfhkXTtuMHsyvptEuosd6LgauArejTb+A7gqz+lGv7SfkvsGZceEqOybA Lyt6/nZFPVlZ8g1faC8mSmiLhpWd/BMoghjVFMJBC7qG0SZUhw94dcF/kn9HrOcJy10Tccld9Vv 9i8ytDYYXF5t+ltwyV1AbfUoUoAn7v7YEw5kqp0NUANCpXVnI9+yayhSyR6qnUXV6PoAC2Qqf42 qoKDXUE7+p/abrGLM17pRl4Wx6glm+eWJ4eSTtMIhg== X-Google-Smtp-Source: AGHT+IGS05qvMXL4GOdjwwn8vQ1fAaqLnhRjuIajHtvaW70nELL27QaBkwca26MNu9+aSu7kFq1R1cFCO7uG X-Received: by 2002:a17:90b:1e50:b0:2f4:423a:8fb2 with SMTP id 98e67ed59e1d1-2f9e078b510mr5758795a91.20.1738776043491; Wed, 05 Feb 2025 09:20:43 -0800 (PST) Received: from postal.iol.unh.edu (postal.iol.unh.edu. [2606:4100:3880:1234::84]) by smtp-relay.gmail.com with ESMTPS id 98e67ed59e1d1-2f9e1dc1b01sm171416a91.15.2025.02.05.09.20.43 (version=TLS1_2 cipher=ECDHE-ECDSA-AES128-GCM-SHA256 bits=128/128); Wed, 05 Feb 2025 09:20:43 -0800 (PST) X-Relaying-Domain: iol.unh.edu Date: Wed, 05 Feb 2025 09:20:43 -0800 (PST) Message-ID: <67a39deb.170a0220.60528.73baSMTPIN_ADDED_MISSING@mx.google.com> Received: from [172.17.0.4] (unknown [172.18.0.215]) by postal.iol.unh.edu (Postfix) with ESMTP id 9D9276052471; Wed, 5 Feb 2025 12:20:42 -0500 (EST) Subject: |SUCCESS| pw150432 [PATCH] [v1] net/axgbe: support TSO From: dpdklab@iol.unh.edu To: Test Report Cc: dpdk-test-reports@iol.unh.edu In-Reply-To: <20250124073020.189242-1-jesna.k.e@amd.com> References: <20250124073020.189242-1-jesna.k.e@amd.com> Content-Type: text/plain X-BeenThere: test-report@dpdk.org X-Mailman-Version: 2.1.29 Precedence: list List-Id: automatic DPDK test reports List-Unsubscribe: , List-Archive: List-Post: List-Help: List-Subscribe: , Errors-To: test-report-bounces@dpdk.org Test-Label: iol-compile-amd64-testing Test-Status: SUCCESS http://dpdk.org/patch/150432 _Testing PASS_ Submitter: Jesna K E Date: Friday, January 24 2025 07:30:20 DPDK git baseline: Repo:dpdk Branch: master CommitID:c5b363510f8319b4c89f4ed45568864968fa156d 150432 --> testing pass Test environment and result as below: +---------------------+--------------------+------------------+-------------------+-------------------+----------------------+-------------------------+ | Environment | dpdk_meson_compile | dpdk_compile_ovs | dpdk_compile_spdk | dpdk_msvc_compile | dpdk_mingw64_compile | dpdk_llvm_clang_compile | +=====================+====================+==================+===================+===================+======================+=========================+ | CentOS Stream 9 | PASS | PASS | PASS | SKIPPED | SKIPPED | SKIPPED | +---------------------+--------------------+------------------+-------------------+-------------------+----------------------+-------------------------+ | Debian Bullseye | PASS | PASS | PASS | SKIPPED | SKIPPED | SKIPPED | +---------------------+--------------------+------------------+-------------------+-------------------+----------------------+-------------------------+ | Fedora 40 (Clang) | PASS | PASS | PASS | SKIPPED | SKIPPED | SKIPPED | +---------------------+--------------------+------------------+-------------------+-------------------+----------------------+-------------------------+ | Debian 12 | PASS | PASS | PASS | SKIPPED | SKIPPED | SKIPPED | +---------------------+--------------------+------------------+-------------------+-------------------+----------------------+-------------------------+ | Fedora 40 | PASS | PASS | PASS | SKIPPED | SKIPPED | SKIPPED | +---------------------+--------------------+------------------+-------------------+-------------------+----------------------+-------------------------+ | RHEL8 | PASS | PASS | SKIPPED | SKIPPED | SKIPPED | SKIPPED | +---------------------+--------------------+------------------+-------------------+-------------------+----------------------+-------------------------+ | openSUSE Leap 15 | PASS | SKIPPED | SKIPPED | SKIPPED | SKIPPED | SKIPPED | +---------------------+--------------------+------------------+-------------------+-------------------+----------------------+-------------------------+ | Fedora 41 (Clang) | PASS | PASS | PASS | SKIPPED | SKIPPED | SKIPPED | +---------------------+--------------------+------------------+-------------------+-------------------+----------------------+-------------------------+ | Fedora 41 | PASS | PASS | PASS | SKIPPED | SKIPPED | SKIPPED | +---------------------+--------------------+------------------+-------------------+-------------------+----------------------+-------------------------+ | Ubuntu 20.04 | PASS | SKIPPED | SKIPPED | SKIPPED | SKIPPED | SKIPPED | +---------------------+--------------------+------------------+-------------------+-------------------+----------------------+-------------------------+ | Ubuntu 22.04 | PASS | PASS | PASS | SKIPPED | SKIPPED | SKIPPED | +---------------------+--------------------+------------------+-------------------+-------------------+----------------------+-------------------------+ | Ubuntu 24.04 | PASS | PASS | PASS | SKIPPED | SKIPPED | SKIPPED | +---------------------+--------------------+------------------+-------------------+-------------------+----------------------+-------------------------+ | Alpine | PASS | PASS | SKIPPED | SKIPPED | SKIPPED | SKIPPED | +---------------------+--------------------+------------------+-------------------+-------------------+----------------------+-------------------------+ | FreeBSD 13.4 | PASS | SKIPPED | SKIPPED | SKIPPED | SKIPPED | SKIPPED | +---------------------+--------------------+------------------+-------------------+-------------------+----------------------+-------------------------+ | FreeBSD 14.2 | PASS | SKIPPED | SKIPPED | SKIPPED | SKIPPED | SKIPPED | +---------------------+--------------------+------------------+-------------------+-------------------+----------------------+-------------------------+ | RHEL9 | PASS | PASS | SKIPPED | SKIPPED | SKIPPED | SKIPPED | +---------------------+--------------------+------------------+-------------------+-------------------+----------------------+-------------------------+ | Windows Server 2022 | SKIPPED | SKIPPED | SKIPPED | PASS | PASS | PASS | +---------------------+--------------------+------------------+-------------------+-------------------+----------------------+-------------------------+ CentOS Stream 9 Kernel: Depends on container host Compiler: gcc 11.5.0 20240719 (Red Hat 11.5.0-2) Debian Bullseye Kernel: Depends on container host Compiler: gcc (Debian 10.2.1-6) 10.2.1 20210110 Fedora 40 (Clang) Kernel: Depends on container host Compiler: clang 18.1.8 (Fedora 18.1.8-1.fc40) Debian 12 Kernel: Depends on container host Compiler: gcc (Debian 12.2.0-14) 12.2.0 Fedora 40 Kernel: Depends on container host Compiler: gcc 14.2.1 20240912 (Red Hat 14.2.1-3) RHEL8 Kernel: Depends on container host Compiler: gcc 8.5.0 20210514 (Red Hat 8.5.0-22) openSUSE Leap 15 Kernel: Depends on container host Compiler: gcc (SUSE Linux) 7.5.0 Fedora 41 (Clang) Kernel: Depends on container host Compiler: clang 19.1.5 (Fedora 19.1.5-1.fc41) Fedora 41 Kernel: Depends on container host Compiler: gcc 14.2.1 20240912 (Red Hat 14.2.1-3) Ubuntu 20.04 Kernel: Depends on container host Compiler: gcc (Ubuntu 9.4.0-1ubuntu1~20.04.2) 9.4.0 Ubuntu 22.04 Kernel: Depends on container host Compiler: gcc (Ubuntu 11.4.0-1ubuntu1~22.04) 11.4.0 Ubuntu 24.04 Kernel: Depends on container host Compiler: gcc (Ubuntu 13.3.0-6ubuntu2~24.04) 13.3.0 Alpine Kernel: Depends on container host Compiler: gcc (Alpine 14.2.0) 14.2.0 FreeBSD 13.4 Kernel: 13.4-RELEASE-p1 Compiler: clang 18.1.6 FreeBSD 14.2 Kernel: 14.2-RELEASE Compiler: clang 18.1.6 RHEL9 Kernel: Depends on container host Compiler: gcc 11.5.0 20240719 (Red Hat 11.5.0-2) Windows Server 2022 Kernel: 10.0.20348.2031 Compiler: clang 15.0.7, gcc 14.1.0 (MinGW), and MSVC VS 19.39.33521 To view detailed results, visit: https://lab.dpdk.org/results/dashboard/patchsets/32406/ UNH-IOL DPDK Community Lab To manage your email subscriptions, visit: https://lab.dpdk.org/results/dashboard/preferences/subscriptions/